BEGIN:VCALENDAR
VERSION:2.0
PRODID:-//RoxYunk.Org - ECPv6.15.20//NONSGML v1.0//EN
CALSCALE:GREGORIAN
METHOD:PUBLISH
X-WR-CALNAME:RoxYunk.Org
X-ORIGINAL-URL:https://roxyunk.org
X-WR-CALDESC:Events for RoxYunk.Org
REFRESH-INTERVAL;VALUE=DURATION:PT1H
X-Robots-Tag:noindex
X-PUBLISHED-TTL:PT1H
BEGIN:VTIMEZONE
TZID:America/New_York
BEGIN:DAYLIGHT
TZOFFSETFROM:-0500
TZOFFSETTO:-0400
TZNAME:EDT
DTSTART:20240310T070000
END:DAYLIGHT
BEGIN:STANDARD
TZOFFSETFROM:-0400
TZOFFSETTO:-0500
TZNAME:EST
DTSTART:20241103T060000
END:STANDARD
BEGIN:DAYLIGHT
TZOFFSETFROM:-0500
TZOFFSETTO:-0400
TZNAME:EDT
DTSTART:20250309T070000
END:DAYLIGHT
BEGIN:STANDARD
TZOFFSETFROM:-0400
TZOFFSETTO:-0500
TZNAME:EST
DTSTART:20251102T060000
END:STANDARD
BEGIN:DAYLIGHT
TZOFFSETFROM:-0500
TZOFFSETTO:-0400
TZNAME:EDT
DTSTART:20260308T070000
END:DAYLIGHT
BEGIN:STANDARD
TZOFFSETFROM:-0400
TZOFFSETTO:-0500
TZNAME:EST
DTSTART:20261101T060000
END:STANDARD
BEGIN:DAYLIGHT
TZOFFSETFROM:-0500
TZOFFSETTO:-0400
TZNAME:EDT
DTSTART:20270314T070000
END:DAYLIGHT
BEGIN:STANDARD
TZOFFSETFROM:-0400
TZOFFSETTO:-0500
TZNAME:EST
DTSTART:20271107T060000
END:STANDARD
END:VTIMEZONE
BEGIN:VEVENT
DTSTART;TZID=America/New_York:20260419T100000
DTEND;TZID=America/New_York:20260419T140000
DTSTAMP:20260420T082341
CREATED:20260417T164541Z
LAST-MODIFIED:20260417T164706Z
UID:10002810-1776592800-1776607200@roxyunk.org
SUMMARY:Salamander Sunday at Umbria Arts
DESCRIPTION:
URL:https://roxyunk.org/event/salamander-sunday-at-umbria-arts/
LOCATION:Umbria Arts\, 5100 Umbria Street\, Philadelphia\, PA\, United States
ATTACH;FMTTYPE=image/jpeg:https://roxyunk.org/wp-content/uploads/2026/04/salamander-sunday.jpg
END:VEVENT
BEGIN:VEVENT
DTSTART;TZID=America/New_York:20260405T150000
DTEND;TZID=America/New_York:20260405T170000
DTSTAMP:20260420T082341
CREATED:20260403T183140Z
LAST-MODIFIED:20260403T183140Z
UID:10002783-1775401200-1775408400@roxyunk.org
SUMMARY:Umbria Arts - Book Talk  - Remaking Democracy\, how we make the worlds we want
DESCRIPTION:
URL:https://roxyunk.org/event/umbria-arts-book-talk-remaking-democracy-how-we-make-the-worlds-we-want/
LOCATION:Umbria Arts\, 5100 Umbria Street\, Philadelphia\, PA\, United States
END:VEVENT
BEGIN:VEVENT
DTSTART;TZID=America/New_York:20260329T170000
DTEND;TZID=America/New_York:20260329T200000
DTSTAMP:20260420T082341
CREATED:20260327T132044Z
LAST-MODIFIED:20260327T132044Z
UID:10002774-1774803600-1774814400@roxyunk.org
SUMMARY:Launch of radical new publisher @mortarpress! at Umbria Arts
DESCRIPTION:Come hang out next Sunday\, 3/29\, for the launch of radical new publisher @mortarpress! \nWe’ll be posted up 5–8 pm with wine\, beer\, music\, @mortarpress titles\, and a library of books and zines from defunct lefty presses. Titles range from psychedelically designed 60s editions of classical Marxist texts\, to bugout weirdness from libcom prepper presses\, to iconic issues of the late great Race Traitor\, to a first edition of Nkrumah’s Class Struggle in Africa. \nBrowse\, read\, be merry! Free! Of course! \nTomorrow Today @ Umbria Arts (@ Manayunk Timber)\n5100 Umbria St.\, Philly
URL:https://roxyunk.org/event/launch-of-radical-new-publisher-mortarpress-at-umbria-arts/
LOCATION:Umbria Arts\, 5100 Umbria Street\, Philadelphia\, PA\, United States
END:VEVENT
BEGIN:VEVENT
DTSTART;TZID=America/New_York:20260328T180000
DTEND;TZID=America/New_York:20260328T220000
DTSTAMP:20260420T082341
CREATED:20260327T131820Z
LAST-MODIFIED:20260327T132154Z
UID:10002773-1774720800-1774735200@roxyunk.org
SUMMARY:Book Release  - Un punto negro sobre un cielo de verano at Umbria Arts
DESCRIPTION:This Saturday March 28th we celebrate the release of Un punto negro sobre un cielo de verano\, @ingridpgonzalez’ new book of poetry published by @valparaisoediciones 🎊 \n* Doors 6pm\n* Readings 7pm\n* Free to all\n* Special pupusas by @masa_discos 🫓\n* Location: @umbriaarts (at @manayunktimber)📍\n* In collaboration with @tomorrowtoday.us @umbriaarts 🪄 \nSwipe for info about writers & artists ✨ \n//\n✨ Este sábado 28 de marzo es la presentación del libro Un punto en un cielo de verano\, el nuevo libro de @ingridpgonzalez publicado por @valparaisoediciones 🎊 \n* Puertas abiertas a las 6pm.\n* Lectura por parte de las poetas: 7pm.\n* Entrada gratuita.\n* Pupusas por @masa_discos 🫓\n* Dónde? @umbriaarts (en @manayunktimber )📍\n* Evento en colaboración con: @tomorrowtoday.us @umbriaarts 🪄 \nDesliza para info sobre escritores y artistas ✨
URL:https://roxyunk.org/event/book-release-release-of-un-punto-negro-sobre-un-cielo-de-verano-at-umbria-arts/
LOCATION:Umbria Arts\, 5100 Umbria Street\, Philadelphia\, PA\, United States
END:VEVENT
BEGIN:VEVENT
DTSTART;TZID=America/New_York:20260328T120000
DTEND;TZID=America/New_York:20260328T170000
DTSTAMP:20260420T082341
CREATED:20260326T130822Z
LAST-MODIFIED:20260326T130822Z
UID:10002760-1774699200-1774717200@roxyunk.org
SUMMARY:Book Launch Party at Umbria Arts
DESCRIPTION:
URL:https://roxyunk.org/event/book-launch-party-at-umbria-arts/
LOCATION:Umbria Arts\, 5100 Umbria Street\, Philadelphia\, PA\, United States
END:VEVENT
BEGIN:VEVENT
DTSTART;TZID=America/New_York:20260326T180000
DTEND;TZID=America/New_York:20260326T200000
DTSTAMP:20260420T082341
CREATED:20260301T160633Z
LAST-MODIFIED:20260303T130342Z
UID:10002612-1774548000-1774555200@roxyunk.org
SUMMARY:Quizzo at Manayunk Timber w/Franki J
DESCRIPTION:Thursdays in March \nw/Franki J \nMake Friends! Play Trivia! Win Cash! \n4 Rounds\, General\, Theme\, Picture\, Music
URL:https://roxyunk.org/event/quizzo-at-manayunk-timber/2026-03-26/
LOCATION:Umbria Arts\, 5100 Umbria Street\, Philadelphia\, PA\, United States
CATEGORIES:All Ages,Free,RoxYunk
ATTACH;FMTTYPE=image/jpeg:https://roxyunk.org/wp-content/uploads/2026/03/IMG_4927-1-scaled.jpeg
END:VEVENT
BEGIN:VEVENT
DTSTART;TZID=America/New_York:20260319T180000
DTEND;TZID=America/New_York:20260319T200000
DTSTAMP:20260420T082341
CREATED:20260301T160633Z
LAST-MODIFIED:20260303T130342Z
UID:10002611-1773943200-1773950400@roxyunk.org
SUMMARY:Quizzo at Manayunk Timber w/Franki J
DESCRIPTION:Thursdays in March \nw/Franki J \nMake Friends! Play Trivia! Win Cash! \n4 Rounds\, General\, Theme\, Picture\, Music
URL:https://roxyunk.org/event/quizzo-at-manayunk-timber/2026-03-19/
LOCATION:Umbria Arts\, 5100 Umbria Street\, Philadelphia\, PA\, United States
CATEGORIES:All Ages,Free,RoxYunk
ATTACH;FMTTYPE=image/jpeg:https://roxyunk.org/wp-content/uploads/2026/03/IMG_4927-1-scaled.jpeg
END:VEVENT
BEGIN:VEVENT
DTSTART;TZID=America/New_York:20260312T180000
DTEND;TZID=America/New_York:20260312T200000
DTSTAMP:20260420T082341
CREATED:20260301T160633Z
LAST-MODIFIED:20260303T130342Z
UID:10002610-1773338400-1773345600@roxyunk.org
SUMMARY:Quizzo at Manayunk Timber w/Franki J
DESCRIPTION:Thursdays in March \nw/Franki J \nMake Friends! Play Trivia! Win Cash! \n4 Rounds\, General\, Theme\, Picture\, Music
URL:https://roxyunk.org/event/quizzo-at-manayunk-timber/2026-03-12/
LOCATION:Umbria Arts\, 5100 Umbria Street\, Philadelphia\, PA\, United States
CATEGORIES:All Ages,Free,RoxYunk
ATTACH;FMTTYPE=image/jpeg:https://roxyunk.org/wp-content/uploads/2026/03/IMG_4927-1-scaled.jpeg
END:VEVENT
BEGIN:VEVENT
DTSTART;TZID=America/New_York:20260305T180000
DTEND;TZID=America/New_York:20260305T200000
DTSTAMP:20260420T082341
CREATED:20260301T160633Z
LAST-MODIFIED:20260303T130342Z
UID:10002609-1772733600-1772740800@roxyunk.org
SUMMARY:Quizzo at Manayunk Timber w/Franki J
DESCRIPTION:Thursdays in March \nw/Franki J \nMake Friends! Play Trivia! Win Cash! \n4 Rounds\, General\, Theme\, Picture\, Music
URL:https://roxyunk.org/event/quizzo-at-manayunk-timber/2026-03-05/
LOCATION:Umbria Arts\, 5100 Umbria Street\, Philadelphia\, PA\, United States
CATEGORIES:All Ages,Free,RoxYunk
ATTACH;FMTTYPE=image/jpeg:https://roxyunk.org/wp-content/uploads/2026/03/IMG_4927-1-scaled.jpeg
END:VEVENT
BEGIN:VEVENT
DTSTART;TZID=America/New_York:20260301T150000
DTEND;TZID=America/New_York:20260301T170000
DTSTAMP:20260420T082341
CREATED:20260227T122406Z
LAST-MODIFIED:20260227T191010Z
UID:10002549-1772377200-1772384400@roxyunk.org
SUMMARY:Screening - George Nakashima: Woodworker at Umbria Arts
DESCRIPTION:We’re screening George Nakashima: Woodworker at Umbria Arts. Entry is free. Doors open at 3 PM. Programming begins at 3:30 PM\, with introductory remarks by Park Frost. Directed by his nephew John Nakashima\, the film offers a portrait of one of the most influential furniture designers of the 20th century. Through archival footage\, recordings\, and photographs\, it traces Nakashima’s creative and spiritual journey from his early training as an architect at MIT to his transformative years in Japan studying traditional woodworking and the founding of his studio in New Hope\, Pennsylvania.
URL:https://roxyunk.org/event/screening-george-nakashima-woodworker-at-umbria-arts/
LOCATION:Umbria Arts\, 5100 Umbria Street\, Philadelphia\, PA\, United States
CATEGORIES:All Ages,Movie
ATTACH;FMTTYPE=image/jpeg:https://roxyunk.org/wp-content/uploads/2026/02/Nakashima-Screening.jpg
END:VEVENT
BEGIN:VEVENT
DTSTART;TZID=America/New_York:20260226T190000
DTEND;TZID=America/New_York:20260226T220000
DTSTAMP:20260420T082341
CREATED:20260221T172203Z
LAST-MODIFIED:20260221T172203Z
UID:10002538-1772132400-1772143200@roxyunk.org
SUMMARY:RPCA Presents Quizzo Night on February 26th!
DESCRIPTION:RPCA is hosting another Quizzo Night on February 26\, 2026 at 7pm! Join us for a fun night of food\, friends\, and TRIVIA! Prizes per round and for the grand winner! Light refreshments available for purchase. BYOB. \nRSVP HERE
URL:https://roxyunk.org/event/rpca-presents-quizzo-night-on-february-26th/
LOCATION:Umbria Arts\, 5100 Umbria Street\, Philadelphia\, PA\, United States
CATEGORIES:community
ATTACH;FMTTYPE=image/jpeg:https://roxyunk.org/wp-content/uploads/2026/02/quizzo-flier-feb2026-1186x1536-1.jpg
END:VEVENT
BEGIN:VEVENT
DTSTART;TZID=America/New_York:20260222T150000
DTEND;TZID=America/New_York:20260222T170000
DTSTAMP:20260420T082341
CREATED:20260219T205340Z
LAST-MODIFIED:20260222T153446Z
UID:10002527-1771772400-1771779600@roxyunk.org
SUMMARY:POSTPONED FOR SNOW - Film Screening  - "George Nakashima: Woodworker" at Umbria Arts
DESCRIPTION:New time and date TBD \n 
URL:https://roxyunk.org/event/film-screening-george-nakashima-woodworker-at-umbria-arts/
LOCATION:Umbria Arts\, 5100 Umbria Street\, Philadelphia\, PA\, United States
CATEGORIES:All Ages,Art related,Free,Movie,RoxYunk
END:VEVENT
BEGIN:VEVENT
DTSTART;TZID=America/New_York:20260215T150000
DTEND;TZID=America/New_York:20260215T180000
DTSTAMP:20260420T082341
CREATED:20260210T192843Z
LAST-MODIFIED:20260210T192942Z
UID:10002486-1771167600-1771178400@roxyunk.org
SUMMARY:Fundraiser For Mutual Aid in Gaza
DESCRIPTION:A screening fundraiser for mutual aid in Gaza.  \n$10-$30 Sliding Scale donation suggested \n\n\nJoin us Sunday\, February 15\, from 3–6pm\, for a screening of Red Army/PFLP: Declaration of World War.\nPresented by Other Forms\, Leker Leks\, and Tomorrow Today. Food will be provided by Yasmine Kitchen. \nLocation:\nUmbria Arts\n5100 Umbria Street\nPhiladelphia\, PA 19128 \nAll proceeds will directly support families in Gaza by helping cover essential needs\, including food\, clothing\, and shelter. Funds will be sent directly to families\, including Mohammed Sameer and his family. \nThis fundraiser takes place at the beginning of Ramadan and will help families prepare for and observe one of their most important holidays. While no single event can address the scale of the crisis\, collective action and community support matter. \n\n\nhttps://www.eventbrite.com/e/red-armypflp-declaration-of-world-war-screening-tickets-1982408995671
URL:https://roxyunk.org/event/sreening-fundraiser-for-mutual-aid-in-gaza/
LOCATION:Umbria Arts\, 5100 Umbria Street\, Philadelphia\, PA\, United States
CATEGORIES:Benefit,community,Movie,RoxYunk
ATTACH;FMTTYPE=image/jpeg:https://roxyunk.org/wp-content/uploads/2026/02/red_army_bw-scaled.jpg
END:VEVENT
BEGIN:VEVENT
DTSTART;TZID=America/New_York:20260201T140000
DTEND;TZID=America/New_York:20260201T220000
DTSTAMP:20260420T082341
CREATED:20260124T155959Z
LAST-MODIFIED:20260125T170932Z
UID:10002351-1769954400-1769983200@roxyunk.org
SUMMARY:Against The Grain All Day Vinyl at Umbria Arts
DESCRIPTION:
URL:https://roxyunk.org/event/postponed-til-feb-1-against-the-grain-all-day-vinly-at-umbria-arts/
LOCATION:Umbria Arts\, 5100 Umbria Street\, Philadelphia\, PA\, United States
CATEGORIES:Art related,community,Dance,For kids,Free,RoxYunk
END:VEVENT
BEGIN:VEVENT
DTSTART;TZID=America/New_York:20251221T120000
DTEND;TZID=America/New_York:20251221T210000
DTSTAMP:20260420T082341
CREATED:20251217T151113Z
LAST-MODIFIED:20251217T151916Z
UID:10001957-1766318400-1766350800@roxyunk.org
SUMMARY:Against The Grain 05 - Vinyl All Day at Umbria Arts
DESCRIPTION:Lo Analog is cool. \nWhat can i say? \nAlso Umbria Arts is cool. \nFor real. \nDon’t take my word for it? \n 
URL:https://roxyunk.org/event/against-the-grain-05-vinyl-all-day-at-umbria-arts/
LOCATION:Umbria Arts\, 5100 Umbria Street\, Philadelphia\, PA\, United States
CATEGORIES:community,Craft Related,Local Business Event,Music related,RoxYunk
ATTACH;FMTTYPE=image/jpeg:https://roxyunk.org/wp-content/uploads/2025/12/atg_stamp_even_smaller.jpeg
END:VEVENT
BEGIN:VEVENT
DTSTART;TZID=America/New_York:20251214T100000
DTEND;TZID=America/New_York:20251214T140000
DTSTAMP:20260420T082341
CREATED:20251212T202243Z
LAST-MODIFIED:20251214T150321Z
UID:10001952-1765706400-1765720800@roxyunk.org
SUMMARY:POSTPONED BECAUSE SNOW -Salamander Sundays at Umbria Arts
DESCRIPTION:Books and bread and coffee. \nAll the good things \nin one good place
URL:https://roxyunk.org/event/salamander-sundays-at-umbria-arts-2/
LOCATION:Umbria Arts\, 5100 Umbria Street\, Philadelphia\, PA\, United States
CATEGORIES:RoxYunk
ATTACH;FMTTYPE=image/jpeg:https://roxyunk.org/wp-content/uploads/2025/12/salamander_sundays_5.jpeg
END:VEVENT
BEGIN:VEVENT
DTSTART;TZID=America/New_York:20251207T120000
DTEND;TZID=America/New_York:20251207T170000
DTSTAMP:20260420T082341
CREATED:20251205T161258Z
LAST-MODIFIED:20251205T191301Z
UID:10001936-1765108800-1765126800@roxyunk.org
SUMMARY:Book Fair: Zine Swap and Josh McPhee Book Release
DESCRIPTION:Tomorrow Today presents an archive of almost 150 ‘Green’ Penguin Crime novels and an accompanying Zine Release from Josh MacPhee. In addition to Josh coming through\, we also invited some of our favorite booksellers like American Grammar\, Another Corner\, Etc Etc Books\, Feral Dove\, Little Yenta Books\, Ulises Books and more. Plus live ambient sets from Joy Bender\, LN\, and Nestor. \n12 pm – 5 pm
URL:https://roxyunk.org/event/book-fair-zine-swap-and-book-release/
LOCATION:Umbria Arts\, 5100 Umbria Street\, Philadelphia\, PA\, United States
CATEGORIES:RoxYunk
END:VEVENT
BEGIN:VEVENT
DTSTART;TZID=America/New_York:20251206T180000
DTEND;TZID=America/New_York:20251206T210000
DTSTAMP:20260420T082341
CREATED:20251205T191446Z
LAST-MODIFIED:20251205T191516Z
UID:10001940-1765044000-1765054800@roxyunk.org
SUMMARY:Musica Decembrina at Umbria Arts
DESCRIPTION:Hosted by Lauren Karstens and Ingrid Gonzalez – a night of unity and illumination. Velitas – celebrated December 7th and 8th across Colombia – is a widespread social gathering of communal candle lighting. Friends and family unite to set wishes as they watch their candles burn to the end. La Musica Decembrina all night plus food from Cafe Tinto. Limited candles will be shared – BYO is encouraged.\n6 pm
URL:https://roxyunk.org/event/musica-decembrina/
LOCATION:Umbria Arts\, 5100 Umbria Street\, Philadelphia\, PA\, United States
CATEGORIES:community,RoxYunk
END:VEVENT
BEGIN:VEVENT
DTSTART;TZID=America/New_York:20251122T100000
DTEND;TZID=America/New_York:20251122T230000
DTSTAMP:20260420T082341
CREATED:20251108T221440Z
LAST-MODIFIED:20251120T145027Z
UID:10001926-1763805600-1763852400@roxyunk.org
SUMMARY:Umbria Arts Grand Opening!
DESCRIPTION:this is one of those events you’ll wish you were at \nMusic and zines and coffee and joy!
URL:https://roxyunk.org/event/umbriaartsopeningsalvo/
LOCATION:Umbria Arts\, 5100 Umbria Street\, Philadelphia\, PA\, United States
CATEGORIES:Art related,Business opening,community,Concert,RoxYunk
ATTACH;FMTTYPE=image/jpeg:https://roxyunk.org/wp-content/uploads/2025/11/IMG_0372-scaled.jpeg
END:VEVENT
BEGIN:VEVENT
DTSTART;TZID=America/New_York:20251109T120000
DTEND;TZID=America/New_York:20251109T170000
DTSTAMP:20260420T082341
CREATED:20251106T025335Z
LAST-MODIFIED:20251106T030430Z
UID:10001913-1762689600-1762707600@roxyunk.org
SUMMARY:Art Opening - Ceremonial Start
DESCRIPTION:Come see some beauty.
URL:https://roxyunk.org/event/art-opening-ceremonial-start/
LOCATION:Umbria Arts\, 5100 Umbria Street\, Philadelphia\, PA\, United States
CATEGORIES:Art related,RoxYunk
ATTACH;FMTTYPE=image/jpeg:https://roxyunk.org/wp-content/uploads/2025/11/IMG_3617-scaled.jpeg
END:VEVENT
BEGIN:VEVENT
DTSTART;TZID=America/New_York:20251109T100000
DTEND;TZID=America/New_York:20251109T140000
DTSTAMP:20260420T082341
CREATED:20251106T025115Z
LAST-MODIFIED:20251106T030302Z
UID:10001912-1762682400-1762696800@roxyunk.org
SUMMARY:Salamander Sundays at Umbria Arts
DESCRIPTION:Way down on Umbria\, it’s an explosion of art and food and good stuff! The lion lies down with the lamb and elk boogies with the chupacabra. \nPark Bench Coffee! \nDead King Bread \nTomorrow Today Books \nAll Vinyl Sound Track!
URL:https://roxyunk.org/event/salamander-sundays-at-umbria-arts/
LOCATION:Umbria Arts\, 5100 Umbria Street\, Philadelphia\, PA\, United States
CATEGORIES:Art related,community,Food related,RoxYunk
ATTACH;FMTTYPE=image/jpeg:https://roxyunk.org/wp-content/uploads/2025/11/salamander_sundays_3.jpeg
END:VEVENT
BEGIN:VEVENT
DTSTART;TZID=America/New_York:20251108T100000
DTEND;TZID=America/New_York:20251108T130000
DTSTAMP:20260420T082341
CREATED:20251106T025830Z
LAST-MODIFIED:20251107T170319Z
UID:10001914-1762596000-1762606800@roxyunk.org
SUMMARY:Flea Market and Dead King Bread Day!
DESCRIPTION:See and buy other people’s stuff! \n$1 bin! \nVintage Clothes! \nFurniture! \nBicycles! \nArt! \nHome Decor!
URL:https://roxyunk.org/event/flea-market/
LOCATION:Umbria Arts\, 5100 Umbria Street\, Philadelphia\, PA\, United States
CATEGORIES:RoxYunk,Yard sale
ATTACH;FMTTYPE=image/jpeg:https://roxyunk.org/wp-content/uploads/2025/11/DRAWING028-scaled.jpeg
END:VEVENT
BEGIN:VEVENT
DTSTART;TZID=America/New_York:20251019T110000
DTEND;TZID=America/New_York:20251019T220000
DTSTAMP:20260420T082341
CREATED:20251009T223931Z
LAST-MODIFIED:20251009T224222Z
UID:10001894-1760871600-1760911200@roxyunk.org
SUMMARY:Against the Grain - all vinyl\, all local\, all love
DESCRIPTION:in collaboration with Tilted Zine \nhttps://www.instagram.com/tilted.zine?igsh=MWF0ZXh1b2xyMWYycA== \nfeaturing \nSalamander Sundays \ntaxi driver \nomega \nPeter E. \nHatopsy \nwiRL \nTeeyam \nEden Allison \nBilla \n  \n 
URL:https://roxyunk.org/event/against-the-grain-all-vinyl-all-local-all-love/
LOCATION:Umbria Arts\, 5100 Umbria Street\, Philadelphia\, PA\, United States
CATEGORIES:Art related,community,RoxYunk
ATTACH;FMTTYPE=image/jpeg:https://roxyunk.org/wp-content/uploads/2025/10/IMG_7848-scaled.jpeg
END:VEVENT
END:VCALENDAR