BEGIN:VCALENDAR
VERSION:2.0
PRODID:-//RoxYunk.Org - ECPv6.15.20//NONSGML v1.0//EN
CALSCALE:GREGORIAN
METHOD:PUBLISH
X-WR-CALNAME:RoxYunk.Org
X-ORIGINAL-URL:https://roxyunk.org
X-WR-CALDESC:Events for RoxYunk.Org
REFRESH-INTERVAL;VALUE=DURATION:PT1H
X-Robots-Tag:noindex
X-PUBLISHED-TTL:PT1H
BEGIN:VTIMEZONE
TZID:America/New_York
BEGIN:DAYLIGHT
TZOFFSETFROM:-0500
TZOFFSETTO:-0400
TZNAME:EDT
DTSTART:20260308T070000
END:DAYLIGHT
BEGIN:STANDARD
TZOFFSETFROM:-0400
TZOFFSETTO:-0500
TZNAME:EST
DTSTART:20261101T060000
END:STANDARD
BEGIN:DAYLIGHT
TZOFFSETFROM:-0500
TZOFFSETTO:-0400
TZNAME:EDT
DTSTART:20270314T070000
END:DAYLIGHT
BEGIN:STANDARD
TZOFFSETFROM:-0400
TZOFFSETTO:-0500
TZNAME:EST
DTSTART:20271107T060000
END:STANDARD
BEGIN:DAYLIGHT
TZOFFSETFROM:-0500
TZOFFSETTO:-0400
TZNAME:EDT
DTSTART:20280312T070000
END:DAYLIGHT
BEGIN:STANDARD
TZOFFSETFROM:-0400
TZOFFSETTO:-0500
TZNAME:EST
DTSTART:20281105T060000
END:STANDARD
END:VTIMEZONE
BEGIN:VEVENT
DTSTART;TZID=America/New_York:20270122T190000
DTEND;TZID=America/New_York:20270122T210000
DTSTAMP:20260420T161315
CREATED:20260130T175921Z
LAST-MODIFIED:20260130T175921Z
UID:10002409-1800644400-1800651600@roxyunk.org
SUMMARY:Quidnunk and Friends Free Live Music at the Foodery
DESCRIPTION:
URL:https://roxyunk.org/event/quidnunk-and-friends-free-live-music-at-the-foodery/2027-01-22/
LOCATION:The Foodery on Ridge\, 6148 Ridge Ave\, Philadelphia\, PA\, 19128\, United States
END:VEVENT
BEGIN:VEVENT
DTSTART;TZID=America/New_York:20270129T190000
DTEND;TZID=America/New_York:20270129T210000
DTSTAMP:20260420T161315
CREATED:20260130T175921Z
LAST-MODIFIED:20260130T175921Z
UID:10002410-1801249200-1801256400@roxyunk.org
SUMMARY:Quidnunk and Friends Free Live Music at the Foodery
DESCRIPTION:
URL:https://roxyunk.org/event/quidnunk-and-friends-free-live-music-at-the-foodery/2027-01-29/
LOCATION:The Foodery on Ridge\, 6148 Ridge Ave\, Philadelphia\, PA\, 19128\, United States
END:VEVENT
END:VCALENDAR