BEGIN:VCALENDAR
VERSION:2.0
PRODID:-//RoxYunk.Org - ECPv6.15.20//NONSGML v1.0//EN
CALSCALE:GREGORIAN
METHOD:PUBLISH
X-WR-CALNAME:RoxYunk.Org
X-ORIGINAL-URL:https://roxyunk.org
X-WR-CALDESC:Events for RoxYunk.Org
REFRESH-INTERVAL;VALUE=DURATION:PT1H
X-Robots-Tag:noindex
X-PUBLISHED-TTL:PT1H
BEGIN:VTIMEZONE
TZID:America/New_York
BEGIN:DAYLIGHT
TZOFFSETFROM:-0500
TZOFFSETTO:-0400
TZNAME:EDT
DTSTART:20240310T070000
END:DAYLIGHT
BEGIN:STANDARD
TZOFFSETFROM:-0400
TZOFFSETTO:-0500
TZNAME:EST
DTSTART:20241103T060000
END:STANDARD
BEGIN:DAYLIGHT
TZOFFSETFROM:-0500
TZOFFSETTO:-0400
TZNAME:EDT
DTSTART:20250309T070000
END:DAYLIGHT
BEGIN:STANDARD
TZOFFSETFROM:-0400
TZOFFSETTO:-0500
TZNAME:EST
DTSTART:20251102T060000
END:STANDARD
BEGIN:DAYLIGHT
TZOFFSETFROM:-0500
TZOFFSETTO:-0400
TZNAME:EDT
DTSTART:20260308T070000
END:DAYLIGHT
BEGIN:STANDARD
TZOFFSETFROM:-0400
TZOFFSETTO:-0500
TZNAME:EST
DTSTART:20261101T060000
END:STANDARD
BEGIN:DAYLIGHT
TZOFFSETFROM:-0500
TZOFFSETTO:-0400
TZNAME:EDT
DTSTART:20270314T070000
END:DAYLIGHT
BEGIN:STANDARD
TZOFFSETFROM:-0400
TZOFFSETTO:-0500
TZNAME:EST
DTSTART:20271107T060000
END:STANDARD
END:VTIMEZONE
BEGIN:VEVENT
DTSTART;TZID=America/New_York:20260226T190000
DTEND;TZID=America/New_York:20260226T220000
DTSTAMP:20260420T171318
CREATED:20260125T171955Z
LAST-MODIFIED:20260226T113946Z
UID:10002355-1772132400-1772143200@roxyunk.org
SUMMARY:Local Music Night at Scanlon's featuring Jim Hickey and Nick Lombardo
DESCRIPTION:
URL:https://roxyunk.org/event/local-music-night-at-scanlons/
LOCATION:Scanlon’s Saloon\, 4201 Manayunk\, Philadelphia\, PA\, 19128\, United States
ATTACH;FMTTYPE=image/jpeg:https://roxyunk.org/wp-content/uploads/2026/01/IMG_1160.jpeg
END:VEVENT
BEGIN:VEVENT
DTSTART;TZID=America/New_York:20260129T190000
DTEND;TZID=America/New_York:20260129T220000
DTSTAMP:20260420T171318
CREATED:20260125T172111Z
LAST-MODIFIED:20260125T173015Z
UID:10002356-1769713200-1769724000@roxyunk.org
SUMMARY:Local Music Night at Scanlon's - Russ Knight and Nylon Ghost
DESCRIPTION:
URL:https://roxyunk.org/event/local-music-night-at-scanlons-russ-knight-and-nylon-ghost/
LOCATION:Scanlon’s Saloon\, 4201 Manayunk\, Philadelphia\, PA\, 19128\, United States
ATTACH;FMTTYPE=image/jpeg:https://roxyunk.org/wp-content/uploads/2026/01/IMG_2172.jpeg
END:VEVENT
BEGIN:VEVENT
DTSTART;TZID=America/New_York:20260126T200000
DTEND;TZID=America/New_York:20260126T230000
DTSTAMP:20260420T171318
CREATED:20260125T171740Z
LAST-MODIFIED:20260125T172518Z
UID:10002354-1769457600-1769468400@roxyunk.org
SUMMARY:Industry Night Comedy Show at Scanlon's
DESCRIPTION:
URL:https://roxyunk.org/event/industry-comedy-night-at-scanlons/
LOCATION:Scanlon’s Saloon\, 4201 Manayunk\, Philadelphia\, PA\, 19128\, United States
ATTACH;FMTTYPE=image/png:https://roxyunk.org/wp-content/uploads/2026/01/IMG_6196.png
END:VEVENT
BEGIN:VEVENT
DTSTART;TZID=America/New_York:20251120T073000
DTEND;TZID=America/New_York:20251120T223000
DTSTAMP:20260420T171318
CREATED:20251116T231626Z
LAST-MODIFIED:20251116T233342Z
UID:10001934-1763623800-1763677800@roxyunk.org
SUMMARY:Music Night At Scanlon’s
DESCRIPTION:You know Scanlon’s for a good vibe\, nice quizzo night. \nNow\, music!Coleman Rigg\, \nJackson Pines. \nIzzy Seddon
URL:https://roxyunk.org/event/music-night-at-scanlons/
LOCATION:Scanlon’s Saloon\, 4201 Manayunk\, Philadelphia\, PA\, 19128\, United States
CATEGORIES:Music related,RoxYunk
ATTACH;FMTTYPE=image/jpeg:https://roxyunk.org/wp-content/uploads/2025/11/IMG_0269.jpeg
END:VEVENT
END:VCALENDAR