BEGIN:VCALENDAR
VERSION:2.0
PRODID:-//RoxYunk.Org - ECPv6.15.20//NONSGML v1.0//EN
CALSCALE:GREGORIAN
METHOD:PUBLISH
X-WR-CALNAME:RoxYunk.Org
X-ORIGINAL-URL:https://roxyunk.org
X-WR-CALDESC:Events for RoxYunk.Org
REFRESH-INTERVAL;VALUE=DURATION:PT1H
X-Robots-Tag:noindex
X-PUBLISHED-TTL:PT1H
BEGIN:VTIMEZONE
TZID:America/New_York
BEGIN:DAYLIGHT
TZOFFSETFROM:-0500
TZOFFSETTO:-0400
TZNAME:EDT
DTSTART:20240310T070000
END:DAYLIGHT
BEGIN:STANDARD
TZOFFSETFROM:-0400
TZOFFSETTO:-0500
TZNAME:EST
DTSTART:20241103T060000
END:STANDARD
BEGIN:DAYLIGHT
TZOFFSETFROM:-0500
TZOFFSETTO:-0400
TZNAME:EDT
DTSTART:20250309T070000
END:DAYLIGHT
BEGIN:STANDARD
TZOFFSETFROM:-0400
TZOFFSETTO:-0500
TZNAME:EST
DTSTART:20251102T060000
END:STANDARD
BEGIN:DAYLIGHT
TZOFFSETFROM:-0500
TZOFFSETTO:-0400
TZNAME:EDT
DTSTART:20260308T070000
END:DAYLIGHT
BEGIN:STANDARD
TZOFFSETFROM:-0400
TZOFFSETTO:-0500
TZNAME:EST
DTSTART:20261101T060000
END:STANDARD
BEGIN:DAYLIGHT
TZOFFSETFROM:-0500
TZOFFSETTO:-0400
TZNAME:EDT
DTSTART:20270314T070000
END:DAYLIGHT
BEGIN:STANDARD
TZOFFSETFROM:-0400
TZOFFSETTO:-0500
TZNAME:EST
DTSTART:20271107T060000
END:STANDARD
END:VTIMEZONE
BEGIN:VEVENT
DTSTART;TZID=America/New_York:20260111T160000
DTEND;TZID=America/New_York:20260111T190000
DTSTAMP:20260425T235122
CREATED:20260110T010636Z
LAST-MODIFIED:20260110T010636Z
UID:10002153-1768147200-1768158000@roxyunk.org
SUMMARY:Go Birds
DESCRIPTION:no description necessary \n  \nbut see for yourself \n 
URL:https://roxyunk.org/event/go-birds/
LOCATION:philadelphia
END:VEVENT
BEGIN:VEVENT
DTSTART;TZID=America/New_York:20251101T073000
DTEND;TZID=America/New_York:20251101T200000
DTSTAMP:20260425T235122
CREATED:20250917T171847Z
LAST-MODIFIED:20251023T184435Z
UID:10001851-1761982200-1762027200@roxyunk.org
SUMMARY:All Day Walk - Philly Phlaneurization
DESCRIPTION:Let’s walk and talk all day. \nWe meet at 7:30ish am at Dilworth side of City Hall.\nWe walk at 8 sharp.\nWe walk and walk\, route tbd\, until about 8 pm and end up at The Black Squirrel for Humbleman Band’s CD release party. (1049 Sarah Street)\nWe will probably stop for lunch and lots of coffee though brown bagging is an option.\nJoin us for some or all.\nRain or shine\, unless it’s really rainy or extra shiny.\nI’m thinking 20 Miles as long as my toe bone doesn’t fling a gronkus
URL:https://roxyunk.org/event/all-day-walk-philly-phlaneurization/
LOCATION:philadelphia
CATEGORIES:Outdoor Activity
ATTACH;FMTTYPE=image/jpeg:https://roxyunk.org/wp-content/uploads/2025/05/IMG_9180-scaled.jpeg
END:VEVENT
END:VCALENDAR