BEGIN:VCALENDAR
VERSION:2.0
PRODID:-//RoxYunk.Org - ECPv6.15.20//NONSGML v1.0//EN
CALSCALE:GREGORIAN
METHOD:PUBLISH
X-ORIGINAL-URL:https://roxyunk.org
X-WR-CALDESC:Events for RoxYunk.Org
REFRESH-INTERVAL;VALUE=DURATION:PT1H
X-Robots-Tag:noindex
X-PUBLISHED-TTL:PT1H
BEGIN:VTIMEZONE
TZID:America/New_York
BEGIN:DAYLIGHT
TZOFFSETFROM:-0500
TZOFFSETTO:-0400
TZNAME:EDT
DTSTART:20230312T070000
END:DAYLIGHT
BEGIN:STANDARD
TZOFFSETFROM:-0400
TZOFFSETTO:-0500
TZNAME:EST
DTSTART:20231105T060000
END:STANDARD
BEGIN:DAYLIGHT
TZOFFSETFROM:-0500
TZOFFSETTO:-0400
TZNAME:EDT
DTSTART:20240310T070000
END:DAYLIGHT
BEGIN:STANDARD
TZOFFSETFROM:-0400
TZOFFSETTO:-0500
TZNAME:EST
DTSTART:20241103T060000
END:STANDARD
BEGIN:DAYLIGHT
TZOFFSETFROM:-0500
TZOFFSETTO:-0400
TZNAME:EDT
DTSTART:20250309T070000
END:DAYLIGHT
BEGIN:STANDARD
TZOFFSETFROM:-0400
TZOFFSETTO:-0500
TZNAME:EST
DTSTART:20251102T060000
END:STANDARD
BEGIN:DAYLIGHT
TZOFFSETFROM:-0500
TZOFFSETTO:-0400
TZNAME:EDT
DTSTART:20260308T070000
END:DAYLIGHT
BEGIN:STANDARD
TZOFFSETFROM:-0400
TZOFFSETTO:-0500
TZNAME:EST
DTSTART:20261101T060000
END:STANDARD
BEGIN:DAYLIGHT
TZOFFSETFROM:-0500
TZOFFSETTO:-0400
TZNAME:EDT
DTSTART:20270314T070000
END:DAYLIGHT
BEGIN:STANDARD
TZOFFSETFROM:-0400
TZOFFSETTO:-0500
TZNAME:EST
DTSTART:20271107T060000
END:STANDARD
END:VTIMEZONE
BEGIN:VEVENT
DTSTART;TZID=America/New_York:20260308T130000
DTEND;TZID=America/New_York:20260308T160000
DTSTAMP:20260420T113347
CREATED:20260303T125720Z
LAST-MODIFIED:20260303T125731Z
UID:10002618-1772974800-1772985600@roxyunk.org
SUMMARY:Women's Month - Members' Show
DESCRIPTION:
URL:https://roxyunk.org/event/womens-month-members-show/
LOCATION:Manayunk Roxborough Arts Center\, 419 Green Lane\, Philadelphia\, PA\, 19128\, United States
END:VEVENT
BEGIN:VEVENT
DTSTART;TZID=America/New_York:20260215T130000
DTEND;TZID=America/New_York:20260215T150000
DTSTAMP:20260420T113347
CREATED:20260215T142613Z
LAST-MODIFIED:20260215T142613Z
UID:10002488-1771160400-1771167600@roxyunk.org
SUMMARY:Valentines Day at MRAC
DESCRIPTION:
URL:https://roxyunk.org/event/valentines-day-at-mrac/
LOCATION:Manayunk Roxborough Arts Center\, 419 Green Lane\, Philadelphia\, PA\, 19128\, United States
CATEGORIES:Art related,community,Free,RoxYunk
ATTACH;FMTTYPE=image/jpeg:https://roxyunk.org/wp-content/uploads/2026/02/IMG_4210-scaled.jpeg
END:VEVENT
BEGIN:VEVENT
DTSTART;TZID=America/New_York:20260208T130000
DTEND;TZID=America/New_York:20260208T160000
DTSTAMP:20260420T113347
CREATED:20260115T052919Z
LAST-MODIFIED:20260115T053118Z
UID:10002163-1770555600-1770566400@roxyunk.org
SUMMARY:MRAC presents An Exhibition of Love (and Hate)
DESCRIPTION:
URL:https://roxyunk.org/event/mrac-presents-an-exhibition-of-love-and-hate/
LOCATION:Manayunk Roxborough Arts Center\, 419 Green Lane\, Philadelphia\, PA\, 19128\, United States
CATEGORIES:Art related,RoxYunk
ATTACH;FMTTYPE=image/webp:https://roxyunk.org/wp-content/uploads/2026/01/ThanksforSupportingtheArts-MRAC-signage.webp
END:VEVENT
BEGIN:VEVENT
DTSTART;TZID=America/New_York:20260118T120000
DTEND;TZID=America/New_York:20260118T170000
DTSTAMP:20260420T113347
CREATED:20260115T052629Z
LAST-MODIFIED:20260115T052629Z
UID:10002162-1768737600-1768755600@roxyunk.org
SUMMARY:MRAC Presents - SVJ Launch - Featuring The Art of Colleen Brand
DESCRIPTION:See https://www.colleenbrandart.com/ \n 
URL:https://roxyunk.org/event/mrac-presents-svj-launch-featuring-the-art-of-colleen-brand/
LOCATION:Manayunk Roxborough Arts Center\, 419 Green Lane\, Philadelphia\, PA\, 19128\, United States
CATEGORIES:Art related,Free,RoxYunk
ATTACH;FMTTYPE=image/webp:https://roxyunk.org/wp-content/uploads/2026/01/ThanksforSupportingtheArts-MRAC-signage.webp
END:VEVENT
BEGIN:VEVENT
DTSTART;TZID=America/New_York:20251214T130000
DTEND;TZID=America/New_York:20251214T160000
DTSTAMP:20260420T113347
CREATED:20250917T153009Z
LAST-MODIFIED:20250917T153248Z
UID:10001841-1765717200-1765728000@roxyunk.org
SUMMARY:Manayunk Roxborough Art Center's David R. Hunt Memorial Members Show
DESCRIPTION:This annual event asks our members to bring out their best work. Details TBA.
URL:https://roxyunk.org/event/manayunk-roxborough-art-centers-david-r-hunt-memorial-members-show/
LOCATION:Manayunk Roxborough Arts Center\, 419 Green Lane\, Philadelphia\, PA\, 19128\, United States
CATEGORIES:Art related,RoxYunk
ATTACH;FMTTYPE=image/webp:https://roxyunk.org/wp-content/uploads/2025/09/ThanksforSupportingtheArts-MRAC-signage.webp
END:VEVENT
BEGIN:VEVENT
DTSTART;TZID=America/New_York:20251109T130000
DTEND;TZID=America/New_York:20251109T160000
DTSTAMP:20260420T113347
CREATED:20250917T152625Z
LAST-MODIFIED:20250917T153350Z
UID:10001840-1762693200-1762704000@roxyunk.org
SUMMARY:Manayunk Roxborough Art Center Members Opening
DESCRIPTION:Work by current MRAC members. \nRefreshments provided.
URL:https://roxyunk.org/event/members-show-opening/
LOCATION:Manayunk Roxborough Arts Center\, 419 Green Lane\, Philadelphia\, PA\, 19128\, United States
CATEGORIES:Art related,RoxYunk
ATTACH;FMTTYPE=image/webp:https://roxyunk.org/wp-content/uploads/2025/09/SneakyFingers.DavidP.Kozinski.11.25x9inches.mixedmedia.265.00jpg.webp
END:VEVENT
BEGIN:VEVENT
DTSTART;TZID=America/New_York:20251012T130000
DTEND;TZID=America/New_York:20251012T160000
DTSTAMP:20260420T113347
CREATED:20250917T152149Z
LAST-MODIFIED:20250917T153440Z
UID:10001839-1760274000-1760284800@roxyunk.org
SUMMARY:Manayunk Roxborough Art Center Presents "Asian Travels: works by Ron W. Howard"
DESCRIPTION:A solo exhibition of the works of Ron W. Howard\, longtime MRAC member and former president of the Board of Directors. Ron’s photographs document his travels through Asia.
URL:https://roxyunk.org/event/asian-travels-works-by-ron-w-howard/
LOCATION:Manayunk Roxborough Arts Center\, 419 Green Lane\, Philadelphia\, PA\, 19128\, United States
CATEGORIES:Art related,RoxYunk
ATTACH;FMTTYPE=image/webp:https://roxyunk.org/wp-content/uploads/2025/09/dragon-for-MRAC.webp
END:VEVENT
BEGIN:VEVENT
DTSTART;TZID=America/New_York:20250922T163000
DTEND;TZID=America/New_York:20250922T203000
DTSTAMP:20260420T113347
CREATED:20250919T145346Z
LAST-MODIFIED:20250919T145346Z
UID:10001858-1758558600-1758573000@roxyunk.org
SUMMARY:MRAC Welcomes the Equinox: Celebration beginning around 4:30 and going until who knows when
DESCRIPTION:The sky turns and we stand below and watch stars dance heel and toe. \nTwice a year\, the day and night declare a truce and split the difference. Sky magic day. \nCome out and honor the bipartite day of equitable division.
URL:https://roxyunk.org/event/mrac-welcomes-the-equinox-celebration-beginning-around-430-and-going-until-who-knows-when/
LOCATION:Manayunk Roxborough Arts Center\, 419 Green Lane\, Philadelphia\, PA\, 19128\, United States
CATEGORIES:Art related,community,RoxYunk
ATTACH;FMTTYPE=image/png:https://roxyunk.org/wp-content/uploads/2025/09/equinox.png
END:VEVENT
BEGIN:VEVENT
DTSTART;TZID=America/New_York:20250921T130000
DTEND;TZID=America/New_York:20250921T150000
DTSTAMP:20260420T113347
CREATED:20250917T115656Z
LAST-MODIFIED:20250917T153920Z
UID:10001832-1758459600-1758466800@roxyunk.org
SUMMARY:MRAC presents poets Leonard Gontarek\, Jane Edna Mohler\, Glenn McLaughlin & Fran Gilmore
DESCRIPTION:Light refreshments and open mic to follow. \nhosted by David P. Kozinski \n\n\n\n\n\n\n\n\n\n\n\n\n\n\n\n\n\n\n\nLeonard Gontarek \n\n\n\n\n\n\n\n\n\n\n\n\n\njane edna mohler \n\n\n\n\n\n\n\n\n\n\n\n\n\nGlenn mclaughlin \n\n\n\n\n\n\n\n\n\n\n\n\n\nFran Gilmore \n\n\n\n\n\n\n\n\n\n\nLeonard Gontarek is the author of eight books of poems\, including Ain’t NoAngel Gonna Greet Me; The Long Way Home; Take Your Hand Out of MyPocket\, Shiva; and The Paris Poems of Jim Morrison. His poems haveappeared in Field\, Poet Lore\, Verse Daily\, Fence\, Poetry Northwest\,American Poetry Review\, Joyful Noise: An Anthology of AmericanSpiritual Poetry\, and The Best American Poetry (edited by Paul Muldoon). \n\n\n\n\n\n\n\n\n\nJane Edna Mohler is the 2020 Bucks County Poet Laureate (PA)\, winnerof the 2016 Main Street Voices. She was nominated multiple times for a Pushcart\, once for Best of the Net\, and placed second in the 2023 Crossroads Contest. Recent publications include Gargoyle\, One Art\, and Verse Virtual. Her collections\, Broken Umbrellas (2019) and Autumn Clears (2025) were both published by Kelsay Books. She is Poetry Editor of the Schuylkill Valley Journal. www.janeednamohler.com \n\n\n\n\n\n\n\n\n\nGlenn McLaughlin is a semi-retired high school science teacher and the2013 Montco Poet Laureate. A handful of journals have published several of his poems\, but he was most happy to have his poem\, &quot;The Scalar Nature of Snow\,&quot; published by Scientific American Magazine and his poetry collection\, Forms of Lectio\, selected as a finalist for The Eric Hoffer Award in Poetry. He resides in Pottstown\, PA with his spouse\, Susan\, their dog\, Max\, and cat\, George\, while two daughters and five granddaughters live nearby. \n\n\n\n\n\n\n\n\n\nFran Gilmore is an activist\, artist and poet\, long retired from her work as an industrial hygienist. She has been a teacher in many settings\, including high school (biology)\, a prison (emotional healing)\, labor unions (health and safety) and community settings (racism). She has been published in American Writing\, Charlotte Poetry Review\, Anthology Philly and other journals\, and in an anthology\, We Used to be Wives: Divorce Unveiled Through Poetry. She self-published a chapbook\, Then Jumped.
URL:https://roxyunk.org/event/mrac-presents-poets-leonard-gontarek-jane-edna-mohler-glenn-mclaughlin-fran-gilmore/
LOCATION:Manayunk Roxborough Arts Center\, 419 Green Lane\, Philadelphia\, PA\, 19128\, United States
CATEGORIES:literary,RoxYunk
ATTACH;FMTTYPE=image/webp:https://roxyunk.org/wp-content/uploads/2025/09/ThanksforSupportingtheArts-MRAC-signage.webp
END:VEVENT
BEGIN:VEVENT
DTSTART;TZID=America/New_York:20241221T161100
DTEND;TZID=America/New_York:20241221T204900
DTSTAMP:20260420T113347
CREATED:20241202T215757Z
LAST-MODIFIED:20241202T215757Z
UID:10000059-1734797460-1734814140@roxyunk.org
SUMMARY:Winter Solstice: Time Together at the Manayunk Roxborough Art Center
DESCRIPTION:hyperbola\, hyperbole\, hyperbolic\, hyperbolicity — theme of event \n\n\n\n\n\n\n\n\nsaddle-like\, ruffles\, frills\, folds\, increasing increase in surface area\, walking into bushes and they only get more dense — work in progress \ndance\, fire\, food\, conversation\, share and tell on the art of the Hyperbol\, observation of the above
URL:https://roxyunk.org/event/winter-solstice-time-together-at-the-manayunk-roxborough-art-center/
LOCATION:Manayunk Roxborough Arts Center\, 419 Green Lane\, Philadelphia\, PA\, 19128\, United States
CATEGORIES:Art related,community
ATTACH;FMTTYPE=image/jpeg:https://roxyunk.org/wp-content/uploads/2024/12/MRACatelier.jpg
END:VEVENT
BEGIN:VEVENT
DTSTART;TZID=America/New_York:20241214T123000
DTEND;TZID=America/New_York:20241214T143000
DTSTAMP:20260420T113347
CREATED:20241202T220051Z
LAST-MODIFIED:20241202T220135Z
UID:10000060-1734179400-1734186600@roxyunk.org
SUMMARY:Winter Ornament Workshop
DESCRIPTION:Learn to paint your own winter landscapes and turn them into ornaments! \nWe will be mixing our fine art with fun craft to make a beautiful array of ornaments. All levels welcome\, materials provided. \nThis is a family friendly event\, but minors will need to be accompanied by an adult. \n\n\n\n\n\n\n\nSource:: https://www.mrartcenter.org/classes-1/winter-ornament-workshop
URL:https://roxyunk.org/event/winter-ornament-workshop/
LOCATION:Manayunk Roxborough Arts Center\, 419 Green Lane\, Philadelphia\, PA\, 19128\, United States
CATEGORIES:Art related
ATTACH;FMTTYPE=image/jpeg:https://roxyunk.org/wp-content/uploads/2024/12/mrac-logo.jpg
END:VEVENT
BEGIN:VEVENT
DTSTART;TZID=America/New_York:20241208T130000
DTEND;TZID=America/New_York:20241208T160000
DTSTAMP:20260420T113347
CREATED:20241202T220354Z
LAST-MODIFIED:20241204T180618Z
UID:10000061-1733662800-1733673600@roxyunk.org
SUMMARY:David R. Hunt Memorial All Members Show
DESCRIPTION:DAVID R. HUNT MEMORIAL SHOW \n\n\nOpening Reception – December 8\, 2024 \nThe ultimate MRAC Exhibition\, the David R. Hunt Memorial Show will finish our year with the finest work our members have to offer. This is the closing of 2024\, preceding the unfolding of 2025 \nDavid Hunt was a long standing member and lifelong resident of Roxborough. He is fondly remembered as a passionate painter and contributing member at the Manayunk-Roxborough Art Center for many years. This award is made possible through generous contributions from his family. \nThe gallery will be open from 1 p.m. – 4 p.m. on Sunday\, December 8\, 2024. This event is free to the public. Refreshments provided.
URL:https://roxyunk.org/event/david-r-hunt-memorial-all-members-show/
LOCATION:Manayunk Roxborough Arts Center\, 419 Green Lane\, Philadelphia\, PA\, 19128\, United States
CATEGORIES:Art related
ATTACH;FMTTYPE=image/jpeg:https://roxyunk.org/wp-content/uploads/2024/12/mrac-logo.jpg
END:VEVENT
END:VCALENDAR