BEGIN:VCALENDAR
VERSION:2.0
PRODID:-//RoxYunk.Org - ECPv6.15.20//NONSGML v1.0//EN
CALSCALE:GREGORIAN
METHOD:PUBLISH
X-ORIGINAL-URL:https://roxyunk.org
X-WR-CALDESC:Events for RoxYunk.Org
REFRESH-INTERVAL;VALUE=DURATION:PT1H
X-Robots-Tag:noindex
X-PUBLISHED-TTL:PT1H
BEGIN:VTIMEZONE
TZID:America/New_York
BEGIN:DAYLIGHT
TZOFFSETFROM:-0500
TZOFFSETTO:-0400
TZNAME:EDT
DTSTART:20240310T070000
END:DAYLIGHT
BEGIN:STANDARD
TZOFFSETFROM:-0400
TZOFFSETTO:-0500
TZNAME:EST
DTSTART:20241103T060000
END:STANDARD
BEGIN:DAYLIGHT
TZOFFSETFROM:-0500
TZOFFSETTO:-0400
TZNAME:EDT
DTSTART:20250309T070000
END:DAYLIGHT
BEGIN:STANDARD
TZOFFSETFROM:-0400
TZOFFSETTO:-0500
TZNAME:EST
DTSTART:20251102T060000
END:STANDARD
BEGIN:DAYLIGHT
TZOFFSETFROM:-0500
TZOFFSETTO:-0400
TZNAME:EDT
DTSTART:20260308T070000
END:DAYLIGHT
BEGIN:STANDARD
TZOFFSETFROM:-0400
TZOFFSETTO:-0500
TZNAME:EST
DTSTART:20261101T060000
END:STANDARD
END:VTIMEZONE
BEGIN:VEVENT
DTSTART;TZID=America/New_York:20251113T080000
DTEND;TZID=America/New_York:20251113T230000
DTSTAMP:20260420T160134
CREATED:20251113T203154Z
LAST-MODIFIED:20251113T203154Z
UID:10001929-1763020800-1763074800@roxyunk.org
SUMMARY:Voices Of The Future Open Mic
DESCRIPTION:One thing we’re gonna do at Sunrise Philly is SING about the future we’re creating! Join us for an open mic at Fat Lady Brewing in Manayunk – bring your favorite song or poem for a liberated world 🌻 \nThursday\, November 13 from 8-11 pm \nSign up to perform at the link in bio – sign up by Nov. 11! Covers welcome and equipment provided. \nWe’ll be singing\, selling merch\, having drinks\, making friends and talking about what our next year will look like. Suggested donation of $10 towards a permanent meeting space for Sunrise Philly! \nWE CAN’T WAIT TO SEE YOU THERE!!!
URL:https://roxyunk.org/event/voices-of-the-future-open-mic/
LOCATION:Fat Lady Brewing
CATEGORIES:community,Music related,Open Mic,RoxYunk
END:VEVENT
END:VCALENDAR