BEGIN:VCALENDAR
VERSION:2.0
PRODID:-//RoxYunk.Org - ECPv6.15.20//NONSGML v1.0//EN
CALSCALE:GREGORIAN
METHOD:PUBLISH
X-ORIGINAL-URL:https://roxyunk.org
X-WR-CALDESC:Events for RoxYunk.Org
REFRESH-INTERVAL;VALUE=DURATION:PT1H
X-Robots-Tag:noindex
X-PUBLISHED-TTL:PT1H
BEGIN:VTIMEZONE
TZID:America/New_York
BEGIN:DAYLIGHT
TZOFFSETFROM:-0500
TZOFFSETTO:-0400
TZNAME:EDT
DTSTART:20240310T070000
END:DAYLIGHT
BEGIN:STANDARD
TZOFFSETFROM:-0400
TZOFFSETTO:-0500
TZNAME:EST
DTSTART:20241103T060000
END:STANDARD
BEGIN:DAYLIGHT
TZOFFSETFROM:-0500
TZOFFSETTO:-0400
TZNAME:EDT
DTSTART:20250309T070000
END:DAYLIGHT
BEGIN:STANDARD
TZOFFSETFROM:-0400
TZOFFSETTO:-0500
TZNAME:EST
DTSTART:20251102T060000
END:STANDARD
BEGIN:DAYLIGHT
TZOFFSETFROM:-0500
TZOFFSETTO:-0400
TZNAME:EDT
DTSTART:20260308T070000
END:DAYLIGHT
BEGIN:STANDARD
TZOFFSETFROM:-0400
TZOFFSETTO:-0500
TZNAME:EST
DTSTART:20261101T060000
END:STANDARD
END:VTIMEZONE
BEGIN:VEVENT
DTSTART;TZID=America/New_York:20251023T183000
DTEND;TZID=America/New_York:20251023T200000
DTSTAMP:20260421T015113
CREATED:20251023T190933Z
LAST-MODIFIED:20251023T190933Z
UID:10001903-1761244200-1761249600@roxyunk.org
SUMMARY:Roxborough YMCA Trunk Or Treat
DESCRIPTION:t’s never too early to start planning your Halloween costume! 🎃🍬 Get ready for our annual Trunk or Treat event at the Y! \n🗓️ : Thursday\, October 23\, 2025\n⏰ : 6:30 – 8:00 PM\n📍 : Roxborough YMCA\n👥 : This event is free and open to the community. Registration is not required.\n🔗 : Click the link in our bio for event info and to register your trunk
URL:https://roxyunk.org/event/roxborough-ymca-trunk-or-treat/
LOCATION:Roxborough YMCA\, 7201 Ridge Ave.\, Philadelphia\, PA\, 19128\, United States
CATEGORIES:For kids,RoxYunk
END:VEVENT
END:VCALENDAR