BEGIN:VCALENDAR
VERSION:2.0
PRODID:-//RoxYunk.Org - ECPv6.15.20//NONSGML v1.0//EN
CALSCALE:GREGORIAN
METHOD:PUBLISH
X-ORIGINAL-URL:https://roxyunk.org
X-WR-CALDESC:Events for RoxYunk.Org
REFRESH-INTERVAL;VALUE=DURATION:PT1H
X-Robots-Tag:noindex
X-PUBLISHED-TTL:PT1H
BEGIN:VTIMEZONE
TZID:America/New_York
BEGIN:DAYLIGHT
TZOFFSETFROM:-0500
TZOFFSETTO:-0400
TZNAME:EDT
DTSTART:20240310T070000
END:DAYLIGHT
BEGIN:STANDARD
TZOFFSETFROM:-0400
TZOFFSETTO:-0500
TZNAME:EST
DTSTART:20241103T060000
END:STANDARD
BEGIN:DAYLIGHT
TZOFFSETFROM:-0500
TZOFFSETTO:-0400
TZNAME:EDT
DTSTART:20250309T070000
END:DAYLIGHT
BEGIN:STANDARD
TZOFFSETFROM:-0400
TZOFFSETTO:-0500
TZNAME:EST
DTSTART:20251102T060000
END:STANDARD
BEGIN:DAYLIGHT
TZOFFSETFROM:-0500
TZOFFSETTO:-0400
TZNAME:EDT
DTSTART:20260308T070000
END:DAYLIGHT
BEGIN:STANDARD
TZOFFSETFROM:-0400
TZOFFSETTO:-0500
TZNAME:EST
DTSTART:20261101T060000
END:STANDARD
END:VTIMEZONE
BEGIN:VEVENT
DTSTART;TZID=America/New_York:20251217T173000
DTEND;TZID=America/New_York:20251217T220000
DTSTAMP:20260420T131934
CREATED:20251215T200714Z
LAST-MODIFIED:20251215T200714Z
UID:10001954-1765992600-1766008800@roxyunk.org
SUMMARY:Holiday Party Open Mic (Ugly Sweaters Encouraged)
DESCRIPTION:Sign Ups start at 5:30. \n 
URL:https://roxyunk.org/event/holiday-party-open-mic-ugly-sweaters-encouraged/
LOCATION:Twisted Gingers\, 4317 Fleming\, Philadelphia\, PA\, 19128\, United States
CATEGORIES:Music related,Open Mic,RoxYunk
ATTACH;FMTTYPE=image/jpeg:https://roxyunk.org/wp-content/uploads/2025/12/Twisted-Ginger-Open-Mic-Dec-17-2026.jpg
END:VEVENT
BEGIN:VEVENT
DTSTART;TZID=America/New_York:20251119T173000
DTEND;TZID=America/New_York:20251119T210000
DTSTAMP:20260420T131934
CREATED:20251118T151011Z
LAST-MODIFIED:20251118T151011Z
UID:10001935-1763573400-1763586000@roxyunk.org
SUMMARY:Little Rituals Collective Presents Open Mic Night At Twisted Ginger's
DESCRIPTION:
URL:https://roxyunk.org/event/little-rituals-collective-presents-open-mic-night-at-twisted-gingers/
LOCATION:Twisted Gingers\, 4317 Fleming\, Philadelphia\, PA\, 19128\, United States
CATEGORIES:Open Mic,RoxYunk
ATTACH;FMTTYPE=image/jpeg:https://roxyunk.org/wp-content/uploads/2025/11/open-mic-twisted-ginger.jpg
END:VEVENT
BEGIN:VEVENT
DTSTART;TZID=America/New_York:20251115T080000
DTEND;TZID=America/New_York:20251115T120000
DTSTAMP:20260420T131934
CREATED:20251007T000230Z
LAST-MODIFIED:20251007T000906Z
UID:10001889-1763193600-1763208000@roxyunk.org
SUMMARY:Morning Mixer at Unity Java
DESCRIPTION: 
URL:https://roxyunk.org/event/morning-mixer-at-unity-java/
LOCATION:Unity Java\, Umbria
ATTACH;FMTTYPE=image/png:https://roxyunk.org/wp-content/uploads/2025/10/IMG_7375.png
END:VEVENT
BEGIN:VEVENT
DTSTART;TZID=America/New_York:20251015T180000
DTEND;TZID=America/New_York:20251015T200000
DTSTAMP:20260420T131934
CREATED:20251006T145809Z
LAST-MODIFIED:20251006T150200Z
UID:10001883-1760551200-1760558400@roxyunk.org
SUMMARY:Open Mic at Twisted Ginger\, Hosted By Little Ritual Collective
DESCRIPTION: 
URL:https://roxyunk.org/event/open-mic-at-twisted-ginger/
LOCATION:Twisted Gingers\, 4317 Fleming\, Philadelphia\, PA\, 19128\, United States
CATEGORIES:Music related,Open Mic,RoxYunk
ATTACH;FMTTYPE=image/jpeg:https://roxyunk.org/wp-content/uploads/2025/10/IMG_7544-scaled.jpeg
END:VEVENT
END:VCALENDAR