BEGIN:VCALENDAR
VERSION:2.0
PRODID:-//RoxYunk.Org - ECPv6.15.20//NONSGML v1.0//EN
CALSCALE:GREGORIAN
METHOD:PUBLISH
X-WR-CALNAME:RoxYunk.Org
X-ORIGINAL-URL:https://roxyunk.org
X-WR-CALDESC:Events for RoxYunk.Org
REFRESH-INTERVAL;VALUE=DURATION:PT1H
X-Robots-Tag:noindex
X-PUBLISHED-TTL:PT1H
BEGIN:VTIMEZONE
TZID:America/New_York
BEGIN:DAYLIGHT
TZOFFSETFROM:-0500
TZOFFSETTO:-0400
TZNAME:EDT
DTSTART:20240310T070000
END:DAYLIGHT
BEGIN:STANDARD
TZOFFSETFROM:-0400
TZOFFSETTO:-0500
TZNAME:EST
DTSTART:20241103T060000
END:STANDARD
BEGIN:DAYLIGHT
TZOFFSETFROM:-0500
TZOFFSETTO:-0400
TZNAME:EDT
DTSTART:20250309T070000
END:DAYLIGHT
BEGIN:STANDARD
TZOFFSETFROM:-0400
TZOFFSETTO:-0500
TZNAME:EST
DTSTART:20251102T060000
END:STANDARD
BEGIN:DAYLIGHT
TZOFFSETFROM:-0500
TZOFFSETTO:-0400
TZNAME:EDT
DTSTART:20260308T070000
END:DAYLIGHT
BEGIN:STANDARD
TZOFFSETFROM:-0400
TZOFFSETTO:-0500
TZNAME:EST
DTSTART:20261101T060000
END:STANDARD
END:VTIMEZONE
BEGIN:VEVENT
DTSTART;TZID=America/New_York:20251213T170000
DTEND;TZID=America/New_York:20251213T200000
DTSTAMP:20260420T160251
CREATED:20251212T190427Z
LAST-MODIFIED:20251212T190830Z
UID:10001949-1765645200-1765656000@roxyunk.org
SUMMARY:Evergreen Enchantment at Gorgas Park - Movie Night and The Mitchell Street Philbillies
DESCRIPTION:Jingle Bell Rock Nite and Movie Night \nOur Beloved Philbillies will play a set at 5:15\, movie to follow. \nBring a donation for the Roxborough Library Book Drive. \n  \n  \n 
URL:https://roxyunk.org/event/evergreen-enchantment-at-gorgas-park-movie-night-and-the-mitchell-street-philbillies/
LOCATION:Gorgas Park\, 6300 Ridge Ave\, Philadelphia\, PA\, 19128\, United States
CATEGORIES:For kids,Outdoor Activity,RoxYunk
ATTACH;FMTTYPE=image/jpeg:https://roxyunk.org/wp-content/uploads/2025/12/937423756149788115.jpeg
END:VEVENT
BEGIN:VEVENT
DTSTART;TZID=America/New_York:20251115T090000
DTEND;TZID=America/New_York:20251115T130000
DTSTAMP:20260420T160251
CREATED:20250919T172523Z
LAST-MODIFIED:20250919T172523Z
UID:10001860-1763197200-1763211600@roxyunk.org
SUMMARY:Love Your Park Day at Gorgas Park
DESCRIPTION:Come and help out keeping the big green clean and serene.
URL:https://roxyunk.org/event/love-your-park-day-at-gorgas-park/
LOCATION:Gorgas Park\, 6300 Ridge Ave\, Philadelphia\, PA\, 19128\, United States
CATEGORIES:Clean Up,community,Outdoor Activity,RoxYunk
END:VEVENT
BEGIN:VEVENT
DTSTART;TZID=America/New_York:20250928T160000
DTEND;TZID=America/New_York:20250928T190000
DTSTAMP:20260420T160251
CREATED:20250520T152144Z
LAST-MODIFIED:20250520T152153Z
UID:10001477-1759075200-1759086000@roxyunk.org
SUMMARY:Elvis Show - Jeff Krick and Son
DESCRIPTION:
URL:https://roxyunk.org/event/elvis-show-jeff-krick-and-son/
LOCATION:Gorgas Park\, 6300 Ridge Ave\, Philadelphia\, PA\, 19128\, United States
CATEGORIES:Music related,Outdoor Activity,RoxYunk
END:VEVENT
BEGIN:VEVENT
DTSTART;TZID=America/New_York:20250911T180000
DTEND;TZID=America/New_York:20250911T210000
DTSTAMP:20260420T160251
CREATED:20250520T151655Z
LAST-MODIFIED:20250520T151655Z
UID:10001476-1757613600-1757624400@roxyunk.org
SUMMARY:9/11 Remembrance Event  - The Providers with Hillary Torchiana
DESCRIPTION:
URL:https://roxyunk.org/event/9-11-remembrance-event-the-providers-with-hillary-torchiana/
LOCATION:Gorgas Park\, 6300 Ridge Ave\, Philadelphia\, PA\, 19128\, United States
CATEGORIES:community,RoxYunk
END:VEVENT
BEGIN:VEVENT
DTSTART;TZID=America/New_York:20250830T140000
DTEND;TZID=America/New_York:20250830T210000
DTSTAMP:20260420T160251
CREATED:20250520T150646Z
LAST-MODIFIED:20250828T170145Z
UID:10001475-1756562400-1756587600@roxyunk.org
SUMMARY:Music Jamboree and New Ridge Brewing - The Big Jangle\, The Fiascos\, Odyssey
DESCRIPTION:The Fiascos – Classic Rock \nOdyssey – R&B \nThe Big Jangle – Tom Petty Tribute Band
URL:https://roxyunk.org/event/music-jamboree-and-new-ridge-brewing-the-big-jangle-the-fiascos-odyssey/
LOCATION:Gorgas Park\, 6300 Ridge Ave\, Philadelphia\, PA\, 19128\, United States
CATEGORIES:Music related,Outdoor Activity,RoxYunk
ATTACH;FMTTYPE=image/jpeg:https://roxyunk.org/wp-content/uploads/2025/05/att.5UVHnt4SxgpkbDUQk8t2Xa8BjGbCmSlNEAiVUgRyMTg.jpeg
END:VEVENT
BEGIN:VEVENT
DTSTART;TZID=America/New_York:20250826T080000
DTEND;TZID=America/New_York:20250826T170000
DTSTAMP:20260420T160251
CREATED:20250520T150350Z
LAST-MODIFIED:20250520T150350Z
UID:10001474-1756195200-1756227600@roxyunk.org
SUMMARY:Kids Movie Night
DESCRIPTION:
URL:https://roxyunk.org/event/kids-movie-night/
LOCATION:Gorgas Park\, 6300 Ridge Ave\, Philadelphia\, PA\, 19128\, United States
CATEGORIES:RoxYunk
END:VEVENT
BEGIN:VEVENT
DTSTART;TZID=America/New_York:20250821T190000
DTEND;TZID=America/New_York:20250821T210000
DTSTAMP:20260420T160251
CREATED:20250520T145502Z
LAST-MODIFIED:20250820T160250Z
UID:10001473-1755802800-1755810000@roxyunk.org
SUMMARY:York Street Hustle
DESCRIPTION:R&B and Soul straight from the heart of Philadelphia\, like it’s ‘sposed to be. \nJet propelled by Alex Meltzer’s funky drum work\, these folks will rewind your mind and rethread your head. \n“Each week\, ten musicians arrive at a former South Philadelphia funeral home where\, one by one\, they unload their old tube amps and vintage gear. Once inside\, the classic sounds of the 1960s are reinvigorated\, re-energized and reborn. Legends\, like Stevie\, Aretha and the Four Tops; lesser-known artists including Donny Hathaway\, Arthur Conley and Betty Everett – all are given new life. \nFrom their early years packing tiny South Street bars to repeated sell outs of World Cafe Live\, YSH’s repertoire now spans nearly 1oo songs. This is not your typical Motown wedding band. With grit\, sweat\, and attention to detail\, The York Street Hustle is the Northeast’s premier 10-piece 1960s soul and Motown tribute.”
URL:https://roxyunk.org/event/york-street-hustle/
LOCATION:Gorgas Park\, 6300 Ridge Ave\, Philadelphia\, PA\, 19128\, United States
CATEGORIES:RoxYunk
ATTACH;FMTTYPE=image/jpeg:https://roxyunk.org/wp-content/uploads/2025/05/IMG_4369.jpeg
END:VEVENT
BEGIN:VEVENT
DTSTART;TZID=America/New_York:20250812T190000
DTEND;TZID=America/New_York:20250812T210000
DTSTAMP:20260420T160251
CREATED:20250520T144941Z
LAST-MODIFIED:20250811T171237Z
UID:10001472-1755025200-1755032400@roxyunk.org
SUMMARY:The Plants Kids Band and Movie Night: Despicable Me 4
DESCRIPTION:Come out and bring the kids! Music! Movie!\nOn warm summer nights\, there’s nowhere better than Gorgas
URL:https://roxyunk.org/event/plants-kids-band-and-movie-night/
LOCATION:Gorgas Park\, 6300 Ridge Ave\, Philadelphia\, PA\, 19128\, United States
CATEGORIES:For kids,Outdoor Activity,RoxYunk
ATTACH;FMTTYPE=image/png:https://roxyunk.org/wp-content/uploads/2025/05/IMG_4267.png
END:VEVENT
BEGIN:VEVENT
DTSTART;TZID=America/New_York:20250807T190000
DTEND;TZID=America/New_York:20250807T210000
DTSTAMP:20260420T160251
CREATED:20250520T144637Z
LAST-MODIFIED:20250520T144637Z
UID:10001471-1754593200-1754600400@roxyunk.org
SUMMARY:Zydeco A Go Go - Cajun flavored joy sounds
DESCRIPTION:
URL:https://roxyunk.org/event/zydeco-a-go-go-cajun-flavored-joy-sounds/
LOCATION:Gorgas Park\, 6300 Ridge Ave\, Philadelphia\, PA\, 19128\, United States
CATEGORIES:Concert,Outdoor Activity,RoxYunk
END:VEVENT
BEGIN:VEVENT
DTSTART;TZID=America/New_York:20250805T160000
DTEND;TZID=America/New_York:20250805T200000
DTSTAMP:20260420T160251
CREATED:20250520T144046Z
LAST-MODIFIED:20250715T134433Z
UID:10001470-1754409600-1754424000@roxyunk.org
SUMMARY:National Town Watch Celebration
DESCRIPTION:
URL:https://roxyunk.org/event/national-town-watch-celebration/
LOCATION:Gorgas Park\, 6300 Ridge Ave\, Philadelphia\, PA\, 19128\, United States
CATEGORIES:community,Outdoor Activity,RoxYunk
ATTACH;FMTTYPE=image/jpeg:https://roxyunk.org/wp-content/uploads/2025/05/att.zmNEMKt8nfRJHIkVM8_aKbaeukBXzRRn-DeDPfg_ZvQ.jpeg
END:VEVENT
BEGIN:VEVENT
DTSTART;TZID=America/New_York:20250803T120000
DTEND;TZID=America/New_York:20250803T220000
DTSTAMP:20260420T160251
CREATED:20250520T143101Z
LAST-MODIFIED:20250520T143515Z
UID:10001469-1754222400-1754258400@roxyunk.org
SUMMARY:Parks On Tap! at Gorgas Park
DESCRIPTION:
URL:https://roxyunk.org/event/parks-on-tap/2025-08-03/
LOCATION:Gorgas Park\, 6300 Ridge Ave\, Philadelphia\, PA\, 19128\, United States
CATEGORIES:Festival,Outdoor Activity,RoxYunk
END:VEVENT
BEGIN:VEVENT
DTSTART;TZID=America/New_York:20250802T120000
DTEND;TZID=America/New_York:20250802T220000
DTSTAMP:20260420T160251
CREATED:20250520T143101Z
LAST-MODIFIED:20250520T143515Z
UID:10001468-1754136000-1754172000@roxyunk.org
SUMMARY:Parks On Tap! at Gorgas Park
DESCRIPTION:
URL:https://roxyunk.org/event/parks-on-tap/2025-08-02/
LOCATION:Gorgas Park\, 6300 Ridge Ave\, Philadelphia\, PA\, 19128\, United States
CATEGORIES:Festival,Outdoor Activity,RoxYunk
END:VEVENT
BEGIN:VEVENT
DTSTART;TZID=America/New_York:20250801T160000
DTEND;TZID=America/New_York:20250801T220000
DTSTAMP:20260420T160251
CREATED:20250520T143101Z
LAST-MODIFIED:20250520T143515Z
UID:10001467-1754064000-1754085600@roxyunk.org
SUMMARY:Parks On Tap! at Gorgas Park
DESCRIPTION:
URL:https://roxyunk.org/event/parks-on-tap/2025-08-01/
LOCATION:Gorgas Park\, 6300 Ridge Ave\, Philadelphia\, PA\, 19128\, United States
CATEGORIES:Festival,Outdoor Activity,RoxYunk
END:VEVENT
BEGIN:VEVENT
DTSTART;TZID=America/New_York:20250731T160000
DTEND;TZID=America/New_York:20250731T220000
DTSTAMP:20260420T160251
CREATED:20250520T143101Z
LAST-MODIFIED:20250520T143515Z
UID:10001466-1753977600-1753999200@roxyunk.org
SUMMARY:Parks On Tap! at Gorgas Park
DESCRIPTION:
URL:https://roxyunk.org/event/parks-on-tap/2025-07-31/
LOCATION:Gorgas Park\, 6300 Ridge Ave\, Philadelphia\, PA\, 19128\, United States
CATEGORIES:Festival,Outdoor Activity,RoxYunk
END:VEVENT
BEGIN:VEVENT
DTSTART;TZID=America/New_York:20250730T160000
DTEND;TZID=America/New_York:20250730T220000
DTSTAMP:20260420T160251
CREATED:20250728T210830Z
LAST-MODIFIED:20250729T112925Z
UID:10001465-1753891200-1753912800@roxyunk.org
SUMMARY:Parks On Tap Kick Off Night at Gorgas with The Schist Creek Stompers Jug Band
DESCRIPTION:Come have a cold one with the hot sounds of the Schist Creek Stompers. \nParks On Tap is one of the best things that’s happened in the city parks. A touring beer garden of delight\, roaming from neighborhood to neighborhood. \nThis year at Gorgas\, POT kicks off with an evening of good old fashioned sounds with the Schist Creek Stompers\, locally sourced artisanal free range jug band music. \nThe Stompers begin to stomp at 7 pm. \nHave a look and a listen. \nhttps://roxyunk.org/wp-content/uploads/2025/07/IMG_3051.mp4
URL:https://roxyunk.org/event/parks-on-tap-2/
LOCATION:Gorgas Park\, 6300 Ridge Ave\, Philadelphia\, PA\, 19128\, United States
CATEGORIES:Festival,Music related,Outdoor Activity,RoxYunk
ATTACH;FMTTYPE=image/jpeg:https://roxyunk.org/wp-content/uploads/2025/07/Parks-On-Tap-at-Gorgas.jpg
END:VEVENT
BEGIN:VEVENT
DTSTART;TZID=America/New_York:20250726T100000
DTEND;TZID=America/New_York:20250726T150000
DTSTAMP:20260420T160251
CREATED:20250520T142650Z
LAST-MODIFIED:20250520T142650Z
UID:10001464-1753524000-1753542000@roxyunk.org
SUMMARY:Vets Tribute Day
DESCRIPTION:
URL:https://roxyunk.org/event/vets-tribute-day/
LOCATION:Gorgas Park\, 6300 Ridge Ave\, Philadelphia\, PA\, 19128\, United States
CATEGORIES:community,Outdoor Activity,RoxYunk
END:VEVENT
BEGIN:VEVENT
DTSTART;TZID=America/New_York:20250724T190000
DTEND;TZID=America/New_York:20250724T210000
DTSTAMP:20260420T160251
CREATED:20250520T142110Z
LAST-MODIFIED:20250520T142110Z
UID:10001463-1753383600-1753390800@roxyunk.org
SUMMARY:Mitchell Street Philbillies
DESCRIPTION:
URL:https://roxyunk.org/event/mitchell-street-philbillies/
LOCATION:Gorgas Park\, 6300 Ridge Ave\, Philadelphia\, PA\, 19128\, United States
CATEGORIES:community,Concert,Music related,Outdoor Activity,RoxYunk
END:VEVENT
BEGIN:VEVENT
DTSTART;TZID=America/New_York:20250723T180000
DTEND;TZID=America/New_York:20250723T193000
DTSTAMP:20260420T160251
CREATED:20250715T200642Z
LAST-MODIFIED:20250716T172301Z
UID:10001809-1753293600-1753299000@roxyunk.org
SUMMARY:Jazz at Gorgas Park
DESCRIPTION:Join us for our weekly Summer Jazz Series featuring special guest @marycrossmusic 🎶 \n📍Live Jazz | 6:00–7:30 PM\n📍 Gorgas Park – 6300 Ridge Ave \nIt’s more than music — it’s community\, connection\, and refreshments 🍦🥨💧\nBring your lawn chair\, bring the fam\, and good vibes! \nBig thanks to our partners at @jazzbridge\n#PhillyJazz #CommunityVibes #SummerNights #FreeEvent #summerjazzseries
URL:https://roxyunk.org/event/jazz-at-gorgas-park/
LOCATION:Gorgas Park\, 6300 Ridge Ave\, Philadelphia\, PA\, 19128\, United States
CATEGORIES:Concert,Music related,RoxYunk
ATTACH;FMTTYPE=image/jpeg:https://roxyunk.org/wp-content/uploads/2025/07/att._qpnyKdDfKH-c5xbyyifoNnrndOurw7u3mpusZm7wj0.jpeg
END:VEVENT
BEGIN:VEVENT
DTSTART;TZID=America/New_York:20250720T160000
DTEND;TZID=America/New_York:20250720T190000
DTSTAMP:20260420T160251
CREATED:20250520T141640Z
LAST-MODIFIED:20250520T141640Z
UID:10001462-1753027200-1753038000@roxyunk.org
SUMMARY:Elvis Show! with Jeff Krick Senior
DESCRIPTION:
URL:https://roxyunk.org/event/elvis-show-with-jeff-krick-senior/
LOCATION:Gorgas Park\, 6300 Ridge Ave\, Philadelphia\, PA\, 19128\, United States
CATEGORIES:community,Concert,Music related,Outdoor Activity,RoxYunk
END:VEVENT
BEGIN:VEVENT
DTSTART;TZID=America/New_York:20250710T190000
DTEND;TZID=America/New_York:20250710T210000
DTSTAMP:20260420T160251
CREATED:20250520T141049Z
LAST-MODIFIED:20250708T165354Z
UID:10001461-1752174000-1752181200@roxyunk.org
SUMMARY:Plush Band - Classic Rock at Gorgas Park w/Home Skoold Band
DESCRIPTION:A double header of Live exciting music in beautiful Gorgas Park.  Come and enjoy the shade and sounds at Gorgas Park’s Summer Concert Series 2025.
URL:https://roxyunk.org/event/plush-band-classic-rock-at-gorgas-park-w-home-skoold-band/
LOCATION:Gorgas Park\, 6300 Ridge Ave\, Philadelphia\, PA\, 19128\, United States
CATEGORIES:Concert,Music related,RoxYunk
ATTACH;FMTTYPE=image/png:https://roxyunk.org/wp-content/uploads/2025/05/IMG_2334.png
END:VEVENT
BEGIN:VEVENT
DTSTART;TZID=America/New_York:20250628T150000
DTEND;TZID=America/New_York:20250628T210000
DTSTAMP:20260420T160251
CREATED:20250520T140450Z
LAST-MODIFIED:20250624T175850Z
UID:10001460-1751122800-1751144400@roxyunk.org
SUMMARY:Solstice Summer Music Fest & Beer Garden
DESCRIPTION:Ben Arnold and the 48 Hour Orchestra\, John Faye\, and Pawnshop Roses & Food Trucks and other treats
URL:https://roxyunk.org/event/solstice-summer-music-fest-beer-garden/
LOCATION:Gorgas Park\, 6300 Ridge Ave\, Philadelphia\, PA\, 19128\, United States
CATEGORIES:community,Concert,For kids,Music related,Outdoor Activity,RoxYunk
ATTACH;FMTTYPE=image/jpeg:https://roxyunk.org/wp-content/uploads/2025/05/6fc40b94-fc45-4514-a220-4047b8927504.jpg
END:VEVENT
BEGIN:VEVENT
DTSTART;TZID=America/New_York:20250624T190000
DTEND;TZID=America/New_York:20250624T210000
DTSTAMP:20260420T160251
CREATED:20250520T135556Z
LAST-MODIFIED:20250520T135556Z
UID:10001459-1750791600-1750798800@roxyunk.org
SUMMARY:Merion Concert Band at Gorgas Park
DESCRIPTION:4th of July Tunes and more
URL:https://roxyunk.org/event/merion-concert-band-at-gorgas-park/
LOCATION:Gorgas Park\, 6300 Ridge Ave\, Philadelphia\, PA\, 19128\, United States
CATEGORIES:Concert,Music related,Outdoor Activity,RoxYunk
END:VEVENT
BEGIN:VEVENT
DTSTART;TZID=America/New_York:20250608T140000
DTEND;TZID=America/New_York:20250608T160000
DTSTAMP:20260420T160251
CREATED:20250520T135132Z
LAST-MODIFIED:20250604T162244Z
UID:10001458-1749391200-1749398400@roxyunk.org
SUMMARY:Pretzel Theater Company in Gorgas Park
DESCRIPTION:
URL:https://roxyunk.org/event/pretzel-theater-company-in-gorgas-park/
LOCATION:Gorgas Park\, 6300 Ridge Ave\, Philadelphia\, PA\, 19128\, United States
CATEGORIES:For kids,Outdoor Activity,RoxYunk
ATTACH;FMTTYPE=image/jpeg:https://roxyunk.org/wp-content/uploads/2025/05/att.5zdltwYcmtpe1oZ-k1RunsrtII-Ywh3K4317LV68Fbo.jpeg
END:VEVENT
END:VCALENDAR