BEGIN:VCALENDAR
VERSION:2.0
PRODID:-//RoxYunk.Org - ECPv6.15.20//NONSGML v1.0//EN
CALSCALE:GREGORIAN
METHOD:PUBLISH
X-WR-CALNAME:RoxYunk.Org
X-ORIGINAL-URL:https://roxyunk.org
X-WR-CALDESC:Events for RoxYunk.Org
REFRESH-INTERVAL;VALUE=DURATION:PT1H
X-Robots-Tag:noindex
X-PUBLISHED-TTL:PT1H
BEGIN:VTIMEZONE
TZID:America/New_York
BEGIN:DAYLIGHT
TZOFFSETFROM:-0500
TZOFFSETTO:-0400
TZNAME:EDT
DTSTART:20240310T070000
END:DAYLIGHT
BEGIN:STANDARD
TZOFFSETFROM:-0400
TZOFFSETTO:-0500
TZNAME:EST
DTSTART:20241103T060000
END:STANDARD
BEGIN:DAYLIGHT
TZOFFSETFROM:-0500
TZOFFSETTO:-0400
TZNAME:EDT
DTSTART:20250309T070000
END:DAYLIGHT
BEGIN:STANDARD
TZOFFSETFROM:-0400
TZOFFSETTO:-0500
TZNAME:EST
DTSTART:20251102T060000
END:STANDARD
BEGIN:DAYLIGHT
TZOFFSETFROM:-0500
TZOFFSETTO:-0400
TZNAME:EDT
DTSTART:20260308T070000
END:DAYLIGHT
BEGIN:STANDARD
TZOFFSETFROM:-0400
TZOFFSETTO:-0500
TZNAME:EST
DTSTART:20261101T060000
END:STANDARD
END:VTIMEZONE
BEGIN:VEVENT
DTSTART;TZID=America/New_York:20251107T190000
DTEND;TZID=America/New_York:20251107T230000
DTSTAMP:20260421T002436
CREATED:20251107T170001Z
LAST-MODIFIED:20251107T170001Z
UID:10001918-1762542000-1762556400@roxyunk.org
SUMMARY:Fat Lady Presents - The Classic Hunt\, Alpaca\, The New Residuals\, The Ant and Ang Band
DESCRIPTION:Great Tunes\, Good Beer \nLive Local Philly Rock & RollUpstairs at Fat Lady BrewingFriday November 7Doors at 7:00PM4323 Main StreetPhiladelphia\, PA 19128
URL:https://roxyunk.org/event/fat-lady-presents-the-classic-hunt-alpaca-the-new-residuals-the-ant-and-ang-band/
LOCATION:Fat Lady Brewing
END:VEVENT
BEGIN:VEVENT
DTSTART;TZID=America/New_York:20251025T180000
DTEND;TZID=America/New_York:20251025T220000
DTSTAMP:20260421T002436
CREATED:20251023T192603Z
LAST-MODIFIED:20251023T192603Z
UID:10001904-1761415200-1761429600@roxyunk.org
SUMMARY:Carnival Spooktacular at Fat Lady Brewing
DESCRIPTION:A Spooky Night of Performances\, Music & Dancing! Goulish Cocktails\, Favorite Carnival Treats and More! Costume Competition win Cash Prizes
URL:https://roxyunk.org/event/carnival-spooktacular-at-fat-lady-brewing/
LOCATION:Fat Lady Brewing
CATEGORIES:Music related,RoxYunk
ATTACH;FMTTYPE=image/jpeg:https://roxyunk.org/wp-content/uploads/2025/10/https___cdn.evbuc_.com_images_1149341853_599295395423_1_original.jpg
END:VEVENT
END:VCALENDAR