BEGIN:VCALENDAR
VERSION:2.0
PRODID:-//RoxYunk.Org - ECPv6.15.20//NONSGML v1.0//EN
CALSCALE:GREGORIAN
METHOD:PUBLISH
X-WR-CALNAME:RoxYunk.Org
X-ORIGINAL-URL:https://roxyunk.org
X-WR-CALDESC:Events for RoxYunk.Org
REFRESH-INTERVAL;VALUE=DURATION:PT1H
X-Robots-Tag:noindex
X-PUBLISHED-TTL:PT1H
BEGIN:VTIMEZONE
TZID:America/New_York
BEGIN:DAYLIGHT
TZOFFSETFROM:-0500
TZOFFSETTO:-0400
TZNAME:EDT
DTSTART:20240310T070000
END:DAYLIGHT
BEGIN:STANDARD
TZOFFSETFROM:-0400
TZOFFSETTO:-0500
TZNAME:EST
DTSTART:20241103T060000
END:STANDARD
BEGIN:DAYLIGHT
TZOFFSETFROM:-0500
TZOFFSETTO:-0400
TZNAME:EDT
DTSTART:20250309T070000
END:DAYLIGHT
BEGIN:STANDARD
TZOFFSETFROM:-0400
TZOFFSETTO:-0500
TZNAME:EST
DTSTART:20251102T060000
END:STANDARD
BEGIN:DAYLIGHT
TZOFFSETFROM:-0500
TZOFFSETTO:-0400
TZNAME:EDT
DTSTART:20260308T070000
END:DAYLIGHT
BEGIN:STANDARD
TZOFFSETFROM:-0400
TZOFFSETTO:-0500
TZNAME:EST
DTSTART:20261101T060000
END:STANDARD
END:VTIMEZONE
BEGIN:VEVENT
DTSTART;TZID=America/New_York:20251204T193000
DTEND;TZID=America/New_York:20251204T203000
DTSTAMP:20260421T022422
CREATED:20241201T155619Z
LAST-MODIFIED:20241204T204843Z
UID:10000057-1764876600-1764880200@roxyunk.org
SUMMARY:Central Roxborough Civic Association Monthly Meeting (“CRCA”)
DESCRIPTION:Please join us. The CRCA meets on the first Thursday of each month\, except July and August. Most CRCA meetings are conducted via Zoom\, and two or three are conducted in person at locations announced at the time of the meeting. \nPlease check the CRCA website for meeting details.
URL:https://roxyunk.org/event/central-roxborough-civic-association-monthly-meeting-crca/2025-12-04/
CATEGORIES:RCO Meeting
ATTACH;FMTTYPE=image/png:https://roxyunk.org/wp-content/uploads/2024/11/CRCALogoforwebpage.png
END:VEVENT
END:VCALENDAR