BEGIN:VCALENDAR
VERSION:2.0
PRODID:-//RoxYunk.Org - ECPv6.15.20//NONSGML v1.0//EN
CALSCALE:GREGORIAN
METHOD:PUBLISH
X-WR-CALNAME:RoxYunk.Org
X-ORIGINAL-URL:https://roxyunk.org
X-WR-CALDESC:Events for RoxYunk.Org
REFRESH-INTERVAL;VALUE=DURATION:PT1H
X-Robots-Tag:noindex
X-PUBLISHED-TTL:PT1H
BEGIN:VTIMEZONE
TZID:America/New_York
BEGIN:DAYLIGHT
TZOFFSETFROM:-0500
TZOFFSETTO:-0400
TZNAME:EDT
DTSTART:20250309T070000
END:DAYLIGHT
BEGIN:STANDARD
TZOFFSETFROM:-0400
TZOFFSETTO:-0500
TZNAME:EST
DTSTART:20251102T060000
END:STANDARD
BEGIN:DAYLIGHT
TZOFFSETFROM:-0500
TZOFFSETTO:-0400
TZNAME:EDT
DTSTART:20260308T070000
END:DAYLIGHT
BEGIN:STANDARD
TZOFFSETFROM:-0400
TZOFFSETTO:-0500
TZNAME:EST
DTSTART:20261101T060000
END:STANDARD
BEGIN:DAYLIGHT
TZOFFSETFROM:-0500
TZOFFSETTO:-0400
TZNAME:EDT
DTSTART:20270314T070000
END:DAYLIGHT
BEGIN:STANDARD
TZOFFSETFROM:-0400
TZOFFSETTO:-0500
TZNAME:EST
DTSTART:20271107T060000
END:STANDARD
END:VTIMEZONE
BEGIN:VEVENT
DTSTART;TZID=America/New_York:20260429T190000
DTEND;TZID=America/New_York:20260429T220000
DTSTAMP:20260424T173820
CREATED:20260119T223244Z
LAST-MODIFIED:20260119T223629Z
UID:10002244-1777489200-1777500000@roxyunk.org
SUMMARY:Open Mic at the Dawson
DESCRIPTION:Sign Up at 7\, music starts at 8
URL:https://roxyunk.org/event/open-mic-at-the-dawson/2026-04-29/
LOCATION:Dawson Street Pub\, Philadelphia\, PA\, 19127\, United States
CATEGORIES:Open Mic,RoxYunk
END:VEVENT
BEGIN:VEVENT
DTSTART;TZID=America/New_York:20260506T190000
DTEND;TZID=America/New_York:20260506T220000
DTSTAMP:20260424T173820
CREATED:20260119T223244Z
LAST-MODIFIED:20260119T223629Z
UID:10002245-1778094000-1778104800@roxyunk.org
SUMMARY:Open Mic at the Dawson
DESCRIPTION:Sign Up at 7\, music starts at 8
URL:https://roxyunk.org/event/open-mic-at-the-dawson/2026-05-06/
LOCATION:Dawson Street Pub\, Philadelphia\, PA\, 19127\, United States
CATEGORIES:Open Mic,RoxYunk
END:VEVENT
BEGIN:VEVENT
DTSTART;TZID=America/New_York:20260513T190000
DTEND;TZID=America/New_York:20260513T220000
DTSTAMP:20260424T173820
CREATED:20260119T223244Z
LAST-MODIFIED:20260119T223629Z
UID:10002246-1778698800-1778709600@roxyunk.org
SUMMARY:Open Mic at the Dawson
DESCRIPTION:Sign Up at 7\, music starts at 8
URL:https://roxyunk.org/event/open-mic-at-the-dawson/2026-05-13/
LOCATION:Dawson Street Pub\, Philadelphia\, PA\, 19127\, United States
CATEGORIES:Open Mic,RoxYunk
END:VEVENT
BEGIN:VEVENT
DTSTART;TZID=America/New_York:20260520T190000
DTEND;TZID=America/New_York:20260520T220000
DTSTAMP:20260424T173820
CREATED:20260119T223244Z
LAST-MODIFIED:20260119T223629Z
UID:10002247-1779303600-1779314400@roxyunk.org
SUMMARY:Open Mic at the Dawson
DESCRIPTION:Sign Up at 7\, music starts at 8
URL:https://roxyunk.org/event/open-mic-at-the-dawson/2026-05-20/
LOCATION:Dawson Street Pub\, Philadelphia\, PA\, 19127\, United States
CATEGORIES:Open Mic,RoxYunk
END:VEVENT
BEGIN:VEVENT
DTSTART;TZID=America/New_York:20260527T190000
DTEND;TZID=America/New_York:20260527T220000
DTSTAMP:20260424T173820
CREATED:20260119T223244Z
LAST-MODIFIED:20260119T223629Z
UID:10002248-1779908400-1779919200@roxyunk.org
SUMMARY:Open Mic at the Dawson
DESCRIPTION:Sign Up at 7\, music starts at 8
URL:https://roxyunk.org/event/open-mic-at-the-dawson/2026-05-27/
LOCATION:Dawson Street Pub\, Philadelphia\, PA\, 19127\, United States
CATEGORIES:Open Mic,RoxYunk
END:VEVENT
BEGIN:VEVENT
DTSTART;TZID=America/New_York:20260603T190000
DTEND;TZID=America/New_York:20260603T220000
DTSTAMP:20260424T173820
CREATED:20260119T223244Z
LAST-MODIFIED:20260119T223629Z
UID:10002249-1780513200-1780524000@roxyunk.org
SUMMARY:Open Mic at the Dawson
DESCRIPTION:Sign Up at 7\, music starts at 8
URL:https://roxyunk.org/event/open-mic-at-the-dawson/2026-06-03/
LOCATION:Dawson Street Pub\, Philadelphia\, PA\, 19127\, United States
CATEGORIES:Open Mic,RoxYunk
END:VEVENT
BEGIN:VEVENT
DTSTART;TZID=America/New_York:20260610T190000
DTEND;TZID=America/New_York:20260610T220000
DTSTAMP:20260424T173820
CREATED:20260119T223244Z
LAST-MODIFIED:20260119T223629Z
UID:10002250-1781118000-1781128800@roxyunk.org
SUMMARY:Open Mic at the Dawson
DESCRIPTION:Sign Up at 7\, music starts at 8
URL:https://roxyunk.org/event/open-mic-at-the-dawson/2026-06-10/
LOCATION:Dawson Street Pub\, Philadelphia\, PA\, 19127\, United States
CATEGORIES:Open Mic,RoxYunk
END:VEVENT
BEGIN:VEVENT
DTSTART;TZID=America/New_York:20260617T190000
DTEND;TZID=America/New_York:20260617T220000
DTSTAMP:20260424T173820
CREATED:20260119T223244Z
LAST-MODIFIED:20260119T223629Z
UID:10002251-1781722800-1781733600@roxyunk.org
SUMMARY:Open Mic at the Dawson
DESCRIPTION:Sign Up at 7\, music starts at 8
URL:https://roxyunk.org/event/open-mic-at-the-dawson/2026-06-17/
LOCATION:Dawson Street Pub\, Philadelphia\, PA\, 19127\, United States
CATEGORIES:Open Mic,RoxYunk
END:VEVENT
BEGIN:VEVENT
DTSTART;TZID=America/New_York:20260624T190000
DTEND;TZID=America/New_York:20260624T220000
DTSTAMP:20260424T173820
CREATED:20260119T223244Z
LAST-MODIFIED:20260119T223629Z
UID:10002252-1782327600-1782338400@roxyunk.org
SUMMARY:Open Mic at the Dawson
DESCRIPTION:Sign Up at 7\, music starts at 8
URL:https://roxyunk.org/event/open-mic-at-the-dawson/2026-06-24/
LOCATION:Dawson Street Pub\, Philadelphia\, PA\, 19127\, United States
CATEGORIES:Open Mic,RoxYunk
END:VEVENT
BEGIN:VEVENT
DTSTART;TZID=America/New_York:20260701T190000
DTEND;TZID=America/New_York:20260701T220000
DTSTAMP:20260424T173820
CREATED:20260119T223244Z
LAST-MODIFIED:20260119T223629Z
UID:10002253-1782932400-1782943200@roxyunk.org
SUMMARY:Open Mic at the Dawson
DESCRIPTION:Sign Up at 7\, music starts at 8
URL:https://roxyunk.org/event/open-mic-at-the-dawson/2026-07-01/
LOCATION:Dawson Street Pub\, Philadelphia\, PA\, 19127\, United States
CATEGORIES:Open Mic,RoxYunk
END:VEVENT
BEGIN:VEVENT
DTSTART;TZID=America/New_York:20260708T190000
DTEND;TZID=America/New_York:20260708T220000
DTSTAMP:20260424T173820
CREATED:20260119T223244Z
LAST-MODIFIED:20260119T223629Z
UID:10002254-1783537200-1783548000@roxyunk.org
SUMMARY:Open Mic at the Dawson
DESCRIPTION:Sign Up at 7\, music starts at 8
URL:https://roxyunk.org/event/open-mic-at-the-dawson/2026-07-08/
LOCATION:Dawson Street Pub\, Philadelphia\, PA\, 19127\, United States
CATEGORIES:Open Mic,RoxYunk
END:VEVENT
BEGIN:VEVENT
DTSTART;TZID=America/New_York:20260715T190000
DTEND;TZID=America/New_York:20260715T220000
DTSTAMP:20260424T173820
CREATED:20260119T223244Z
LAST-MODIFIED:20260119T223629Z
UID:10002255-1784142000-1784152800@roxyunk.org
SUMMARY:Open Mic at the Dawson
DESCRIPTION:Sign Up at 7\, music starts at 8
URL:https://roxyunk.org/event/open-mic-at-the-dawson/2026-07-15/
LOCATION:Dawson Street Pub\, Philadelphia\, PA\, 19127\, United States
CATEGORIES:Open Mic,RoxYunk
END:VEVENT
BEGIN:VEVENT
DTSTART;TZID=America/New_York:20260722T190000
DTEND;TZID=America/New_York:20260722T220000
DTSTAMP:20260424T173820
CREATED:20260119T223244Z
LAST-MODIFIED:20260119T223629Z
UID:10002256-1784746800-1784757600@roxyunk.org
SUMMARY:Open Mic at the Dawson
DESCRIPTION:Sign Up at 7\, music starts at 8
URL:https://roxyunk.org/event/open-mic-at-the-dawson/2026-07-22/
LOCATION:Dawson Street Pub\, Philadelphia\, PA\, 19127\, United States
CATEGORIES:Open Mic,RoxYunk
END:VEVENT
BEGIN:VEVENT
DTSTART;TZID=America/New_York:20260729T190000
DTEND;TZID=America/New_York:20260729T220000
DTSTAMP:20260424T173820
CREATED:20260119T223244Z
LAST-MODIFIED:20260119T223629Z
UID:10002257-1785351600-1785362400@roxyunk.org
SUMMARY:Open Mic at the Dawson
DESCRIPTION:Sign Up at 7\, music starts at 8
URL:https://roxyunk.org/event/open-mic-at-the-dawson/2026-07-29/
LOCATION:Dawson Street Pub\, Philadelphia\, PA\, 19127\, United States
CATEGORIES:Open Mic,RoxYunk
END:VEVENT
BEGIN:VEVENT
DTSTART;TZID=America/New_York:20260805T190000
DTEND;TZID=America/New_York:20260805T220000
DTSTAMP:20260424T173820
CREATED:20260119T223244Z
LAST-MODIFIED:20260119T223629Z
UID:10002258-1785956400-1785967200@roxyunk.org
SUMMARY:Open Mic at the Dawson
DESCRIPTION:Sign Up at 7\, music starts at 8
URL:https://roxyunk.org/event/open-mic-at-the-dawson/2026-08-05/
LOCATION:Dawson Street Pub\, Philadelphia\, PA\, 19127\, United States
CATEGORIES:Open Mic,RoxYunk
END:VEVENT
BEGIN:VEVENT
DTSTART;TZID=America/New_York:20260812T190000
DTEND;TZID=America/New_York:20260812T220000
DTSTAMP:20260424T173820
CREATED:20260119T223244Z
LAST-MODIFIED:20260119T223629Z
UID:10002259-1786561200-1786572000@roxyunk.org
SUMMARY:Open Mic at the Dawson
DESCRIPTION:Sign Up at 7\, music starts at 8
URL:https://roxyunk.org/event/open-mic-at-the-dawson/2026-08-12/
LOCATION:Dawson Street Pub\, Philadelphia\, PA\, 19127\, United States
CATEGORIES:Open Mic,RoxYunk
END:VEVENT
BEGIN:VEVENT
DTSTART;TZID=America/New_York:20260819T190000
DTEND;TZID=America/New_York:20260819T220000
DTSTAMP:20260424T173821
CREATED:20260119T223244Z
LAST-MODIFIED:20260119T223629Z
UID:10002260-1787166000-1787176800@roxyunk.org
SUMMARY:Open Mic at the Dawson
DESCRIPTION:Sign Up at 7\, music starts at 8
URL:https://roxyunk.org/event/open-mic-at-the-dawson/2026-08-19/
LOCATION:Dawson Street Pub\, Philadelphia\, PA\, 19127\, United States
CATEGORIES:Open Mic,RoxYunk
END:VEVENT
BEGIN:VEVENT
DTSTART;TZID=America/New_York:20260826T190000
DTEND;TZID=America/New_York:20260826T220000
DTSTAMP:20260424T173821
CREATED:20260119T223244Z
LAST-MODIFIED:20260119T223629Z
UID:10002261-1787770800-1787781600@roxyunk.org
SUMMARY:Open Mic at the Dawson
DESCRIPTION:Sign Up at 7\, music starts at 8
URL:https://roxyunk.org/event/open-mic-at-the-dawson/2026-08-26/
LOCATION:Dawson Street Pub\, Philadelphia\, PA\, 19127\, United States
CATEGORIES:Open Mic,RoxYunk
END:VEVENT
BEGIN:VEVENT
DTSTART;TZID=America/New_York:20260902T190000
DTEND;TZID=America/New_York:20260902T220000
DTSTAMP:20260424T173821
CREATED:20260119T223244Z
LAST-MODIFIED:20260119T223629Z
UID:10002262-1788375600-1788386400@roxyunk.org
SUMMARY:Open Mic at the Dawson
DESCRIPTION:Sign Up at 7\, music starts at 8
URL:https://roxyunk.org/event/open-mic-at-the-dawson/2026-09-02/
LOCATION:Dawson Street Pub\, Philadelphia\, PA\, 19127\, United States
CATEGORIES:Open Mic,RoxYunk
END:VEVENT
BEGIN:VEVENT
DTSTART;TZID=America/New_York:20260909T190000
DTEND;TZID=America/New_York:20260909T220000
DTSTAMP:20260424T173821
CREATED:20260119T223244Z
LAST-MODIFIED:20260119T223629Z
UID:10002263-1788980400-1788991200@roxyunk.org
SUMMARY:Open Mic at the Dawson
DESCRIPTION:Sign Up at 7\, music starts at 8
URL:https://roxyunk.org/event/open-mic-at-the-dawson/2026-09-09/
LOCATION:Dawson Street Pub\, Philadelphia\, PA\, 19127\, United States
CATEGORIES:Open Mic,RoxYunk
END:VEVENT
BEGIN:VEVENT
DTSTART;TZID=America/New_York:20260916T190000
DTEND;TZID=America/New_York:20260916T220000
DTSTAMP:20260424T173821
CREATED:20260119T223244Z
LAST-MODIFIED:20260119T223629Z
UID:10002264-1789585200-1789596000@roxyunk.org
SUMMARY:Open Mic at the Dawson
DESCRIPTION:Sign Up at 7\, music starts at 8
URL:https://roxyunk.org/event/open-mic-at-the-dawson/2026-09-16/
LOCATION:Dawson Street Pub\, Philadelphia\, PA\, 19127\, United States
CATEGORIES:Open Mic,RoxYunk
END:VEVENT
BEGIN:VEVENT
DTSTART;TZID=America/New_York:20260923T190000
DTEND;TZID=America/New_York:20260923T220000
DTSTAMP:20260424T173821
CREATED:20260119T223244Z
LAST-MODIFIED:20260119T223629Z
UID:10002265-1790190000-1790200800@roxyunk.org
SUMMARY:Open Mic at the Dawson
DESCRIPTION:Sign Up at 7\, music starts at 8
URL:https://roxyunk.org/event/open-mic-at-the-dawson/2026-09-23/
LOCATION:Dawson Street Pub\, Philadelphia\, PA\, 19127\, United States
CATEGORIES:Open Mic,RoxYunk
END:VEVENT
BEGIN:VEVENT
DTSTART;TZID=America/New_York:20260930T190000
DTEND;TZID=America/New_York:20260930T220000
DTSTAMP:20260424T173821
CREATED:20260119T223244Z
LAST-MODIFIED:20260119T223629Z
UID:10002266-1790794800-1790805600@roxyunk.org
SUMMARY:Open Mic at the Dawson
DESCRIPTION:Sign Up at 7\, music starts at 8
URL:https://roxyunk.org/event/open-mic-at-the-dawson/2026-09-30/
LOCATION:Dawson Street Pub\, Philadelphia\, PA\, 19127\, United States
CATEGORIES:Open Mic,RoxYunk
END:VEVENT
BEGIN:VEVENT
DTSTART;TZID=America/New_York:20261007T190000
DTEND;TZID=America/New_York:20261007T220000
DTSTAMP:20260424T173821
CREATED:20260119T223244Z
LAST-MODIFIED:20260119T223629Z
UID:10002267-1791399600-1791410400@roxyunk.org
SUMMARY:Open Mic at the Dawson
DESCRIPTION:Sign Up at 7\, music starts at 8
URL:https://roxyunk.org/event/open-mic-at-the-dawson/2026-10-07/
LOCATION:Dawson Street Pub\, Philadelphia\, PA\, 19127\, United States
CATEGORIES:Open Mic,RoxYunk
END:VEVENT
BEGIN:VEVENT
DTSTART;TZID=America/New_York:20261014T190000
DTEND;TZID=America/New_York:20261014T220000
DTSTAMP:20260424T173821
CREATED:20260119T223244Z
LAST-MODIFIED:20260119T223629Z
UID:10002268-1792004400-1792015200@roxyunk.org
SUMMARY:Open Mic at the Dawson
DESCRIPTION:Sign Up at 7\, music starts at 8
URL:https://roxyunk.org/event/open-mic-at-the-dawson/2026-10-14/
LOCATION:Dawson Street Pub\, Philadelphia\, PA\, 19127\, United States
CATEGORIES:Open Mic,RoxYunk
END:VEVENT
BEGIN:VEVENT
DTSTART;TZID=America/New_York:20261021T190000
DTEND;TZID=America/New_York:20261021T220000
DTSTAMP:20260424T173821
CREATED:20260119T223244Z
LAST-MODIFIED:20260119T223629Z
UID:10002269-1792609200-1792620000@roxyunk.org
SUMMARY:Open Mic at the Dawson
DESCRIPTION:Sign Up at 7\, music starts at 8
URL:https://roxyunk.org/event/open-mic-at-the-dawson/2026-10-21/
LOCATION:Dawson Street Pub\, Philadelphia\, PA\, 19127\, United States
CATEGORIES:Open Mic,RoxYunk
END:VEVENT
BEGIN:VEVENT
DTSTART;TZID=America/New_York:20261028T190000
DTEND;TZID=America/New_York:20261028T220000
DTSTAMP:20260424T173821
CREATED:20260119T223244Z
LAST-MODIFIED:20260119T223629Z
UID:10002270-1793214000-1793224800@roxyunk.org
SUMMARY:Open Mic at the Dawson
DESCRIPTION:Sign Up at 7\, music starts at 8
URL:https://roxyunk.org/event/open-mic-at-the-dawson/2026-10-28/
LOCATION:Dawson Street Pub\, Philadelphia\, PA\, 19127\, United States
CATEGORIES:Open Mic,RoxYunk
END:VEVENT
BEGIN:VEVENT
DTSTART;TZID=America/New_York:20261104T190000
DTEND;TZID=America/New_York:20261104T220000
DTSTAMP:20260424T173821
CREATED:20260119T223244Z
LAST-MODIFIED:20260119T223629Z
UID:10002271-1793818800-1793829600@roxyunk.org
SUMMARY:Open Mic at the Dawson
DESCRIPTION:Sign Up at 7\, music starts at 8
URL:https://roxyunk.org/event/open-mic-at-the-dawson/2026-11-04/
LOCATION:Dawson Street Pub\, Philadelphia\, PA\, 19127\, United States
CATEGORIES:Open Mic,RoxYunk
END:VEVENT
BEGIN:VEVENT
DTSTART;TZID=America/New_York:20261111T190000
DTEND;TZID=America/New_York:20261111T220000
DTSTAMP:20260424T173821
CREATED:20260119T223244Z
LAST-MODIFIED:20260119T223629Z
UID:10002272-1794423600-1794434400@roxyunk.org
SUMMARY:Open Mic at the Dawson
DESCRIPTION:Sign Up at 7\, music starts at 8
URL:https://roxyunk.org/event/open-mic-at-the-dawson/2026-11-11/
LOCATION:Dawson Street Pub\, Philadelphia\, PA\, 19127\, United States
CATEGORIES:Open Mic,RoxYunk
END:VEVENT
BEGIN:VEVENT
DTSTART;TZID=America/New_York:20261118T190000
DTEND;TZID=America/New_York:20261118T220000
DTSTAMP:20260424T173821
CREATED:20260119T223244Z
LAST-MODIFIED:20260119T223629Z
UID:10002273-1795028400-1795039200@roxyunk.org
SUMMARY:Open Mic at the Dawson
DESCRIPTION:Sign Up at 7\, music starts at 8
URL:https://roxyunk.org/event/open-mic-at-the-dawson/2026-11-18/
LOCATION:Dawson Street Pub\, Philadelphia\, PA\, 19127\, United States
CATEGORIES:Open Mic,RoxYunk
END:VEVENT
END:VCALENDAR