BEGIN:VCALENDAR
VERSION:2.0
PRODID:-//RoxYunk.Org - ECPv6.15.20//NONSGML v1.0//EN
CALSCALE:GREGORIAN
METHOD:PUBLISH
X-WR-CALNAME:RoxYunk.Org
X-ORIGINAL-URL:https://roxyunk.org
X-WR-CALDESC:Events for RoxYunk.Org
REFRESH-INTERVAL;VALUE=DURATION:PT1H
X-Robots-Tag:noindex
X-PUBLISHED-TTL:PT1H
BEGIN:VTIMEZONE
TZID:America/New_York
BEGIN:DAYLIGHT
TZOFFSETFROM:-0500
TZOFFSETTO:-0400
TZNAME:EDT
DTSTART:20250309T070000
END:DAYLIGHT
BEGIN:STANDARD
TZOFFSETFROM:-0400
TZOFFSETTO:-0500
TZNAME:EST
DTSTART:20251102T060000
END:STANDARD
BEGIN:DAYLIGHT
TZOFFSETFROM:-0500
TZOFFSETTO:-0400
TZNAME:EDT
DTSTART:20260308T070000
END:DAYLIGHT
BEGIN:STANDARD
TZOFFSETFROM:-0400
TZOFFSETTO:-0500
TZNAME:EST
DTSTART:20261101T060000
END:STANDARD
BEGIN:DAYLIGHT
TZOFFSETFROM:-0500
TZOFFSETTO:-0400
TZNAME:EDT
DTSTART:20270314T070000
END:DAYLIGHT
BEGIN:STANDARD
TZOFFSETFROM:-0400
TZOFFSETTO:-0500
TZNAME:EST
DTSTART:20271107T060000
END:STANDARD
END:VTIMEZONE
BEGIN:VEVENT
DTSTART;TZID=America/New_York:20260423T180000
DTEND;TZID=America/New_York:20260423T200000
DTSTAMP:20260425T075654
CREATED:20260420T181800Z
LAST-MODIFIED:20260420T182548Z
UID:10002814-1776967200-1776974400@roxyunk.org
SUMMARY:Abstract Landscape Collage Workshop at Art On The Ridge Gallery
DESCRIPTION:Grab a friend or come solo and meet new creative faces at this relaxed\, hands-on workshop! \nPlay\, experiment\, and create your own abstract landscape collage using found and painted papers. Explore color\, composition\, and texture as you cut\, tear\, and arrange your way to a one-of-a-kind piece. \nNo experience needed—just bring your curiosity and get ready to make something uniquely yours.
URL:https://roxyunk.org/event/abstract-landscape-collage-workshop-at-art-on-the-ridge-gallery/
LOCATION:Art On The Ridge\, 6133 Ridge Ave.\, Philadelphia\, PA\, 19128\, United States
ATTACH;FMTTYPE=image/jpeg:https://roxyunk.org/wp-content/uploads/2026/04/original.jpeg
END:VEVENT
BEGIN:VEVENT
DTSTART;TZID=America/New_York:20260423T190000
DTEND;TZID=America/New_York:20260423T210000
DTSTAMP:20260425T075654
CREATED:20260309T221913Z
LAST-MODIFIED:20260316T211121Z
UID:10002685-1776970800-1776978000@roxyunk.org
SUMMARY:Bingo at The Rook
DESCRIPTION:
URL:https://roxyunk.org/event/bingo/2026-04-23/
LOCATION:The Rook\, 4001 Cresson\, Philadelphia\, PA\, 19127\, United States
END:VEVENT
BEGIN:VEVENT
DTSTART;TZID=America/New_York:20260423T190000
DTEND;TZID=America/New_York:20260423T210000
DTSTAMP:20260425T075654
CREATED:20260423T230034Z
LAST-MODIFIED:20260423T230034Z
UID:10002900-1776970800-1776978000@roxyunk.org
SUMMARY:PFS and MAC present Voices for Democracy at the Fallser
DESCRIPTION:PFS & MAC Present Voices for Democracy \nDrawing on the deep roots of the American folk song movement — where music has long served as a catalyst for courage\, unity\, and social change — Voices for Democracy brings together more than a dozen Philadelphia‑area artists for an evening of powerful performances. Through song\, story\, and community connection\, the event aims to inspire awareness\, solidarity\, and action around the social issues and injustices facing our communities today. \nIn the spirit of folk tradition and community stewardship\, all proceeds from the event will directly support The Fallser Club\, a sustainable nonprofit venue dedicated to expanding access to music\, arts\, and inclusive gathering spaces in the East Falls neighborhood. \nSpring Thing 2026
URL:https://roxyunk.org/event/pfs-and-mac-present-voices-for-democracy-at-the-fallser/
LOCATION:The Fallser Club\, 3721 Midvale Avenue\, Philadelphia\, PA\, 19129\, United States
CATEGORIES:community,East Falla,Live Music
END:VEVENT
BEGIN:VEVENT
DTSTART;TZID=America/New_York:20260423T193000
DTEND;TZID=America/New_York:20260423T210000
DTSTAMP:20260425T075654
CREATED:20260423T224952Z
LAST-MODIFIED:20260423T225136Z
UID:10002898-1776972600-1776978000@roxyunk.org
SUMMARY:Davy Knowles\, Live Blues at VIPARC
DESCRIPTION:Whether playing acoustic\, mandolin\, National steel\, or screaming electric guitar\, Davy Knowles has an unmistakable style. Since bursting onto the scene with Back Door Slam’s critically acclaimed 2007 album Roll Away (“I heard the spirit ofJimi Hendrix” — Patrick McDonald\, Seattle Times)\, Knowles released Coming Up for Air\, produced by Peter Frampton.  \nHe has shared the stage with Jeff Beck\, The Who\, Joe Bonamassa\, Lynyrd Skynyrd\, George Thorogood\, Chickenfoot\, and Joe Satriani\, who called Davy “My favorite modern Bluesman.”  \nKnowles has several Top 5 Billboard Blues charting albums and TV appearances including Jimmy Kimmel Live and CBS Good Morning America. He was the first artist to perform live to the International Space Station from mission control in Houston\, TX. \nTickets: $39.19  \nBuy tickets and learn more at https://www.eventbrite.com/e/davy-knowles-venice-island-performance-center-tickets-1985401262622?aff=oddtdtcreator
URL:https://roxyunk.org/event/davy-knowles-live-blues-at-viparc/
LOCATION:Venice Island Performing Arts Center
CATEGORIES:Live Music,RoxYunk
ATTACH;FMTTYPE=image/png:https://roxyunk.org/wp-content/uploads/2026/04/Davy-Knowles-Venice-Island-Flyer.png
END:VEVENT
BEGIN:VEVENT
DTSTART;TZID=America/New_York:20260423T200000
DTEND;TZID=America/New_York:20260423T230000
DTSTAMP:20260425T075654
CREATED:20260423T225537Z
LAST-MODIFIED:20260423T225721Z
UID:10002899-1776974400-1776985200@roxyunk.org
SUMMARY:Tell All Your Friends at the Grape Room
DESCRIPTION:
URL:https://roxyunk.org/event/tell-all-your-friends-at-the-grape-room/
LOCATION:Grape Room\, 105 Grape Street
CATEGORIES:Live Music,RoxYunk
END:VEVENT
BEGIN:VEVENT
DTSTART;TZID=America/New_York:20260424T090000
DTEND;TZID=America/New_York:20260424T120000
DTSTAMP:20260425T075654
CREATED:20260423T231022Z
LAST-MODIFIED:20260423T231059Z
UID:10002904-1777021200-1777032000@roxyunk.org
SUMMARY:The Wissahickon in April with Debbie Hoellein\, Jim McClory\, and Terry Fowler
DESCRIPTION:Meeting at Magdalena Street & Walnut Lane (639 Walnut Lane)\nDistance: 4 miles\nDifficulty Level: Difficult (many inclines and declines\, uneven surfaces)\nAudience: Ages 12+\nParking: There is plenty of parking in the lot on across from the Walnut Lane Golf Club.\nRestrooms: The bathrooms at Walnut Lane Golf Club will be available to use at the start and end of our hike. \nJoin Debbie\, Jim\, and Terry on a mid Spring hike. There is so much to see in terms of flora at this time of year\, including some spring ephemerals! We’ll observe what the frogs are doing at the frog pond\, as well as learn why the frog pond is there. Crossing 2 bridges\, we’ll see some points of historical interest. Our route is about 4 miles and we expect to spend about 3 hours on the trails. \nThe hike includes some rocky terrain\, including a particularly rocky downhill\, so be prepared. Children 12 years of age and older are welcome when accompanied by an adult\, but please—no dogs except for service animals. \nRegistration is required for all events so that participants can be informed of weather or other emergency cancellations. Unless otherwise specified\, Trail Ambassador Walks may be on rocky\, rugged trails that may be wet and slippery. Wear sturdy shoes or boots with socks. Walks are cancelled in heavy rain or icy conditions. Service animals are always welcome. For more information contact Marisa Miller at miller@fow.org. \nRegister at https://fow.org/event/the-wissahickon-in-april-with-debbie-hoellein-jim-mcclory-and-terry-fowler/
URL:https://roxyunk.org/event/the-wissahickon-in-april-with-debbie-hoellein-jim-mcclory-and-terry-fowler/
CATEGORIES:Outdoor Activity
ATTACH;FMTTYPE=image/jpeg:https://roxyunk.org/wp-content/uploads/2026/04/naylor_wildlife_2-1024x683-1.jpg
END:VEVENT
BEGIN:VEVENT
DTSTART;TZID=America/New_York:20260424T190000
DTEND;TZID=America/New_York:20260424T210000
DTSTAMP:20260425T075654
CREATED:20260130T175921Z
LAST-MODIFIED:20260130T175921Z
UID:10002370-1777057200-1777064400@roxyunk.org
SUMMARY:Quidnunk and Friends Free Live Music at the Foodery
DESCRIPTION:
URL:https://roxyunk.org/event/quidnunk-and-friends-free-live-music-at-the-foodery/2026-04-24/
LOCATION:The Foodery on Ridge\, 6148 Ridge Ave\, Philadelphia\, PA\, 19128\, United States
END:VEVENT
BEGIN:VEVENT
DTSTART;TZID=America/New_York:20260424T193000
DTEND;TZID=America/New_York:20260424T220000
DTSTAMP:20260425T075655
CREATED:20260423T230542Z
LAST-MODIFIED:20260423T230542Z
UID:10002902-1777059000-1777068000@roxyunk.org
SUMMARY:Allie and Tim at the Fallser Club
DESCRIPTION:Allie & Tim is a dynamic acoustic duo blending powerhouse vocals with masterful guitar work across the South Jersey and Philadelphia music scene. Since 2021\, the pair has been bringing their signature sound to local venues\, private events\, and community stages with a mix of heart\, harmony\, and high-level musicianship. \nTogether\, Allie & Tim create an engaging live experience that keeps audiences coming back for more. Whether performing crowd favorites or stripped-down classics\, they bring warmth\, professionalism\, and passion to every stage they step on. \nAllie Boyle\, a proud Fallser born and raised\, discovered her love of music singing just up the street at St. Bridget’s\, where she still sings regularly. A professional singer and actor\, Allie performs locally in theater productions\, at sporting events\, acoustic duos\, and as a vocalist with The Slippery Band. In addition to performing\, she is a dedicated voice teacher\, helping the next generation of singers find their sound and confidence. \nFollow Allie on instagram @aboyle728 \nTim Poole\, a South Jersey native\, has been playing guitar for over 20 years and is the lead guitarist of The Slippery Band. Tim is a music “jack of all trades” who also produces music and teaches guitar in his spare time. He hosts the popular Thursday Night Poole Party Open Mic every week at Dr. Brewlittle’s in Maple Shade\, NJ where he fosters community and showcases local talent. \nFollow Tim on instagram @timpoolemusic
URL:https://roxyunk.org/event/allie-and-tim-at-the-fallser-club/
LOCATION:The Fallser Club\, 3721 Midvale Avenue\, Philadelphia\, PA\, 19129\, United States
CATEGORIES:East Falla,Live Music
ATTACH;FMTTYPE=image/webp:https://roxyunk.org/wp-content/uploads/2026/04/allie-and-tim.webp
END:VEVENT
BEGIN:VEVENT
DTSTART;TZID=America/New_York:20260424T200000
DTEND;TZID=America/New_York:20260424T233000
DTSTAMP:20260425T075655
CREATED:20260423T230315Z
LAST-MODIFIED:20260423T230315Z
UID:10002901-1777060800-1777073400@roxyunk.org
SUMMARY:The Hollow Truths\, Haha Charade\, BEES!\, Delcobras at the Grape
DESCRIPTION:
URL:https://roxyunk.org/event/the-hollow-truths-haha-charade-bees-delcobras-at-the-grape/
LOCATION:Grape Room\, 105 Grape Street
CATEGORIES:Live Music,RoxYunk
END:VEVENT
BEGIN:VEVENT
DTSTART;TZID=America/New_York:20260424T200000
DTEND;TZID=America/New_York:20260424T233000
DTSTAMP:20260425T075655
CREATED:20260423T230722Z
LAST-MODIFIED:20260423T230722Z
UID:10002903-1777060800-1777073400@roxyunk.org
SUMMARY:Ms. J and the Cresson Street Band\, Floating\, and Justin Kerecz at Dawson Street
DESCRIPTION:
URL:https://roxyunk.org/event/ms-j-and-the-cresson-street-band-floating-and-justin-kerecz-at-dawson-street/
LOCATION:Dawson Street Pub\, Philadelphia\, PA\, 19127\, United States
CATEGORIES:Live Music,RoxYunk
END:VEVENT
BEGIN:VEVENT
DTSTART;TZID=America/New_York:20260425T090000
DTEND;TZID=America/New_York:20260425T090000
DTSTAMP:20260425T075655
CREATED:20260423T232820Z
LAST-MODIFIED:20260423T232837Z
UID:10002910-1777107600-1777107600@roxyunk.org
SUMMARY:FOW Earth Day Clean Up
DESCRIPTION:Meeting at Ten Box\nParking: Park at Historic RittenhouseTown or along nearby neighborhood streets and walk down the paved path marked on this Google map to our meeting location.\nBathrooms: None \nJoin Friends of the Wissahickon and our upstream partners Wissahickon Trails for our annual Creek Clean-Up\, this year in celebration of both Earth Day and Celebrate Trails Day! We’ll be meeting at Ten Box and cleaning up litter along the south end of Wissahickon Creek\, as well as along the bike bridges and paved path that runs parallel to Lincoln Drive from Forbidden Drive to Ridge Avenue. \nAll are welcome to attend\, and no experience is needed. We encourage attendees to work within their own comfort level\, and we always strive to accommodate needs on an individual basis. With that being said\, this service day will primarily entail picking up litter with trash grabbers. \nWe provide gloves\, tools\, and instruction–you just need to show up! Be sure to wear sturdy footwear and long pants\, and remember to bring water with you. Detailed information and confirmation of the meeting location will be sent by email one business day before the event. If you are hoping to bring a group of 5 or more people\, please reach out to us first. For more information contact Marisa Miller at miller@fow.org. \nRegister at https://fow.org/event/earth-day-creek-clean-up-2026/ \nPhoto courtesy of William Hoffman
URL:https://roxyunk.org/event/fow-earth-day-clean-up/
LOCATION:Wissahickon Park
ATTACH;FMTTYPE=image/jpeg:https://roxyunk.org/wp-content/uploads/2026/04/william-hoffmann-henry-ave-bridge-bike-path-summer-1024x682-1.jpg
END:VEVENT
BEGIN:VEVENT
DTSTART;TZID=America/New_York:20260425T100000
DTEND;TZID=America/New_York:20260425T120000
DTSTAMP:20260425T075655
CREATED:20260423T231943Z
LAST-MODIFIED:20260423T231943Z
UID:10002907-1777111200-1777118400@roxyunk.org
SUMMARY:Repair Fair with Philly Fixers at the Roxborough Library
DESCRIPTION:Bring a broken household item to our Repair Fair! You will be paired with a Fixer and will work together to learn troubleshooting and repair skills. Anything you can carry is fair game. This program is free but we ask that you pre-register for a time slot using the registration link above. This program runs from 10:00 a.m. to 12:00 p.m.\, is offered by the Philly Fixers Guild which is a volunteer run organization
URL:https://roxyunk.org/event/repair-fair-with-philly-fixers-at-the-roxborough-library/
LOCATION:Roxborough Library\, 6245 Ridge Avenue
CATEGORIES:All Ages,community,RoxYunk
END:VEVENT
BEGIN:VEVENT
DTSTART;TZID=America/New_York:20260425T103000
DTEND;TZID=America/New_York:20260425T113000
DTSTAMP:20260425T075655
CREATED:20260423T232059Z
LAST-MODIFIED:20260423T232349Z
UID:10002908-1777113000-1777116600@roxyunk.org
SUMMARY:Stevie the Inventors Build A Bot Class at YMCA
DESCRIPTION:Get ready for an exciting hands-on STEM experience where kids become inventors! Join Stevie The Inventor for a fun-filled class where children will build their very own motorized robot\, learn beginner engineering skills.
URL:https://roxyunk.org/event/stevie-the-inventors-build-a-bot-class-at-ymca/
LOCATION:Roxborough YMCA\, 7201 Ridge Ave.\, Philadelphia\, PA\, 19128\, United States
CATEGORIES:All Ages,For kids,Free,RoxYunk
END:VEVENT
BEGIN:VEVENT
DTSTART;TZID=America/New_York:20260425T150000
DTEND;TZID=America/New_York:20260425T160000
DTSTAMP:20260425T075655
CREATED:20260423T231721Z
LAST-MODIFIED:20260423T231721Z
UID:10002906-1777129200-1777132800@roxyunk.org
SUMMARY:Read to a Therapy Dog at the Roxborough Library
DESCRIPTION:Boost your confidence by reading to Lady\, a certified therapy dog from Comfort Caring Canines!  \nPractice your reading skills in a judgement-free zone and make sure to pet Lady when you are done. Each child will have up to ten minutes to read aloud. Space may be  limited; first come\, first served.
URL:https://roxyunk.org/event/read-to-a-therapy-dog-at-the-roxborough-library/
LOCATION:Roxborough Library\, 6245 Ridge Avenue
CATEGORIES:All Ages,For kids,RoxYunk
END:VEVENT
BEGIN:VEVENT
DTSTART;TZID=America/New_York:20260425T173000
DTEND;TZID=America/New_York:20260425T200000
DTSTAMP:20260425T075655
CREATED:20260423T234131Z
LAST-MODIFIED:20260423T234131Z
UID:10002914-1777138200-1777147200@roxyunk.org
SUMMARY:Free To Be  - Suessical
DESCRIPTION:Performance time: 6pm  (Doors open at 5:30pm)\nTicket price: $10 for Children\, $15 for Adults \nDescription of Performance: Musical theater production of Seussical the Musical for kids \nWebsite: www.freetobepac.com
URL:https://roxyunk.org/event/free-to-be-suessical/
LOCATION:Venice Island Performing Arts Center
CATEGORIES:All Ages,For kids,Theater
END:VEVENT
BEGIN:VEVENT
DTSTART;TZID=America/New_York:20260425T193000
DTEND;TZID=America/New_York:20260425T223000
DTSTAMP:20260425T075655
CREATED:20260423T233227Z
LAST-MODIFIED:20260423T233227Z
UID:10002911-1777145400-1777156200@roxyunk.org
SUMMARY:Laura Mann and Cliff Hills at the Fallser Club
DESCRIPTION:Laura Mann \nLaura Mann is an award-winning singer-songwriter and former Star Search performer who has shared the stage with legends like Warren Zevon\, Dave Mason\, and Ronnie Spector. She has collaborated with renowned artists\, including Robert Hazard\, Eric Bazilian\, and Dan Navarro. \nFounder of the award-winning venue The Living Room\, Laura now returns to the stage with the same passion and authenticity that have defined her career—because for her\, it’s always been about the music. \nhttps://lauramann.com/ \nhttps://www.instagram.com/laura_mann_music/ \nhttps://www.facebook.com/laura.mann.336 \nCliff Hillis \nCliff Hillis is an award winning singer/songwriter based in the Philadelphia area whose music evokes the sunny pop of the 70’s and has garnered national radio airplay. Hillis has co-written with critically acclaimed songwriters such as Rhett Miller\, Aaron Lee Tasjan\, Kelley Ryan and Dan Bern. \nTracks from the new album “Be The Now” have been getting airplay on Triple A radio stations such as 88.5 WXPN\, 89.7 WTMD and 90.5 The Night. \nWhen he’s not recording and producing albums for himself and others in his studio\, Hillis also tours with various bands including Smash Palace\, David Uosikkinen’s “In The Pocket”\, Patty Smyth as well as The Orchestra (featuring former E.L.O. members). \n“You know who’s really good? Cliff Hillis.”  \n— Rhett Miller (singer/songwriter Old 97’s)  \n“I LOVE this! You two sound terrific together & what a great song.”  \n— Legendary producer & songwriter Don Dixon (in reaction to the Kelley Ryan co-write “Good Morning and Goodnight”) \n \nhttps://cliffhillis.com/ \nYouTube \nFacebook
URL:https://roxyunk.org/event/laura-mann-and-cliff-hills-at-the-fallser-club/
LOCATION:The Fallser Club\, 3721 Midvale Avenue\, Philadelphia\, PA\, 19129\, United States
CATEGORIES:East Falla,Live Music
ATTACH;FMTTYPE=image/webp:https://roxyunk.org/wp-content/uploads/2026/04/cliff-and-laura.webp
END:VEVENT
BEGIN:VEVENT
DTSTART;TZID=America/New_York:20260425T200000
DTEND;TZID=America/New_York:20260425T233000
DTSTAMP:20260425T075655
CREATED:20260423T232519Z
LAST-MODIFIED:20260423T232519Z
UID:10002909-1777147200-1777159800@roxyunk.org
SUMMARY:Sleep Cycles\, Dead Wrong\, Team Goldie\, With Abandon at the Grape
DESCRIPTION:
URL:https://roxyunk.org/event/sleep-cycles-dead-wrong-team-goldie-with-abandon-at-the-grape/
LOCATION:Grape Room\, 105 Grape Street
CATEGORIES:Live Music,RoxYunk
END:VEVENT
BEGIN:VEVENT
DTSTART;TZID=America/New_York:20260425T200000
DTEND;TZID=America/New_York:20260425T233000
DTSTAMP:20260425T075655
CREATED:20260423T233411Z
LAST-MODIFIED:20260423T233411Z
UID:10002912-1777147200-1777159800@roxyunk.org
SUMMARY:Bitchfork\, Caroline Quinn\, and Fiona McHugh at Dawson Street
DESCRIPTION:
URL:https://roxyunk.org/event/bitchfork-caroline-quinn-and-fiona-mchugh-at-dawson-street/
LOCATION:Dawson Street Pub\, Philadelphia\, PA\, 19127\, United States
CATEGORIES:Live Music,RoxYunk
END:VEVENT
BEGIN:VEVENT
DTSTART;TZID=America/New_York:20260425T230000
DTEND;TZID=America/New_York:20260425T230000
DTSTAMP:20260425T075655
CREATED:20260423T233816Z
LAST-MODIFIED:20260423T233902Z
UID:10002913-1777158000-1777158000@roxyunk.org
SUMMARY:DJ Luv at the Grape Room
DESCRIPTION:
URL:https://roxyunk.org/event/dj-luv-at-the-grape-room/
LOCATION:Grape Room\, 105 Grape Street
CATEGORIES:Music related,South Philly
END:VEVENT
BEGIN:VEVENT
DTSTART;TZID=America/New_York:20260426T090000
DTEND;TZID=America/New_York:20260426T120000
DTSTAMP:20260425T075655
CREATED:20260423T234609Z
LAST-MODIFIED:20260423T234609Z
UID:10002916-1777194000-1777204800@roxyunk.org
SUMMARY:Sunday Volunteer Service with David Bower
DESCRIPTION:Meeting at Thomas Mansion (6245 Wissahickon Ave)\nParking: Please park on Wissahickon Avenue or the surrounding neighborhood streets rather than the Thomas Mansion driveway. See map for details.\nBathrooms: There will be bathroom access at the mansion during the service day. \nWould you like to be part of keeping Wissahickon Valley Park beautiful and sustainable? Then join longtime Wissahickon steward David Bower and his dedicated team of Crew Leaders and Trail Ambassadors for a variety of stewardship tasks! \nAll are welcome to attend\, and no experience is needed. We encourage attendees to work within their own comfort level\, and we always strive to accommodate needs on an individual basis. With that being said\, this service day may include the following activities: \n• Trail work: using long-handled tools for scraping\, digging\, tamping\, and cutting; moving heavy objects\n• Planting site maintenance: using long handled tools for cutting\, scraping\, and digging\n• Invasive plant removal: bending over\, using long handled tools for cutting vines\n• Litter clean-up \nWe provide gloves\, tools\, and instruction–you just need to show up! Be sure to wear sturdy footwear and long pants\, and remember to bring water with you. Detailed information and confirmation of the meeting location will be sent by email one business day before the event. If you are hoping to bring a group of 5 or more people\, please reach out to us first. \nRegistration is required for all volunteer service days so that participants can be informed of emergency cancellations. Service days are cancelled in steady precipitation or other dangerous weather conditions. \nFor more information contact Marisa Miller at miller@fow.org. \nRegister at https://fow.org/event/sunday-volunteer-service-with-david-bower-04-26-2026/
URL:https://roxyunk.org/event/sunday-volunteer-service-with-david-bower/
LOCATION:Wissahickon Park
CATEGORIES:Outdoor Activity
ATTACH;FMTTYPE=image/webp:https://roxyunk.org/wp-content/uploads/2026/04/jim-dugan-thomas-mansion-stewardship-scaled-1-1024x771-1.webp
END:VEVENT
BEGIN:VEVENT
DTSTART;TZID=America/New_York:20260426T110000
DTEND;TZID=America/New_York:20260426T130000
DTSTAMP:20260425T075655
CREATED:20260423T235051Z
LAST-MODIFIED:20260423T235051Z
UID:10002918-1777201200-1777208400@roxyunk.org
SUMMARY:Chilladelphia at Art On The Ridge Gallery
DESCRIPTION:
URL:https://roxyunk.org/event/chilladelphia-at-art-on-the-ridge-gallery-2/
LOCATION:Art On The Ridge\, 6133 Ridge Ave.\, Philadelphia\, PA\, 19128\, United States
CATEGORIES:All Ages,Live Music,RoxYunk
END:VEVENT
BEGIN:VEVENT
DTSTART;TZID=America/New_York:20260426T130000
DTEND;TZID=America/New_York:20260426T160000
DTSTAMP:20260425T075655
CREATED:20260413T145342Z
LAST-MODIFIED:20260413T145342Z
UID:10002788-1777208400-1777219200@roxyunk.org
SUMMARY:Come celebrate National Poetry Month at Manayunk-Roxborough Art Center as poets Peter Krok\, Cleveland Wall and Steve Delia Read From Their Work
DESCRIPTION:Dears\,\n\n\n    Sunday\, April 26th at 1:00 p.m. at 419 Green Lane (rear)\, Philadelphia\, PA 19128.\n    Light refreshments\, “Open mic\,” suggested donation $5.\n    Street parking is usually available nearby and there are municipal lots within walking distance.\n    See the attached for more about the poets.\n    Hoping to see you then\,\n    David
URL:https://roxyunk.org/event/come-celebrate-national-poetry-month-at-manayunk-roxborough-art-center-as-poets-peter-krok-cleveland-wall-and-steve-delia-read-from-their-work/
LOCATION:Manayunk Roxborough Arts Center\, 419 Green Lane\, Philadelphia\, PA\, 19128\, United States
END:VEVENT
BEGIN:VEVENT
DTSTART;TZID=America/New_York:20260426T150000
DTEND;TZID=America/New_York:20260426T170000
DTSTAMP:20260425T075655
CREATED:20260423T234251Z
LAST-MODIFIED:20260423T234251Z
UID:10002915-1777215600-1777222800@roxyunk.org
SUMMARY:Songwriter’s Circle at the Foodery On Ridge
DESCRIPTION:
URL:https://roxyunk.org/event/songwriters-circle-at-the-foodery-on-ridge/
LOCATION:The Foodery on Ridge\, 6148 Ridge Ave\, Philadelphia\, PA\, 19128\, United States
CATEGORIES:All Ages,Live Music,Open Jam,RoxYunk
END:VEVENT
BEGIN:VEVENT
DTSTART;TZID=America/New_York:20260426T180000
DTEND;TZID=America/New_York:20260426T220000
DTSTAMP:20260425T075655
CREATED:20260227T152037Z
LAST-MODIFIED:20260227T152037Z
UID:10002563-1777226400-1777240800@roxyunk.org
SUMMARY:Grape Room Open Mic!
DESCRIPTION:THE FREE WEEKLY EVENTS OF THE OPEN VARIETY ARE BACK AT THE GRAPE!!!!!🚨 \nSunday?! yup. with open mic music hosted by @ethanzcain. sign ups are IN PERSON at SIX PM on a CLIPBOARD. the host will announce when it goes out. 15 minute sets or 3 songs\, whatever comes first. Music only. \nMonday we’re closed because we need a day to maybe sleep and probably do some work in there\, and that’s gonna be the case every week. \nTuesdays we’re back with open mic comedy. Check back weekly for who is hosting! @sylisp usually knows. \nWednesday is a Grape signature – @thegrapeopenjam. A sorely missed staple and it’s cool to watch\, and you can participate! Let’s get weird. BYO instrument unless you can’t! Drummers BYO sticks! \nMore info to come on literally everything. We are just getting started and you should be so\, so excited. \nGET TO THE GRAPE.
URL:https://roxyunk.org/event/grape-room-open-mic/2026-04-26/
LOCATION:Grape Room\, 105 Grape Street
END:VEVENT
BEGIN:VEVENT
DTSTART;TZID=America/New_York:20260426T190000
DTEND;TZID=America/New_York:20260426T213000
DTSTAMP:20260425T075655
CREATED:20260423T234735Z
LAST-MODIFIED:20260423T234735Z
UID:10002917-1777230000-1777239000@roxyunk.org
SUMMARY:Jazz Night at Dawson with Eric Sayles
DESCRIPTION:
URL:https://roxyunk.org/event/jazz-night-at-dawson-with-eric-sayles-2/
LOCATION:Dawson Street Pub\, Philadelphia\, PA\, 19127\, United States
CATEGORIES:Free,Live Music,RoxYunk
END:VEVENT
BEGIN:VEVENT
DTSTART;VALUE=DATE:20260427
DTEND;VALUE=DATE:20260428
DTSTAMP:20260425T075655
CREATED:20260423T235609Z
LAST-MODIFIED:20260423T235609Z
UID:10002919-1777248000-1777334399@roxyunk.org
SUMMARY:Furnace Party Anniversary
DESCRIPTION:
URL:https://roxyunk.org/event/furnace-party-anniversary/
ATTACH;FMTTYPE=image/jpeg:https://roxyunk.org/wp-content/uploads/2026/04/furnace.jpg
END:VEVENT
BEGIN:VEVENT
DTSTART;TZID=America/New_York:20260427T183000
DTEND;TZID=America/New_York:20260427T210000
DTSTAMP:20260425T075655
CREATED:20260130T181659Z
LAST-MODIFIED:20260130T181907Z
UID:10002429-1777314600-1777323600@roxyunk.org
SUMMARY:Trivia Night at Twisted Ginger with Brewtanant Dan
DESCRIPTION:
URL:https://roxyunk.org/event/trivia-night-at-twisted-ginger-with-brewtanant-dan/2026-04-27/
LOCATION:Twisted Gingers\, 4317 Fleming\, Philadelphia\, PA\, 19128\, United States
ATTACH;FMTTYPE=image/jpeg:https://roxyunk.org/wp-content/uploads/2026/01/Twisted-Ginger-Trivia.jpg
END:VEVENT
BEGIN:VEVENT
DTSTART;TZID=America/New_York:20260427T183000
DTEND;TZID=America/New_York:20260427T220000
DTSTAMP:20260425T075655
CREATED:20260106T150430Z
LAST-MODIFIED:20260107T020441Z
UID:10001994-1777314600-1777327200@roxyunk.org
SUMMARY:Open Mic at Wissahickon Brewing
DESCRIPTION:What’s not to love about this? \n1 – Open Mics are amazing. Like an epic journey into the human psyche. The community that gathers around a good open mic (like this one) is manna to the soul. \n2 –  The brewery is terrific. Top Notch Beer and a great selection of food trucks. Breakfast! \n3 – You get to hear trains! \n 
URL:https://roxyunk.org/event/open-mic-at-wissahickon-brewing/2026-04-27/
LOCATION:Wissahickon Brewing Company\, 3705 W. Schoolhouse Lane\, Philadelphia\, PA\, United States
CATEGORIES:East Falla,Music related,Open Mic
ATTACH;FMTTYPE=image/png:https://roxyunk.org/wp-content/uploads/2026/01/wissahickon-brewing-company-monday-open-mic-night-277878629.png
END:VEVENT
BEGIN:VEVENT
DTSTART;TZID=America/New_York:20260427T190000
DTEND;TZID=America/New_York:20260427T220000
DTSTAMP:20260425T075655
CREATED:20260309T221722Z
LAST-MODIFIED:20260316T212228Z
UID:10002633-1777316400-1777327200@roxyunk.org
SUMMARY:Quizzo at The Rook
DESCRIPTION:
URL:https://roxyunk.org/event/quizzo/2026-04-27/
LOCATION:The Rook\, 4001 Cresson\, Philadelphia\, PA\, 19127\, United States
CATEGORIES:Bar Games,RoxYunk
END:VEVENT
BEGIN:VEVENT
DTSTART;TZID=America/New_York:20260428T173000
DTEND;TZID=America/New_York:20260428T203000
DTSTAMP:20260425T075655
CREATED:20260228T171129Z
LAST-MODIFIED:20260423T235228Z
UID:10002489-1777397400-1777408200@roxyunk.org
SUMMARY:Kick Off - Tuesday Night Music at The Manayunk Bridge Garden - The Schist Creek Stompers Jug Band
DESCRIPTION:Kick Off with The Schist Creek Stompers! \nBring a picnic!
URL:https://roxyunk.org/event/tuesday-night-music-at-the-manayunk-bridge-garden-2/
LOCATION:Manayunk Bridge Garden\, 100 Dupont St\, Philadelphia\, 19127
CATEGORIES:All Ages,community,Concert,For kids,Free,Music related,Outdoor Activity,RoxYunk
END:VEVENT
END:VCALENDAR