BEGIN:VCALENDAR
VERSION:2.0
PRODID:-//RoxYunk.Org - ECPv6.15.20//NONSGML v1.0//EN
CALSCALE:GREGORIAN
METHOD:PUBLISH
X-ORIGINAL-URL:https://roxyunk.org
X-WR-CALDESC:Events for RoxYunk.Org
REFRESH-INTERVAL;VALUE=DURATION:PT1H
X-Robots-Tag:noindex
X-PUBLISHED-TTL:PT1H
BEGIN:VTIMEZONE
TZID:America/New_York
BEGIN:DAYLIGHT
TZOFFSETFROM:-0500
TZOFFSETTO:-0400
TZNAME:EDT
DTSTART:20240310T070000
END:DAYLIGHT
BEGIN:STANDARD
TZOFFSETFROM:-0400
TZOFFSETTO:-0500
TZNAME:EST
DTSTART:20241103T060000
END:STANDARD
BEGIN:DAYLIGHT
TZOFFSETFROM:-0500
TZOFFSETTO:-0400
TZNAME:EDT
DTSTART:20250309T070000
END:DAYLIGHT
BEGIN:STANDARD
TZOFFSETFROM:-0400
TZOFFSETTO:-0500
TZNAME:EST
DTSTART:20251102T060000
END:STANDARD
BEGIN:DAYLIGHT
TZOFFSETFROM:-0500
TZOFFSETTO:-0400
TZNAME:EDT
DTSTART:20260308T070000
END:DAYLIGHT
BEGIN:STANDARD
TZOFFSETFROM:-0400
TZOFFSETTO:-0500
TZNAME:EST
DTSTART:20261101T060000
END:STANDARD
END:VTIMEZONE
BEGIN:VEVENT
DTSTART;TZID=America/New_York:20250922T200000
DTEND;TZID=America/New_York:20250922T220000
DTSTAMP:20260421T065604
CREATED:20250919T192151Z
LAST-MODIFIED:20250919T192151Z
UID:10001871-1758571200-1758578400@roxyunk.org
SUMMARY:Great Bends at The Philly Fringe
DESCRIPTION:In a near-future teetering on the edge of climate catastrophe\, Great Bends tells the story of three friends and former activists navigating the complexities of life\, loss\, and an uncertain future. Set against the backdrop of relentless flooding in their hometown of Great Bend\, Kansas\, the play delves into the personal impact of climate change and the ways it reshapes relationships\, dreams\, and identities. \n  \nAs Ness visits home\, she reconnects with Ona and Ben\, whose lives have changed in unexpected ways. Ona has become involved in a movement that challenges traditional ideas of family\, while Ben works on the front lines as a “waterfighter.” \n  \nGreat Bends explores urgent themes of climate uncertainty\, the weight of birth and loss\, and the tension between personal choices and global crises. Through intimate conversations\, the characters confront the scars left by natural disasters\, rekindle old bonds\, and grapple with decisions that shape their futures in an unstable world. \n  \nGreat Bends will premiere as an immersive dinner theatre. Every ticket invites you to join these friends in a homecooked meal provided by Floorwork Arts Collective. Please note given the nature of this show\, we will be unable to accommodate any dietary restrictions. Please email floorworkco@gmail.com with questions.
URL:https://roxyunk.org/event/great-bends-at-the-philly-fringe/2025-09-22/
LOCATION:Studio 34\, 4522 Baltimore Ave
CATEGORIES:Theater,West Philly
END:VEVENT
BEGIN:VEVENT
DTSTART;TZID=America/New_York:20250920T190000
DTEND;TZID=America/New_York:20250920T210000
DTSTAMP:20260421T065604
CREATED:20250919T192151Z
LAST-MODIFIED:20250919T192151Z
UID:10001870-1758394800-1758402000@roxyunk.org
SUMMARY:Great Bends at The Philly Fringe
DESCRIPTION:In a near-future teetering on the edge of climate catastrophe\, Great Bends tells the story of three friends and former activists navigating the complexities of life\, loss\, and an uncertain future. Set against the backdrop of relentless flooding in their hometown of Great Bend\, Kansas\, the play delves into the personal impact of climate change and the ways it reshapes relationships\, dreams\, and identities. \n  \nAs Ness visits home\, she reconnects with Ona and Ben\, whose lives have changed in unexpected ways. Ona has become involved in a movement that challenges traditional ideas of family\, while Ben works on the front lines as a “waterfighter.” \n  \nGreat Bends explores urgent themes of climate uncertainty\, the weight of birth and loss\, and the tension between personal choices and global crises. Through intimate conversations\, the characters confront the scars left by natural disasters\, rekindle old bonds\, and grapple with decisions that shape their futures in an unstable world. \n  \nGreat Bends will premiere as an immersive dinner theatre. Every ticket invites you to join these friends in a homecooked meal provided by Floorwork Arts Collective. Please note given the nature of this show\, we will be unable to accommodate any dietary restrictions. Please email floorworkco@gmail.com with questions.
URL:https://roxyunk.org/event/great-bends-at-the-philly-fringe/2025-09-20/
LOCATION:Studio 34\, 4522 Baltimore Ave
CATEGORIES:Theater,West Philly
END:VEVENT
BEGIN:VEVENT
DTSTART;TZID=America/New_York:20250919T210000
DTEND;TZID=America/New_York:20250919T230000
DTSTAMP:20260421T065604
CREATED:20250919T192151Z
LAST-MODIFIED:20250919T192151Z
UID:10001869-1758315600-1758322800@roxyunk.org
SUMMARY:Great Bends at The Philly Fringe
DESCRIPTION:In a near-future teetering on the edge of climate catastrophe\, Great Bends tells the story of three friends and former activists navigating the complexities of life\, loss\, and an uncertain future. Set against the backdrop of relentless flooding in their hometown of Great Bend\, Kansas\, the play delves into the personal impact of climate change and the ways it reshapes relationships\, dreams\, and identities. \n  \nAs Ness visits home\, she reconnects with Ona and Ben\, whose lives have changed in unexpected ways. Ona has become involved in a movement that challenges traditional ideas of family\, while Ben works on the front lines as a “waterfighter.” \n  \nGreat Bends explores urgent themes of climate uncertainty\, the weight of birth and loss\, and the tension between personal choices and global crises. Through intimate conversations\, the characters confront the scars left by natural disasters\, rekindle old bonds\, and grapple with decisions that shape their futures in an unstable world. \n  \nGreat Bends will premiere as an immersive dinner theatre. Every ticket invites you to join these friends in a homecooked meal provided by Floorwork Arts Collective. Please note given the nature of this show\, we will be unable to accommodate any dietary restrictions. Please email floorworkco@gmail.com with questions.
URL:https://roxyunk.org/event/great-bends-at-the-philly-fringe/2025-09-19/
LOCATION:Studio 34\, 4522 Baltimore Ave
CATEGORIES:Theater,West Philly
END:VEVENT
END:VCALENDAR