BEGIN:VCALENDAR
VERSION:2.0
PRODID:-//RoxYunk.Org - ECPv6.15.20//NONSGML v1.0//EN
CALSCALE:GREGORIAN
METHOD:PUBLISH
X-ORIGINAL-URL:https://roxyunk.org
X-WR-CALDESC:Events for RoxYunk.Org
REFRESH-INTERVAL;VALUE=DURATION:PT1H
X-Robots-Tag:noindex
X-PUBLISHED-TTL:PT1H
BEGIN:VTIMEZONE
TZID:America/New_York
BEGIN:DAYLIGHT
TZOFFSETFROM:-0500
TZOFFSETTO:-0400
TZNAME:EDT
DTSTART:20240310T070000
END:DAYLIGHT
BEGIN:STANDARD
TZOFFSETFROM:-0400
TZOFFSETTO:-0500
TZNAME:EST
DTSTART:20241103T060000
END:STANDARD
BEGIN:DAYLIGHT
TZOFFSETFROM:-0500
TZOFFSETTO:-0400
TZNAME:EDT
DTSTART:20250309T070000
END:DAYLIGHT
BEGIN:STANDARD
TZOFFSETFROM:-0400
TZOFFSETTO:-0500
TZNAME:EST
DTSTART:20251102T060000
END:STANDARD
BEGIN:DAYLIGHT
TZOFFSETFROM:-0500
TZOFFSETTO:-0400
TZNAME:EDT
DTSTART:20260308T070000
END:DAYLIGHT
BEGIN:STANDARD
TZOFFSETFROM:-0400
TZOFFSETTO:-0500
TZNAME:EST
DTSTART:20261101T060000
END:STANDARD
END:VTIMEZONE
BEGIN:VEVENT
DTSTART;TZID=America/New_York:20250406T170000
DTEND;TZID=America/New_York:20250406T200000
DTSTAMP:20260425T104350
CREATED:20250404T104728Z
LAST-MODIFIED:20250404T104728Z
UID:10001065-1743958800-1743969600@roxyunk.org
SUMMARY:Slowey and The Boats Sunday BBQ Matinee
DESCRIPTION:Great music and Blind Pig BBQ at the home away from home near Little Cresson.
URL:https://roxyunk.org/event/slowey-and-the-boats-sunday-bbq-matinee/
LOCATION:Dawson Street Pub\, Philadelphia\, PA\, 19127\, United States
CATEGORIES:Concert,Music related,RoxYunk,Special Food Event
END:VEVENT
END:VCALENDAR