BEGIN:VCALENDAR
VERSION:2.0
PRODID:-//RoxYunk.Org - ECPv6.15.20//NONSGML v1.0//EN
CALSCALE:GREGORIAN
METHOD:PUBLISH
X-ORIGINAL-URL:https://roxyunk.org
X-WR-CALDESC:Events for RoxYunk.Org
REFRESH-INTERVAL;VALUE=DURATION:PT1H
X-Robots-Tag:noindex
X-PUBLISHED-TTL:PT1H
BEGIN:VTIMEZONE
TZID:America/New_York
BEGIN:DAYLIGHT
TZOFFSETFROM:-0500
TZOFFSETTO:-0400
TZNAME:EDT
DTSTART:20230312T070000
END:DAYLIGHT
BEGIN:STANDARD
TZOFFSETFROM:-0400
TZOFFSETTO:-0500
TZNAME:EST
DTSTART:20231105T060000
END:STANDARD
BEGIN:DAYLIGHT
TZOFFSETFROM:-0500
TZOFFSETTO:-0400
TZNAME:EDT
DTSTART:20240310T070000
END:DAYLIGHT
BEGIN:STANDARD
TZOFFSETFROM:-0400
TZOFFSETTO:-0500
TZNAME:EST
DTSTART:20241103T060000
END:STANDARD
BEGIN:DAYLIGHT
TZOFFSETFROM:-0500
TZOFFSETTO:-0400
TZNAME:EDT
DTSTART:20250309T070000
END:DAYLIGHT
BEGIN:STANDARD
TZOFFSETFROM:-0400
TZOFFSETTO:-0500
TZNAME:EST
DTSTART:20251102T060000
END:STANDARD
BEGIN:DAYLIGHT
TZOFFSETFROM:-0500
TZOFFSETTO:-0400
TZNAME:EDT
DTSTART:20260308T070000
END:DAYLIGHT
BEGIN:STANDARD
TZOFFSETFROM:-0400
TZOFFSETTO:-0500
TZNAME:EST
DTSTART:20261101T060000
END:STANDARD
END:VTIMEZONE
BEGIN:VEVENT
DTSTART;TZID=America/New_York:20251204T193000
DTEND;TZID=America/New_York:20251204T203000
DTSTAMP:20260421T195648
CREATED:20241201T155619Z
LAST-MODIFIED:20241204T204843Z
UID:10000057-1764876600-1764880200@roxyunk.org
SUMMARY:Central Roxborough Civic Association Monthly Meeting (“CRCA”)
DESCRIPTION:Please join us. The CRCA meets on the first Thursday of each month\, except July and August. Most CRCA meetings are conducted via Zoom\, and two or three are conducted in person at locations announced at the time of the meeting. \nPlease check the CRCA website for meeting details.
URL:https://roxyunk.org/event/central-roxborough-civic-association-monthly-meeting-crca/2025-12-04/
CATEGORIES:RCO Meeting
ATTACH;FMTTYPE=image/png:https://roxyunk.org/wp-content/uploads/2024/11/CRCALogoforwebpage.png
END:VEVENT
BEGIN:VEVENT
DTSTART;TZID=America/New_York:20251203T190000
DTEND;TZID=America/New_York:20251203T210000
DTSTAMP:20260421T195648
CREATED:20241126T165112Z
LAST-MODIFIED:20250401T162831Z
UID:10000036-1764788400-1764795600@roxyunk.org
SUMMARY:Manayunk Neighborhood Council Monthly Meeting
DESCRIPTION:Detail on meetings can be found at \nhttp://www.manayunkcouncil.org/meetings.html \n 
URL:https://roxyunk.org/event/manayunk-neighborhood-council-monthly-meeting/2025-12-03/
LOCATION:Check Website For meeting location = http://www.manayunkcouncil.org/meetings.html
CATEGORIES:RCO Meeting
ATTACH;FMTTYPE=image/jpeg:https://roxyunk.org/wp-content/uploads/2024/11/Screenshot-2024-12-04-154403.jpg
END:VEVENT
BEGIN:VEVENT
DTSTART;TZID=America/New_York:20251106T193000
DTEND;TZID=America/New_York:20251106T203000
DTSTAMP:20260421T195648
CREATED:20241201T155619Z
LAST-MODIFIED:20241204T204843Z
UID:10000056-1762457400-1762461000@roxyunk.org
SUMMARY:Central Roxborough Civic Association Monthly Meeting (“CRCA”)
DESCRIPTION:Please join us. The CRCA meets on the first Thursday of each month\, except July and August. Most CRCA meetings are conducted via Zoom\, and two or three are conducted in person at locations announced at the time of the meeting. \nPlease check the CRCA website for meeting details.
URL:https://roxyunk.org/event/central-roxborough-civic-association-monthly-meeting-crca/2025-11-06/
CATEGORIES:RCO Meeting
ATTACH;FMTTYPE=image/png:https://roxyunk.org/wp-content/uploads/2024/11/CRCALogoforwebpage.png
END:VEVENT
BEGIN:VEVENT
DTSTART;TZID=America/New_York:20251105T190000
DTEND;TZID=America/New_York:20251105T210000
DTSTAMP:20260421T195648
CREATED:20241126T165112Z
LAST-MODIFIED:20250401T162831Z
UID:10000035-1762369200-1762376400@roxyunk.org
SUMMARY:Manayunk Neighborhood Council Monthly Meeting
DESCRIPTION:Detail on meetings can be found at \nhttp://www.manayunkcouncil.org/meetings.html \n 
URL:https://roxyunk.org/event/manayunk-neighborhood-council-monthly-meeting/2025-11-05/
LOCATION:Check Website For meeting location = http://www.manayunkcouncil.org/meetings.html
CATEGORIES:RCO Meeting
ATTACH;FMTTYPE=image/jpeg:https://roxyunk.org/wp-content/uploads/2024/11/Screenshot-2024-12-04-154403.jpg
END:VEVENT
BEGIN:VEVENT
DTSTART;TZID=America/New_York:20251002T193000
DTEND;TZID=America/New_York:20251002T203000
DTSTAMP:20260421T195648
CREATED:20241201T155619Z
LAST-MODIFIED:20241204T204843Z
UID:10000055-1759433400-1759437000@roxyunk.org
SUMMARY:Central Roxborough Civic Association Monthly Meeting (“CRCA”)
DESCRIPTION:Please join us. The CRCA meets on the first Thursday of each month\, except July and August. Most CRCA meetings are conducted via Zoom\, and two or three are conducted in person at locations announced at the time of the meeting. \nPlease check the CRCA website for meeting details.
URL:https://roxyunk.org/event/central-roxborough-civic-association-monthly-meeting-crca/2025-10-02/
CATEGORIES:RCO Meeting
ATTACH;FMTTYPE=image/png:https://roxyunk.org/wp-content/uploads/2024/11/CRCALogoforwebpage.png
END:VEVENT
BEGIN:VEVENT
DTSTART;TZID=America/New_York:20251001T190000
DTEND;TZID=America/New_York:20251001T210000
DTSTAMP:20260421T195648
CREATED:20241126T165112Z
LAST-MODIFIED:20250401T162831Z
UID:10000034-1759345200-1759352400@roxyunk.org
SUMMARY:Manayunk Neighborhood Council Monthly Meeting
DESCRIPTION:Detail on meetings can be found at \nhttp://www.manayunkcouncil.org/meetings.html \n 
URL:https://roxyunk.org/event/manayunk-neighborhood-council-monthly-meeting/2025-10-01/
LOCATION:Check Website For meeting location = http://www.manayunkcouncil.org/meetings.html
CATEGORIES:RCO Meeting
ATTACH;FMTTYPE=image/jpeg:https://roxyunk.org/wp-content/uploads/2024/11/Screenshot-2024-12-04-154403.jpg
END:VEVENT
BEGIN:VEVENT
DTSTART;TZID=America/New_York:20250904T193000
DTEND;TZID=America/New_York:20250904T203000
DTSTAMP:20260421T195648
CREATED:20241201T155619Z
LAST-MODIFIED:20241204T204843Z
UID:10000054-1757014200-1757017800@roxyunk.org
SUMMARY:Central Roxborough Civic Association Monthly Meeting (“CRCA”)
DESCRIPTION:Please join us. The CRCA meets on the first Thursday of each month\, except July and August. Most CRCA meetings are conducted via Zoom\, and two or three are conducted in person at locations announced at the time of the meeting. \nPlease check the CRCA website for meeting details.
URL:https://roxyunk.org/event/central-roxborough-civic-association-monthly-meeting-crca/2025-09-04/
CATEGORIES:RCO Meeting
ATTACH;FMTTYPE=image/png:https://roxyunk.org/wp-content/uploads/2024/11/CRCALogoforwebpage.png
END:VEVENT
BEGIN:VEVENT
DTSTART;TZID=America/New_York:20250903T190000
DTEND;TZID=America/New_York:20250903T210000
DTSTAMP:20260421T195648
CREATED:20241126T165112Z
LAST-MODIFIED:20250401T162831Z
UID:10000033-1756926000-1756933200@roxyunk.org
SUMMARY:Manayunk Neighborhood Council Monthly Meeting
DESCRIPTION:Detail on meetings can be found at \nhttp://www.manayunkcouncil.org/meetings.html \n 
URL:https://roxyunk.org/event/manayunk-neighborhood-council-monthly-meeting/2025-09-03/
LOCATION:Check Website For meeting location = http://www.manayunkcouncil.org/meetings.html
CATEGORIES:RCO Meeting
ATTACH;FMTTYPE=image/jpeg:https://roxyunk.org/wp-content/uploads/2024/11/Screenshot-2024-12-04-154403.jpg
END:VEVENT
BEGIN:VEVENT
DTSTART;TZID=America/New_York:20250807T193000
DTEND;TZID=America/New_York:20250807T203000
DTSTAMP:20260421T195648
CREATED:20241201T155619Z
LAST-MODIFIED:20241204T204843Z
UID:10000053-1754595000-1754598600@roxyunk.org
SUMMARY:Central Roxborough Civic Association Monthly Meeting (“CRCA”)
DESCRIPTION:Please join us. The CRCA meets on the first Thursday of each month\, except July and August. Most CRCA meetings are conducted via Zoom\, and two or three are conducted in person at locations announced at the time of the meeting. \nPlease check the CRCA website for meeting details.
URL:https://roxyunk.org/event/central-roxborough-civic-association-monthly-meeting-crca/2025-08-07/
CATEGORIES:RCO Meeting
ATTACH;FMTTYPE=image/png:https://roxyunk.org/wp-content/uploads/2024/11/CRCALogoforwebpage.png
END:VEVENT
BEGIN:VEVENT
DTSTART;TZID=America/New_York:20250806T190000
DTEND;TZID=America/New_York:20250806T210000
DTSTAMP:20260421T195648
CREATED:20241126T165112Z
LAST-MODIFIED:20250401T162831Z
UID:10000032-1754506800-1754514000@roxyunk.org
SUMMARY:Manayunk Neighborhood Council Monthly Meeting
DESCRIPTION:Detail on meetings can be found at \nhttp://www.manayunkcouncil.org/meetings.html \n 
URL:https://roxyunk.org/event/manayunk-neighborhood-council-monthly-meeting/2025-08-06/
LOCATION:Check Website For meeting location = http://www.manayunkcouncil.org/meetings.html
CATEGORIES:RCO Meeting
ATTACH;FMTTYPE=image/jpeg:https://roxyunk.org/wp-content/uploads/2024/11/Screenshot-2024-12-04-154403.jpg
END:VEVENT
BEGIN:VEVENT
DTSTART;TZID=America/New_York:20250703T193000
DTEND;TZID=America/New_York:20250703T203000
DTSTAMP:20260421T195648
CREATED:20241201T155619Z
LAST-MODIFIED:20241204T204843Z
UID:10000052-1751571000-1751574600@roxyunk.org
SUMMARY:Central Roxborough Civic Association Monthly Meeting (“CRCA”)
DESCRIPTION:Please join us. The CRCA meets on the first Thursday of each month\, except July and August. Most CRCA meetings are conducted via Zoom\, and two or three are conducted in person at locations announced at the time of the meeting. \nPlease check the CRCA website for meeting details.
URL:https://roxyunk.org/event/central-roxborough-civic-association-monthly-meeting-crca/2025-07-03/
CATEGORIES:RCO Meeting
ATTACH;FMTTYPE=image/png:https://roxyunk.org/wp-content/uploads/2024/11/CRCALogoforwebpage.png
END:VEVENT
BEGIN:VEVENT
DTSTART;TZID=America/New_York:20250702T190000
DTEND;TZID=America/New_York:20250702T210000
DTSTAMP:20260421T195648
CREATED:20241126T165112Z
LAST-MODIFIED:20250401T162831Z
UID:10000031-1751482800-1751490000@roxyunk.org
SUMMARY:Manayunk Neighborhood Council Monthly Meeting
DESCRIPTION:Detail on meetings can be found at \nhttp://www.manayunkcouncil.org/meetings.html \n 
URL:https://roxyunk.org/event/manayunk-neighborhood-council-monthly-meeting/2025-07-02/
LOCATION:Check Website For meeting location = http://www.manayunkcouncil.org/meetings.html
CATEGORIES:RCO Meeting
ATTACH;FMTTYPE=image/jpeg:https://roxyunk.org/wp-content/uploads/2024/11/Screenshot-2024-12-04-154403.jpg
END:VEVENT
BEGIN:VEVENT
DTSTART;TZID=America/New_York:20250605T193000
DTEND;TZID=America/New_York:20250605T203000
DTSTAMP:20260421T195648
CREATED:20241201T155619Z
LAST-MODIFIED:20241204T204843Z
UID:10000051-1749151800-1749155400@roxyunk.org
SUMMARY:Central Roxborough Civic Association Monthly Meeting (“CRCA”)
DESCRIPTION:Please join us. The CRCA meets on the first Thursday of each month\, except July and August. Most CRCA meetings are conducted via Zoom\, and two or three are conducted in person at locations announced at the time of the meeting. \nPlease check the CRCA website for meeting details.
URL:https://roxyunk.org/event/central-roxborough-civic-association-monthly-meeting-crca/2025-06-05/
CATEGORIES:RCO Meeting
ATTACH;FMTTYPE=image/png:https://roxyunk.org/wp-content/uploads/2024/11/CRCALogoforwebpage.png
END:VEVENT
BEGIN:VEVENT
DTSTART;TZID=America/New_York:20250604T190000
DTEND;TZID=America/New_York:20250604T210000
DTSTAMP:20260421T195648
CREATED:20241126T165112Z
LAST-MODIFIED:20250401T162831Z
UID:10000030-1749063600-1749070800@roxyunk.org
SUMMARY:Manayunk Neighborhood Council Monthly Meeting
DESCRIPTION:Detail on meetings can be found at \nhttp://www.manayunkcouncil.org/meetings.html \n 
URL:https://roxyunk.org/event/manayunk-neighborhood-council-monthly-meeting/2025-06-04/
LOCATION:Check Website For meeting location = http://www.manayunkcouncil.org/meetings.html
CATEGORIES:RCO Meeting
ATTACH;FMTTYPE=image/jpeg:https://roxyunk.org/wp-content/uploads/2024/11/Screenshot-2024-12-04-154403.jpg
END:VEVENT
BEGIN:VEVENT
DTSTART;TZID=America/New_York:20250507T190000
DTEND;TZID=America/New_York:20250507T210000
DTSTAMP:20260421T195648
CREATED:20241126T165112Z
LAST-MODIFIED:20250401T162831Z
UID:10000029-1746644400-1746651600@roxyunk.org
SUMMARY:Manayunk Neighborhood Council Monthly Meeting
DESCRIPTION:Detail on meetings can be found at \nhttp://www.manayunkcouncil.org/meetings.html \n 
URL:https://roxyunk.org/event/manayunk-neighborhood-council-monthly-meeting/2025-05-07/
LOCATION:Check Website For meeting location = http://www.manayunkcouncil.org/meetings.html
CATEGORIES:RCO Meeting
ATTACH;FMTTYPE=image/jpeg:https://roxyunk.org/wp-content/uploads/2024/11/Screenshot-2024-12-04-154403.jpg
END:VEVENT
BEGIN:VEVENT
DTSTART;TZID=America/New_York:20250501T193000
DTEND;TZID=America/New_York:20250501T203000
DTSTAMP:20260421T195648
CREATED:20241201T155619Z
LAST-MODIFIED:20241204T204843Z
UID:10000050-1746127800-1746131400@roxyunk.org
SUMMARY:Central Roxborough Civic Association Monthly Meeting (“CRCA”)
DESCRIPTION:Please join us. The CRCA meets on the first Thursday of each month\, except July and August. Most CRCA meetings are conducted via Zoom\, and two or three are conducted in person at locations announced at the time of the meeting. \nPlease check the CRCA website for meeting details.
URL:https://roxyunk.org/event/central-roxborough-civic-association-monthly-meeting-crca/2025-05-01/
CATEGORIES:RCO Meeting
ATTACH;FMTTYPE=image/png:https://roxyunk.org/wp-content/uploads/2024/11/CRCALogoforwebpage.png
END:VEVENT
BEGIN:VEVENT
DTSTART;TZID=America/New_York:20250426T100000
DTEND;TZID=America/New_York:20250426T120000
DTSTAMP:20260421T195648
CREATED:20250426T130542Z
LAST-MODIFIED:20250426T130542Z
UID:10001074-1745661600-1745668800@roxyunk.org
SUMMARY:Zoning 101: A citizen's guide to how things get built in Philadelphia
DESCRIPTION:So\, you want to understand how things get approved (or denied) and built in our fair city? CRCA is presenting an overview for folks who want to be more informed about the process. Free and all are welcome.
URL:https://roxyunk.org/event/zoning-101-a-citizens-guide-to-how-things-get-built-in-philadelphia/
LOCATION:St\, Timothy’s Church
CATEGORIES:community,RCO Meeting,RoxYunk
ATTACH;FMTTYPE=image/jpeg:https://roxyunk.org/wp-content/uploads/2025/04/475081370_1009529121219206_3700451331289305656_n.jpg
END:VEVENT
BEGIN:VEVENT
DTSTART;TZID=America/New_York:20250403T193000
DTEND;TZID=America/New_York:20250403T203000
DTSTAMP:20260421T195648
CREATED:20241201T155619Z
LAST-MODIFIED:20241204T204843Z
UID:10000049-1743708600-1743712200@roxyunk.org
SUMMARY:Central Roxborough Civic Association Monthly Meeting (“CRCA”)
DESCRIPTION:Please join us. The CRCA meets on the first Thursday of each month\, except July and August. Most CRCA meetings are conducted via Zoom\, and two or three are conducted in person at locations announced at the time of the meeting. \nPlease check the CRCA website for meeting details.
URL:https://roxyunk.org/event/central-roxborough-civic-association-monthly-meeting-crca/2025-04-03/
CATEGORIES:RCO Meeting
ATTACH;FMTTYPE=image/png:https://roxyunk.org/wp-content/uploads/2024/11/CRCALogoforwebpage.png
END:VEVENT
BEGIN:VEVENT
DTSTART;TZID=America/New_York:20250402T190000
DTEND;TZID=America/New_York:20250402T210000
DTSTAMP:20260421T195648
CREATED:20241126T165112Z
LAST-MODIFIED:20250401T162831Z
UID:10000028-1743620400-1743627600@roxyunk.org
SUMMARY:Manayunk Neighborhood Council Monthly Meeting
DESCRIPTION:Detail on meetings can be found at \nhttp://www.manayunkcouncil.org/meetings.html \n 
URL:https://roxyunk.org/event/manayunk-neighborhood-council-monthly-meeting/2025-04-02/
LOCATION:Check Website For meeting location = http://www.manayunkcouncil.org/meetings.html
CATEGORIES:RCO Meeting
ATTACH;FMTTYPE=image/jpeg:https://roxyunk.org/wp-content/uploads/2024/11/Screenshot-2024-12-04-154403.jpg
END:VEVENT
BEGIN:VEVENT
DTSTART;TZID=America/New_York:20250306T193000
DTEND;TZID=America/New_York:20250306T203000
DTSTAMP:20260421T195648
CREATED:20241201T155619Z
LAST-MODIFIED:20241204T204843Z
UID:10000048-1741289400-1741293000@roxyunk.org
SUMMARY:Central Roxborough Civic Association Monthly Meeting (“CRCA”)
DESCRIPTION:Please join us. The CRCA meets on the first Thursday of each month\, except July and August. Most CRCA meetings are conducted via Zoom\, and two or three are conducted in person at locations announced at the time of the meeting. \nPlease check the CRCA website for meeting details.
URL:https://roxyunk.org/event/central-roxborough-civic-association-monthly-meeting-crca/2025-03-06/
CATEGORIES:RCO Meeting
ATTACH;FMTTYPE=image/png:https://roxyunk.org/wp-content/uploads/2024/11/CRCALogoforwebpage.png
END:VEVENT
BEGIN:VEVENT
DTSTART;TZID=America/New_York:20250305T190000
DTEND;TZID=America/New_York:20250305T210000
DTSTAMP:20260421T195648
CREATED:20241126T165112Z
LAST-MODIFIED:20250401T162831Z
UID:10000027-1741201200-1741208400@roxyunk.org
SUMMARY:Manayunk Neighborhood Council Monthly Meeting
DESCRIPTION:Detail on meetings can be found at \nhttp://www.manayunkcouncil.org/meetings.html \n 
URL:https://roxyunk.org/event/manayunk-neighborhood-council-monthly-meeting/2025-03-05/
LOCATION:Check Website For meeting location = http://www.manayunkcouncil.org/meetings.html
CATEGORIES:RCO Meeting
ATTACH;FMTTYPE=image/jpeg:https://roxyunk.org/wp-content/uploads/2024/11/Screenshot-2024-12-04-154403.jpg
END:VEVENT
BEGIN:VEVENT
DTSTART;TZID=America/New_York:20250206T193000
DTEND;TZID=America/New_York:20250206T203000
DTSTAMP:20260421T195648
CREATED:20241201T155619Z
LAST-MODIFIED:20241204T204843Z
UID:10000047-1738870200-1738873800@roxyunk.org
SUMMARY:Central Roxborough Civic Association Monthly Meeting (“CRCA”)
DESCRIPTION:Please join us. The CRCA meets on the first Thursday of each month\, except July and August. Most CRCA meetings are conducted via Zoom\, and two or three are conducted in person at locations announced at the time of the meeting. \nPlease check the CRCA website for meeting details.
URL:https://roxyunk.org/event/central-roxborough-civic-association-monthly-meeting-crca/2025-02-06/
CATEGORIES:RCO Meeting
ATTACH;FMTTYPE=image/png:https://roxyunk.org/wp-content/uploads/2024/11/CRCALogoforwebpage.png
END:VEVENT
BEGIN:VEVENT
DTSTART;TZID=America/New_York:20250205T190000
DTEND;TZID=America/New_York:20250205T210000
DTSTAMP:20260421T195648
CREATED:20241126T165112Z
LAST-MODIFIED:20250401T162831Z
UID:10000026-1738782000-1738789200@roxyunk.org
SUMMARY:Manayunk Neighborhood Council Monthly Meeting
DESCRIPTION:Detail on meetings can be found at \nhttp://www.manayunkcouncil.org/meetings.html \n 
URL:https://roxyunk.org/event/manayunk-neighborhood-council-monthly-meeting/2025-02-05/
LOCATION:Check Website For meeting location = http://www.manayunkcouncil.org/meetings.html
CATEGORIES:RCO Meeting
ATTACH;FMTTYPE=image/jpeg:https://roxyunk.org/wp-content/uploads/2024/11/Screenshot-2024-12-04-154403.jpg
END:VEVENT
BEGIN:VEVENT
DTSTART;TZID=America/New_York:20250102T193000
DTEND;TZID=America/New_York:20250102T203000
DTSTAMP:20260421T195648
CREATED:20241201T155619Z
LAST-MODIFIED:20241204T204843Z
UID:10000046-1735846200-1735849800@roxyunk.org
SUMMARY:Central Roxborough Civic Association Monthly Meeting (“CRCA”)
DESCRIPTION:Please join us. The CRCA meets on the first Thursday of each month\, except July and August. Most CRCA meetings are conducted via Zoom\, and two or three are conducted in person at locations announced at the time of the meeting. \nPlease check the CRCA website for meeting details.
URL:https://roxyunk.org/event/central-roxborough-civic-association-monthly-meeting-crca/2025-01-02/
CATEGORIES:RCO Meeting
ATTACH;FMTTYPE=image/png:https://roxyunk.org/wp-content/uploads/2024/11/CRCALogoforwebpage.png
END:VEVENT
BEGIN:VEVENT
DTSTART;TZID=America/New_York:20250101T190000
DTEND;TZID=America/New_York:20250101T210000
DTSTAMP:20260421T195648
CREATED:20241126T165112Z
LAST-MODIFIED:20250401T162831Z
UID:10000025-1735758000-1735765200@roxyunk.org
SUMMARY:Manayunk Neighborhood Council Monthly Meeting
DESCRIPTION:Detail on meetings can be found at \nhttp://www.manayunkcouncil.org/meetings.html \n 
URL:https://roxyunk.org/event/manayunk-neighborhood-council-monthly-meeting/2025-01-01/
LOCATION:Check Website For meeting location = http://www.manayunkcouncil.org/meetings.html
CATEGORIES:RCO Meeting
ATTACH;FMTTYPE=image/jpeg:https://roxyunk.org/wp-content/uploads/2024/11/Screenshot-2024-12-04-154403.jpg
END:VEVENT
BEGIN:VEVENT
DTSTART;TZID=America/New_York:20241205T193000
DTEND;TZID=America/New_York:20241205T203000
DTSTAMP:20260421T195648
CREATED:20241201T155619Z
LAST-MODIFIED:20241204T204843Z
UID:10000045-1733427000-1733430600@roxyunk.org
SUMMARY:Central Roxborough Civic Association Monthly Meeting (“CRCA”)
DESCRIPTION:Please join us. The CRCA meets on the first Thursday of each month\, except July and August. Most CRCA meetings are conducted via Zoom\, and two or three are conducted in person at locations announced at the time of the meeting. \nPlease check the CRCA website for meeting details.
URL:https://roxyunk.org/event/central-roxborough-civic-association-monthly-meeting-crca/2024-12-05/
CATEGORIES:RCO Meeting
ATTACH;FMTTYPE=image/png:https://roxyunk.org/wp-content/uploads/2024/11/CRCALogoforwebpage.png
END:VEVENT
BEGIN:VEVENT
DTSTART;TZID=America/New_York:20241204T190000
DTEND;TZID=America/New_York:20241204T210000
DTSTAMP:20260421T195648
CREATED:20241126T165112Z
LAST-MODIFIED:20250401T162831Z
UID:10000024-1733338800-1733346000@roxyunk.org
SUMMARY:Manayunk Neighborhood Council Monthly Meeting
DESCRIPTION:Detail on meetings can be found at \nhttp://www.manayunkcouncil.org/meetings.html \n 
URL:https://roxyunk.org/event/manayunk-neighborhood-council-monthly-meeting/2024-12-04/
LOCATION:Check Website For meeting location = http://www.manayunkcouncil.org/meetings.html
CATEGORIES:RCO Meeting
ATTACH;FMTTYPE=image/jpeg:https://roxyunk.org/wp-content/uploads/2024/11/Screenshot-2024-12-04-154403.jpg
END:VEVENT
END:VCALENDAR