BEGIN:VCALENDAR
VERSION:2.0
PRODID:-//RoxYunk.Org - ECPv6.15.20//NONSGML v1.0//EN
CALSCALE:GREGORIAN
METHOD:PUBLISH
X-ORIGINAL-URL:https://roxyunk.org
X-WR-CALDESC:Events for RoxYunk.Org
REFRESH-INTERVAL;VALUE=DURATION:PT1H
X-Robots-Tag:noindex
X-PUBLISHED-TTL:PT1H
BEGIN:VTIMEZONE
TZID:America/New_York
BEGIN:DAYLIGHT
TZOFFSETFROM:-0500
TZOFFSETTO:-0400
TZNAME:EDT
DTSTART:20240310T070000
END:DAYLIGHT
BEGIN:STANDARD
TZOFFSETFROM:-0400
TZOFFSETTO:-0500
TZNAME:EST
DTSTART:20241103T060000
END:STANDARD
BEGIN:DAYLIGHT
TZOFFSETFROM:-0500
TZOFFSETTO:-0400
TZNAME:EDT
DTSTART:20250309T070000
END:DAYLIGHT
BEGIN:STANDARD
TZOFFSETFROM:-0400
TZOFFSETTO:-0500
TZNAME:EST
DTSTART:20251102T060000
END:STANDARD
BEGIN:DAYLIGHT
TZOFFSETFROM:-0500
TZOFFSETTO:-0400
TZNAME:EDT
DTSTART:20260308T070000
END:DAYLIGHT
BEGIN:STANDARD
TZOFFSETFROM:-0400
TZOFFSETTO:-0500
TZNAME:EST
DTSTART:20261101T060000
END:STANDARD
BEGIN:DAYLIGHT
TZOFFSETFROM:-0500
TZOFFSETTO:-0400
TZNAME:EDT
DTSTART:20270314T070000
END:DAYLIGHT
BEGIN:STANDARD
TZOFFSETFROM:-0400
TZOFFSETTO:-0500
TZNAME:EST
DTSTART:20271107T060000
END:STANDARD
END:VTIMEZONE
BEGIN:VEVENT
DTSTART;TZID=America/New_York:20260211T180000
DTEND;TZID=America/New_York:20260211T193000
DTSTAMP:20260425T062059
CREATED:20260211T192037Z
LAST-MODIFIED:20260211T192239Z
UID:10002487-1770832800-1770838200@roxyunk.org
SUMMARY:Manayunk Canal Towpath Boardwalk Open House
DESCRIPTION:The Department of Streets will be hosting an open house on the Manayunk Canal Towpath Boardwalk Rehabilitation Project from 6:00 to 7:30 p.m.\, Wednesday\, February 11\, 2026. For more info contact trails@phila.gov — at Venice Island Performing Arts Recreation Center.
URL:https://roxyunk.org/event/manayunk-canal-towpath-boardwalk-open-house/
LOCATION:Venice Island Performing Arts Center
CATEGORIES:community,Free,Public Meeting,RoxYunk
ATTACH;FMTTYPE=image/png:https://roxyunk.org/wp-content/uploads/2026/02/Manayunk-Canal-Towpath-Boardwalks-Rehabilitation-Venice-Island-Performing-Arts-Center-7-Lock-St-Philadelphia-PA-19127-For-more-information-contact-Trails@phila.gov-Boardwalks-between-Green-Lane.png
END:VEVENT
BEGIN:VEVENT
DTSTART;TZID=America/New_York:20260108T170000
DTEND;TZID=America/New_York:20260108T190000
DTSTAMP:20260425T062059
CREATED:20260108T165503Z
LAST-MODIFIED:20260108T165756Z
UID:10002148-1767891600-1767898800@roxyunk.org
SUMMARY:Vigils To Protest ICE Murder of Renee Good
DESCRIPTION:I know they’re not in RoxYunk (I’m still looking for similar events in our neighborhood) but it’s too important not to put it up here. \n\n1/8 5p City Hall NW Corner 1400 J F Kennedy Blvd \n\n\n\n1/8 7pm Upper Darby Twp Bldg 100 Garrett Rd \n\n\n\nhttps://www.instagram.com/p/DTONd3VETs7/?utm_source=ig_embed&ig_rid=c3549d0e-9529-4f60-9688-1c4ca25c1294
URL:https://roxyunk.org/event/vigils-to-protest-ice-murder-of-renee-good/
LOCATION:Philadelphia City Hall\, 1401 JFK Blvd\, Philadelphia\, PA\, United States
CATEGORIES:All Ages,Center City,community,Free,Outdoor Activity,Public Meeting
END:VEVENT
BEGIN:VEVENT
DTSTART;TZID=America/New_York:20251028T170000
DTEND;TZID=America/New_York:20251028T210000
DTSTAMP:20260425T062059
CREATED:20250728T212501Z
LAST-MODIFIED:20251022T163429Z
UID:10001813-1761670800-1761685200@roxyunk.org
SUMMARY:Bridge Music 2025 Finale - Anti-Fascist Hymnal Hour Of Pure People Power   The Schist Creek Stompers & Huston West & Adam Brodsky
DESCRIPTION:Community is strength. \nRemember\, we are not alone.
URL:https://roxyunk.org/event/we-are-not-alone-anti-fascist-hour-of-people-power/
LOCATION:Manayunk Bridge Garden\, 100 Dupont St\, Philadelphia\, 19127
CATEGORIES:community,Concert,Festival,For kids,Music related,Outdoor Activity,Public Meeting,RoxYunk
ATTACH;FMTTYPE=image/jpeg:https://roxyunk.org/wp-content/uploads/2025/07/phonto-1.jpeg
END:VEVENT
BEGIN:VEVENT
DTSTART;TZID=America/New_York:20250930T180000
DTEND;TZID=America/New_York:20250930T200000
DTSTAMP:20260425T062059
CREATED:20250919T185019Z
LAST-MODIFIED:20250919T185019Z
UID:10001865-1759255200-1759262400@roxyunk.org
SUMMARY:Police and Community United For Action
DESCRIPTION:
URL:https://roxyunk.org/event/police-and-community-united-for-action/
LOCATION:Epic Church\, 6035 Ridge Ave.\, Philadelphia\, PA\, 19128\, United States
CATEGORIES:community,Public Meeting,RoxYunk
END:VEVENT
BEGIN:VEVENT
DTSTART;TZID=America/New_York:20250618T173000
DTEND;TZID=America/New_York:20250618T193000
DTSTAMP:20260425T062059
CREATED:20250618T133625Z
LAST-MODIFIED:20250618T134033Z
UID:10001800-1750267800-1750275000@roxyunk.org
SUMMARY:Community Forum With State Rep. Tarik Khan and State Senators Vince Hughes and Art Hayward
DESCRIPTION:Meet elected officials\, Bring your observations and concerns of the day. Try not to just make it a complaint session. Let’s for once not talk about parking\, ok?
URL:https://roxyunk.org/event/community-forum-with-tarik-khan/
LOCATION:Roxborough Memorial Hospital Auditorium\, 5800 Ridge Avenue
CATEGORIES:community,Public Meeting,RoxYunk
ATTACH;FMTTYPE=image/jpeg:https://roxyunk.org/wp-content/uploads/2025/06/Community-Forum.jpg
END:VEVENT
BEGIN:VEVENT
DTSTART;TZID=America/New_York:20250604T180000
DTEND;TZID=America/New_York:20250604T180000
DTSTAMP:20260425T062059
CREATED:20250528T162205Z
LAST-MODIFIED:20250528T162205Z
UID:10001484-1749060000-1749060000@roxyunk.org
SUMMARY:Ivy Ridge Trail Update
DESCRIPTION:Come hear what’s next for the Ivy Ridge Trail section between the current Trail head at the Bridge and the Ivy Ridge Station.
URL:https://roxyunk.org/event/ivy-ridge-trail-update/
LOCATION:Dobson Elementary School\, 4667 Umbria Street\, Philadelphia\, PA\, United States
CATEGORIES:community,Public Meeting,RoxYunk
ATTACH;FMTTYPE=image/jpeg:https://roxyunk.org/wp-content/uploads/2025/05/Trail-Meeting.jpg
END:VEVENT
END:VCALENDAR