BEGIN:VCALENDAR
VERSION:2.0
PRODID:-//RoxYunk.Org - ECPv6.15.20//NONSGML v1.0//EN
CALSCALE:GREGORIAN
METHOD:PUBLISH
X-WR-CALNAME:RoxYunk.Org
X-ORIGINAL-URL:https://roxyunk.org
X-WR-CALDESC:Events for RoxYunk.Org
REFRESH-INTERVAL;VALUE=DURATION:PT1H
X-Robots-Tag:noindex
X-PUBLISHED-TTL:PT1H
BEGIN:VTIMEZONE
TZID:America/New_York
BEGIN:DAYLIGHT
TZOFFSETFROM:-0500
TZOFFSETTO:-0400
TZNAME:EDT
DTSTART:20240310T070000
END:DAYLIGHT
BEGIN:STANDARD
TZOFFSETFROM:-0400
TZOFFSETTO:-0500
TZNAME:EST
DTSTART:20241103T060000
END:STANDARD
BEGIN:DAYLIGHT
TZOFFSETFROM:-0500
TZOFFSETTO:-0400
TZNAME:EDT
DTSTART:20250309T070000
END:DAYLIGHT
BEGIN:STANDARD
TZOFFSETFROM:-0400
TZOFFSETTO:-0500
TZNAME:EST
DTSTART:20251102T060000
END:STANDARD
BEGIN:DAYLIGHT
TZOFFSETFROM:-0500
TZOFFSETTO:-0400
TZNAME:EDT
DTSTART:20260308T070000
END:DAYLIGHT
BEGIN:STANDARD
TZOFFSETFROM:-0400
TZOFFSETTO:-0500
TZNAME:EST
DTSTART:20261101T060000
END:STANDARD
END:VTIMEZONE
BEGIN:VEVENT
DTSTART;TZID=America/New_York:20250325T193000
DTEND;TZID=America/New_York:20250325T213000
DTSTAMP:20260422T053120
CREATED:20250311T002537Z
LAST-MODIFIED:20250325T203042Z
UID:10000922-1742931000-1742938200@roxyunk.org
SUMMARY:VHS Movie night at Harmonie Hall: Labyrinth
DESCRIPTION:This is one of the nicest things that happens in RoxYunk. \nJoin a really nice crowd of people watching Labyrinth in one of the most beautiful buildings in our neighborhood. \nAnd Free! (Though a donation to Harmonie Hall would not be out of line)
URL:https://roxyunk.org/event/vhs-movie-night/
LOCATION:Harmonie Hall\, 4372 Fleming\, Philadelphia\, PA\, 19128\, United States
CATEGORIES:community,Movie night
ATTACH;FMTTYPE=image/jpeg:https://roxyunk.org/wp-content/uploads/2025/03/IMG_5142-scaled.jpeg
END:VEVENT
END:VCALENDAR