BEGIN:VCALENDAR
VERSION:2.0
PRODID:-//RoxYunk.Org - ECPv6.15.20//NONSGML v1.0//EN
CALSCALE:GREGORIAN
METHOD:PUBLISH
X-WR-CALNAME:RoxYunk.Org
X-ORIGINAL-URL:https://roxyunk.org
X-WR-CALDESC:Events for RoxYunk.Org
REFRESH-INTERVAL;VALUE=DURATION:PT1H
X-Robots-Tag:noindex
X-PUBLISHED-TTL:PT1H
BEGIN:VTIMEZONE
TZID:America/New_York
BEGIN:DAYLIGHT
TZOFFSETFROM:-0500
TZOFFSETTO:-0400
TZNAME:EDT
DTSTART:20250309T070000
END:DAYLIGHT
BEGIN:STANDARD
TZOFFSETFROM:-0400
TZOFFSETTO:-0500
TZNAME:EST
DTSTART:20251102T060000
END:STANDARD
BEGIN:DAYLIGHT
TZOFFSETFROM:-0500
TZOFFSETTO:-0400
TZNAME:EDT
DTSTART:20260308T070000
END:DAYLIGHT
BEGIN:STANDARD
TZOFFSETFROM:-0400
TZOFFSETTO:-0500
TZNAME:EST
DTSTART:20261101T060000
END:STANDARD
BEGIN:DAYLIGHT
TZOFFSETFROM:-0500
TZOFFSETTO:-0400
TZNAME:EDT
DTSTART:20270314T070000
END:DAYLIGHT
BEGIN:STANDARD
TZOFFSETFROM:-0400
TZOFFSETTO:-0500
TZNAME:EST
DTSTART:20271107T060000
END:STANDARD
END:VTIMEZONE
BEGIN:VEVENT
DTSTART;TZID=America/New_York:20260321T133000
DTEND;TZID=America/New_York:20260321T160000
DTSTAMP:20260420T215515
CREATED:20260320T164534Z
LAST-MODIFIED:20260320T164534Z
UID:10002748-1774099800-1774108800@roxyunk.org
SUMMARY:Rawk U Presents Grace The Stage (matinee) at Fallser
DESCRIPTION:
URL:https://roxyunk.org/event/rawk-u-presents-grace-the-stage-matinee-at-fallser/
LOCATION:The Fallser Club\, 3721 Midvale Avenue\, Philadelphia\, PA\, 19129\, United States
CATEGORIES:East Falla,Live Music
END:VEVENT
BEGIN:VEVENT
DTSTART;TZID=America/New_York:20260321T200000
DTEND;TZID=America/New_York:20260321T230000
DTSTAMP:20260420T215515
CREATED:20260320T163810Z
LAST-MODIFIED:20260320T163810Z
UID:10002745-1774123200-1774134000@roxyunk.org
SUMMARY:Forty Ounces\, the Low Sundays\, Cardinal Arms at the Dawson
DESCRIPTION:
URL:https://roxyunk.org/event/forty-ounces-the-low-sundays-cardinal-arms-at-the-dawson/
LOCATION:Dawson Street Pub\, Philadelphia\, PA\, 19127\, United States
CATEGORIES:Live Music,RoxYunk
END:VEVENT
BEGIN:VEVENT
DTSTART;TZID=America/New_York:20260321T200000
DTEND;TZID=America/New_York:20260321T230000
DTSTAMP:20260420T215515
CREATED:20260320T164342Z
LAST-MODIFIED:20260320T164342Z
UID:10002747-1774123200-1774134000@roxyunk.org
SUMMARY:Lunar Pools\, My Familiar\, Deerking\, Lunar Calendar at the Grape
DESCRIPTION:
URL:https://roxyunk.org/event/lunar-pools-my-familiar-deerking-lunar-calendar-at-the-grape/
LOCATION:Grape Room\, 105 Grape Street
CATEGORIES:Live Music,RoxYunk
END:VEVENT
BEGIN:VEVENT
DTSTART;TZID=America/New_York:20260321T200000
DTEND;TZID=America/New_York:20260321T230000
DTSTAMP:20260420T215515
CREATED:20260320T164706Z
LAST-MODIFIED:20260320T164830Z
UID:10002749-1774123200-1774134000@roxyunk.org
SUMMARY:Back To Amy: Amy Winehouse Tribute at Fallser - Su Teears with Caroline Quinn
DESCRIPTION:
URL:https://roxyunk.org/event/back-to-amy-amy-winehouse-tribute-at-fallser-su-teears-with-caroline-quinn/
LOCATION:The Fallser Club\, 3721 Midvale Avenue\, Philadelphia\, PA\, 19129\, United States
CATEGORIES:East Falla,Live Music
END:VEVENT
END:VCALENDAR