BEGIN:VCALENDAR
VERSION:2.0
PRODID:-//RoxYunk.Org - ECPv6.15.20//NONSGML v1.0//EN
CALSCALE:GREGORIAN
METHOD:PUBLISH
X-WR-CALNAME:RoxYunk.Org
X-ORIGINAL-URL:https://roxyunk.org
X-WR-CALDESC:Events for RoxYunk.Org
REFRESH-INTERVAL;VALUE=DURATION:PT1H
X-Robots-Tag:noindex
X-PUBLISHED-TTL:PT1H
BEGIN:VTIMEZONE
TZID:America/New_York
BEGIN:DAYLIGHT
TZOFFSETFROM:-0500
TZOFFSETTO:-0400
TZNAME:EDT
DTSTART:20250309T070000
END:DAYLIGHT
BEGIN:STANDARD
TZOFFSETFROM:-0400
TZOFFSETTO:-0500
TZNAME:EST
DTSTART:20251102T060000
END:STANDARD
BEGIN:DAYLIGHT
TZOFFSETFROM:-0500
TZOFFSETTO:-0400
TZNAME:EDT
DTSTART:20260308T070000
END:DAYLIGHT
BEGIN:STANDARD
TZOFFSETFROM:-0400
TZOFFSETTO:-0500
TZNAME:EST
DTSTART:20261101T060000
END:STANDARD
BEGIN:DAYLIGHT
TZOFFSETFROM:-0500
TZOFFSETTO:-0400
TZNAME:EDT
DTSTART:20270314T070000
END:DAYLIGHT
BEGIN:STANDARD
TZOFFSETFROM:-0400
TZOFFSETTO:-0500
TZNAME:EST
DTSTART:20271107T060000
END:STANDARD
END:VTIMEZONE
BEGIN:VEVENT
DTSTART;TZID=America/New_York:20260320T200000
DTEND;TZID=America/New_York:20260320T230000
DTSTAMP:20260420T220630
CREATED:20260320T161650Z
LAST-MODIFIED:20260320T161810Z
UID:10002738-1774036800-1774047600@roxyunk.org
SUMMARY:Cosmic Caravan\, Ministry of Bad Ideas\, Zen Fuzz at Dawson
DESCRIPTION:
URL:https://roxyunk.org/event/cosmic-caravan-ministry-of-bad-ideas-zen-fuzz-at-dawson/
LOCATION:Dawson Street Pub\, Philadelphia\, PA\, 19127\, United States
CATEGORIES:Live Music,RoxYunk
ATTACH;FMTTYPE=image/jpeg:https://roxyunk.org/wp-content/uploads/2026/03/dawsons_promo-scaled.jpeg
END:VEVENT
BEGIN:VEVENT
DTSTART;TZID=America/New_York:20260320T200000
DTEND;TZID=America/New_York:20260320T230000
DTSTAMP:20260420T220630
CREATED:20260320T163420Z
LAST-MODIFIED:20260320T163420Z
UID:10002743-1774036800-1774047600@roxyunk.org
SUMMARY:Swing That Cat at the Fallser
DESCRIPTION:
URL:https://roxyunk.org/event/swing-that-cat-at-the-fallser/
LOCATION:The Fallser Club\, 3721 Midvale Avenue\, Philadelphia\, PA\, 19129\, United States
CATEGORIES:East Falla,Live Music
END:VEVENT
BEGIN:VEVENT
DTSTART;TZID=America/New_York:20260320T200000
DTEND;TZID=America/New_York:20260320T230000
DTSTAMP:20260420T220630
CREATED:20260320T163631Z
LAST-MODIFIED:20260320T163631Z
UID:10002744-1774036800-1774047600@roxyunk.org
SUMMARY:Adventure Lost\, Close Drive\, Aly Castle at the Grape
DESCRIPTION:
URL:https://roxyunk.org/event/adventure-lost-close-drive-aly-castle-at-the-grape/
LOCATION:Grape Room\, 105 Grape Street
CATEGORIES:Live Music,RoxYunk
END:VEVENT
END:VCALENDAR