BEGIN:VCALENDAR
VERSION:2.0
PRODID:-//RoxYunk.Org - ECPv6.15.20//NONSGML v1.0//EN
CALSCALE:GREGORIAN
METHOD:PUBLISH
X-ORIGINAL-URL:https://roxyunk.org
X-WR-CALDESC:Events for RoxYunk.Org
REFRESH-INTERVAL;VALUE=DURATION:PT1H
X-Robots-Tag:noindex
X-PUBLISHED-TTL:PT1H
BEGIN:VTIMEZONE
TZID:America/New_York
BEGIN:DAYLIGHT
TZOFFSETFROM:-0500
TZOFFSETTO:-0400
TZNAME:EDT
DTSTART:20250309T070000
END:DAYLIGHT
BEGIN:STANDARD
TZOFFSETFROM:-0400
TZOFFSETTO:-0500
TZNAME:EST
DTSTART:20251102T060000
END:STANDARD
BEGIN:DAYLIGHT
TZOFFSETFROM:-0500
TZOFFSETTO:-0400
TZNAME:EDT
DTSTART:20260308T070000
END:DAYLIGHT
BEGIN:STANDARD
TZOFFSETFROM:-0400
TZOFFSETTO:-0500
TZNAME:EST
DTSTART:20261101T060000
END:STANDARD
BEGIN:DAYLIGHT
TZOFFSETFROM:-0500
TZOFFSETTO:-0400
TZNAME:EDT
DTSTART:20270314T070000
END:DAYLIGHT
BEGIN:STANDARD
TZOFFSETFROM:-0400
TZOFFSETTO:-0500
TZNAME:EST
DTSTART:20271107T060000
END:STANDARD
END:VTIMEZONE
BEGIN:VEVENT
DTSTART;TZID=America/New_York:20260220T200000
DTEND;TZID=America/New_York:20260220T230000
DTSTAMP:20260420T220635
CREATED:20260115T055218Z
LAST-MODIFIED:20260115T132447Z
UID:10002169-1771617600-1771628400@roxyunk.org
SUMMARY:Freddy Berman’s Birthday Jam at Dawson St.
DESCRIPTION:A local legend. A man for our times. F. Rojo.
URL:https://roxyunk.org/event/freddy-bermans-birthday-jam-at-dawson-st/
LOCATION:Dawson Street Pub\, Philadelphia\, PA\, 19127\, United States
CATEGORIES:Live Music,Music related,RoxYunk
END:VEVENT
BEGIN:VEVENT
DTSTART;TZID=America/New_York:20260227T200000
DTEND;TZID=America/New_York:20260227T223000
DTSTAMP:20260420T220635
CREATED:20260227T121506Z
LAST-MODIFIED:20260227T121506Z
UID:10002547-1772222400-1772231400@roxyunk.org
SUMMARY:Crys Matthews and Samantha Rise
DESCRIPTION:
URL:https://roxyunk.org/event/crys-matthews-and-samantha-rise/
LOCATION:The Fallser Club\, 3721 Midvale Avenue\, Philadelphia\, PA\, 19129\, United States
CATEGORIES:East Falla,Live Music
END:VEVENT
BEGIN:VEVENT
DTSTART;TZID=America/New_York:20260227T200000
DTEND;TZID=America/New_York:20260227T233000
DTSTAMP:20260420T220635
CREATED:20260227T122638Z
LAST-MODIFIED:20260227T122638Z
UID:10002550-1772222400-1772235000@roxyunk.org
SUMMARY:CD215\, the Perils\, The Marc and Paddy's
DESCRIPTION:
URL:https://roxyunk.org/event/cd215-the-perils-the-marc-and-paddys/
LOCATION:Dawson Street Pub\, Philadelphia\, PA\, 19127\, United States
CATEGORIES:Live Music,RoxYunk
END:VEVENT
BEGIN:VEVENT
DTSTART;TZID=America/New_York:20260228T200000
DTEND;TZID=America/New_York:20260228T220000
DTSTAMP:20260420T220635
CREATED:20260227T121817Z
LAST-MODIFIED:20260227T121817Z
UID:10002548-1772308800-1772316000@roxyunk.org
SUMMARY:Vance GIlbert at the Fallser
DESCRIPTION:Vance Gilbert\n \nIf Joni Mitchell and Richie Havens had a love child\, with Rodney Dangerfield as the midwife\, the results might be something close to the great Vance Gilbert”\, says Richmond Magazine. \n​ \nVance’s new album\, “The Mother Of Trouble”\, features Grammy winner Lori McKenna on background vocals\, Juno award recipient and Bonnie Raitt Grammy hit song co-writer Joey Landreth on guitars\, and Americana-Roots master mandolinist Joe K. Walsh. With 4 bullies\, 4 deaths (3 of them murders)\, 3 moms\, 2 accidents\, 2 Black people\, 2 dogs\, 1 dog ball\,\, and 1 missed flight thanks to gas station sushi\, this album benefits from the gifts of time and experience honing songwriting skills that put this most vital of acoustic storytellers at the top of the game. \n​ \nOh\, and Management wants to make sure to tell you that this is the 14th release for this acoustic stalwart. \n​ \nOne of the originators of the finally recognized R&B/Folk/Jazz crossover-sub-genre\, Vance was born and raised in the Philadelphia area. Starting out hoping to be an R&B and jazz singer once at college\, there he discovered his affinity for the storytelling sensibilities of the acoustic singer-songwriter thing. Word spread like wildfire about Gilbert’s stage-owning singing and playing\, and Shawn Colvin invited him to be special guest on her 1992 Fat City tour where he took much of America by storm and by surprise. “With the voice of an angel\, the wit of a devil\, and the guitar playing of a god..” wrote the Fort Worth Star-Telegram. \nNoted not only for being the ever consummate performer\, Gilbert has recorded 13 albums\, including 5 for Philo/Rounder Records. Along with being opener of choice for artists as varied as Arlo Guthrie\, Anita Baker\, The Milk Carton Kids\, and Southside Johnny\, the mid 2000’s found Gilbert opening 150+ shows for comedian George Carlin. \nGilbert has also been a prominent presence at some of the world’s most prestigious gatherings and halls\, among them the Newport\, Winnipeg\, Rocky Mountain\, Calgary\, Ottawa\, and Falcon Ridge Folk festivals\, the Kate Wolf Music Festival\, and Australia’s Woodford Folk and Mullum Music Festivals\, Mountain Stage\, Boston’s Symphony Hall\, Nashville’s Lyman Auditorium\, The Barns at Wolftrap\, and a private party for his veterinarian where there was terrific lo-mein. \n\nhttps://vancegilbert.com/ \nhttps://www.facebook.com/vancegilbertmusic \nhttps://www.instagram.com/vancevancevance/
URL:https://roxyunk.org/event/vance-gilbert-at-the-fallser/
LOCATION:The Fallser Club\, 3721 Midvale Avenue\, Philadelphia\, PA\, 19129\, United States
CATEGORIES:East Falla,Live Music
END:VEVENT
END:VCALENDAR