BEGIN:VCALENDAR
VERSION:2.0
PRODID:-//RoxYunk.Org - ECPv6.15.20//NONSGML v1.0//EN
CALSCALE:GREGORIAN
METHOD:PUBLISH
X-WR-CALNAME:RoxYunk.Org
X-ORIGINAL-URL:https://roxyunk.org
X-WR-CALDESC:Events for RoxYunk.Org
REFRESH-INTERVAL;VALUE=DURATION:PT1H
X-Robots-Tag:noindex
X-PUBLISHED-TTL:PT1H
BEGIN:VTIMEZONE
TZID:America/New_York
BEGIN:DAYLIGHT
TZOFFSETFROM:-0500
TZOFFSETTO:-0400
TZNAME:EDT
DTSTART:20240310T070000
END:DAYLIGHT
BEGIN:STANDARD
TZOFFSETFROM:-0400
TZOFFSETTO:-0500
TZNAME:EST
DTSTART:20241103T060000
END:STANDARD
BEGIN:DAYLIGHT
TZOFFSETFROM:-0500
TZOFFSETTO:-0400
TZNAME:EDT
DTSTART:20250309T070000
END:DAYLIGHT
BEGIN:STANDARD
TZOFFSETFROM:-0400
TZOFFSETTO:-0500
TZNAME:EST
DTSTART:20251102T060000
END:STANDARD
BEGIN:DAYLIGHT
TZOFFSETFROM:-0500
TZOFFSETTO:-0400
TZNAME:EDT
DTSTART:20260308T070000
END:DAYLIGHT
BEGIN:STANDARD
TZOFFSETFROM:-0400
TZOFFSETTO:-0500
TZNAME:EST
DTSTART:20261101T060000
END:STANDARD
END:VTIMEZONE
BEGIN:VEVENT
DTSTART;TZID=America/New_York:20250921T130000
DTEND;TZID=America/New_York:20250921T150000
DTSTAMP:20260421T182501
CREATED:20250917T115656Z
LAST-MODIFIED:20250917T153920Z
UID:10001832-1758459600-1758466800@roxyunk.org
SUMMARY:MRAC presents poets Leonard Gontarek\, Jane Edna Mohler\, Glenn McLaughlin & Fran Gilmore
DESCRIPTION:Light refreshments and open mic to follow. \nhosted by David P. Kozinski \n\n\n\n\n\n\n\n\n\n\n\n\n\n\n\n\n\n\n\nLeonard Gontarek \n\n\n\n\n\n\n\n\n\n\n\n\n\njane edna mohler \n\n\n\n\n\n\n\n\n\n\n\n\n\nGlenn mclaughlin \n\n\n\n\n\n\n\n\n\n\n\n\n\nFran Gilmore \n\n\n\n\n\n\n\n\n\n\nLeonard Gontarek is the author of eight books of poems\, including Ain’t NoAngel Gonna Greet Me; The Long Way Home; Take Your Hand Out of MyPocket\, Shiva; and The Paris Poems of Jim Morrison. His poems haveappeared in Field\, Poet Lore\, Verse Daily\, Fence\, Poetry Northwest\,American Poetry Review\, Joyful Noise: An Anthology of AmericanSpiritual Poetry\, and The Best American Poetry (edited by Paul Muldoon). \n\n\n\n\n\n\n\n\n\nJane Edna Mohler is the 2020 Bucks County Poet Laureate (PA)\, winnerof the 2016 Main Street Voices. She was nominated multiple times for a Pushcart\, once for Best of the Net\, and placed second in the 2023 Crossroads Contest. Recent publications include Gargoyle\, One Art\, and Verse Virtual. Her collections\, Broken Umbrellas (2019) and Autumn Clears (2025) were both published by Kelsay Books. She is Poetry Editor of the Schuylkill Valley Journal. www.janeednamohler.com \n\n\n\n\n\n\n\n\n\nGlenn McLaughlin is a semi-retired high school science teacher and the2013 Montco Poet Laureate. A handful of journals have published several of his poems\, but he was most happy to have his poem\, &quot;The Scalar Nature of Snow\,&quot; published by Scientific American Magazine and his poetry collection\, Forms of Lectio\, selected as a finalist for The Eric Hoffer Award in Poetry. He resides in Pottstown\, PA with his spouse\, Susan\, their dog\, Max\, and cat\, George\, while two daughters and five granddaughters live nearby. \n\n\n\n\n\n\n\n\n\nFran Gilmore is an activist\, artist and poet\, long retired from her work as an industrial hygienist. She has been a teacher in many settings\, including high school (biology)\, a prison (emotional healing)\, labor unions (health and safety) and community settings (racism). She has been published in American Writing\, Charlotte Poetry Review\, Anthology Philly and other journals\, and in an anthology\, We Used to be Wives: Divorce Unveiled Through Poetry. She self-published a chapbook\, Then Jumped.
URL:https://roxyunk.org/event/mrac-presents-poets-leonard-gontarek-jane-edna-mohler-glenn-mclaughlin-fran-gilmore/
LOCATION:Manayunk Roxborough Arts Center\, 419 Green Lane\, Philadelphia\, PA\, 19128\, United States
CATEGORIES:literary,RoxYunk
ATTACH;FMTTYPE=image/webp:https://roxyunk.org/wp-content/uploads/2025/09/ThanksforSupportingtheArts-MRAC-signage.webp
END:VEVENT
BEGIN:VEVENT
DTSTART;TZID=America/New_York:20250625T190000
DTEND;TZID=America/New_York:20250625T210000
DTSTAMP:20260421T182501
CREATED:20250616T215039Z
LAST-MODIFIED:20250616T215728Z
UID:10001621-1750878000-1750885200@roxyunk.org
SUMMARY:Manayunk Book Club on Meet Up
DESCRIPTION:What we’re about \n\n\n\nMeet kindred book lovers in a local Meetup Book Club! Fiction or non-fiction\, paperback or hardcover\, you will read a new book every month. Come to laugh\, share stories\, and make new friends! \n\n\n\nLike books? Live in or near Manayunk? \nCome on out! \n\n\nDetails\n\n\nIn May the weather was not in our favor for an outdoor event\, so we’re trying again in June at the PHS Pop-Up Garden in Manayunk . We will be discussing James by Percival Everett\, a critically acclaimed new take on classic Mark Twain. The pop-up garden has food and drink available for purchase and is friendly to well-behaved pets. Bonus points for anyone who builds a raft and arrives via the Manayunk Canal. \nIf mother nature conspires against us\, we will be at Manayunk Brewing Company a/k/a The Brew Pub. I will update the event posting and contact attendees if we have to do this. \nYou may want to (re)familiarize yourself with Twain’s depictions of Jim\, Huck Finn\, and Tom Sawyer. If you’re not familiar with Percival Everett\, the movie American Fiction is an entertaining introduction to his style and themes.
URL:https://roxyunk.org/event/manayunk-book-club-at-meerup-com-2/
LOCATION:PHS Pop Up Beer Garden in Manayunk\, 106 Jamestown\, Philadelphia\, PA\, 19127\, United States
CATEGORIES:literary
ATTACH;FMTTYPE=image/jpeg:https://roxyunk.org/wp-content/uploads/2025/06/Manayunk-Book-CLub.jpg
END:VEVENT
BEGIN:VEVENT
DTSTART;TZID=America/New_York:20250424T120000
DTEND;TZID=America/New_York:20250424T180000
DTSTAMP:20260421T182501
CREATED:20250403T174826Z
LAST-MODIFIED:20250403T174913Z
UID:10001064-1745496000-1745517600@roxyunk.org
SUMMARY:Grand Opening - Cupid’s Bookshop
DESCRIPTION:Finally! A bookshop again in RoxYunk! \nJoin us for a truly grand opening.
URL:https://roxyunk.org/event/grand-opening-cupids-bookshop/
LOCATION:Cupid’s Bookshop\, 106 Grape Street\, Philadelphia\, PA\, 19127\, United States
CATEGORIES:Business opening,community,literary,Local Business Event,RoxYunk
ATTACH;FMTTYPE=image/jpeg:https://roxyunk.org/wp-content/uploads/2025/04/att._O5TPQQhd5J4M7Bw9NkRdO7TGir4WPOYH31GnWs2QLQ.jpeg
END:VEVENT
END:VCALENDAR