BEGIN:VCALENDAR
VERSION:2.0
PRODID:-//RoxYunk.Org - ECPv6.15.20//NONSGML v1.0//EN
CALSCALE:GREGORIAN
METHOD:PUBLISH
X-WR-CALNAME:RoxYunk.Org
X-ORIGINAL-URL:https://roxyunk.org
X-WR-CALDESC:Events for RoxYunk.Org
REFRESH-INTERVAL;VALUE=DURATION:PT1H
X-Robots-Tag:noindex
X-PUBLISHED-TTL:PT1H
BEGIN:VTIMEZONE
TZID:America/New_York
BEGIN:DAYLIGHT
TZOFFSETFROM:-0500
TZOFFSETTO:-0400
TZNAME:EDT
DTSTART:20240310T070000
END:DAYLIGHT
BEGIN:STANDARD
TZOFFSETFROM:-0400
TZOFFSETTO:-0500
TZNAME:EST
DTSTART:20241103T060000
END:STANDARD
BEGIN:DAYLIGHT
TZOFFSETFROM:-0500
TZOFFSETTO:-0400
TZNAME:EDT
DTSTART:20250309T070000
END:DAYLIGHT
BEGIN:STANDARD
TZOFFSETFROM:-0400
TZOFFSETTO:-0500
TZNAME:EST
DTSTART:20251102T060000
END:STANDARD
BEGIN:DAYLIGHT
TZOFFSETFROM:-0500
TZOFFSETTO:-0400
TZNAME:EDT
DTSTART:20260308T070000
END:DAYLIGHT
BEGIN:STANDARD
TZOFFSETFROM:-0400
TZOFFSETTO:-0500
TZNAME:EST
DTSTART:20261101T060000
END:STANDARD
BEGIN:DAYLIGHT
TZOFFSETFROM:-0500
TZOFFSETTO:-0400
TZNAME:EDT
DTSTART:20270314T070000
END:DAYLIGHT
BEGIN:STANDARD
TZOFFSETFROM:-0400
TZOFFSETTO:-0500
TZNAME:EST
DTSTART:20271107T060000
END:STANDARD
END:VTIMEZONE
BEGIN:VEVENT
DTSTART;TZID=America/New_York:20260419T140000
DTEND;TZID=America/New_York:20260419T220000
DTSTAMP:20260420T095508
CREATED:20260417T153726Z
LAST-MODIFIED:20260417T153938Z
UID:10002793-1776607200-1776636000@roxyunk.org
SUMMARY:Blind Pig BBQ at Dawson
DESCRIPTION:Tom Knows meat. Go Eat.
URL:https://roxyunk.org/event/blind-pig-bbq-at-dawson-2/2026-04-19/
LOCATION:Dawson Street Pub\, Philadelphia\, PA\, 19127\, United States
CATEGORIES:Food related
END:VEVENT
BEGIN:VEVENT
DTSTART;TZID=America/New_York:20260419T110000
DTEND;TZID=America/New_York:20260419T170000
DTSTAMP:20260420T095508
CREATED:20260203T175252Z
LAST-MODIFIED:20260203T175252Z
UID:10002480-1776596400-1776618000@roxyunk.org
SUMMARY:StrEAT Food Festival
DESCRIPTION:Hope you’re hungry!\n\nManayunk’s StrEAT Food Festival is back again\, April 19th from 11 a.m. to 5 p.m.\n\nCome celebrate as Main Street becomes a foodie’s dream!\n\nFrom amazing local food trucks to unique artisan vendors\, there is something for everyone to enjoy.\n\nSavor cuisines from around the world\, enjoy live music performances\, and embrace the craftsmanship of our local merchants.\n\nThere will be fun for everyone!\n\nDo not miss out on the StrEAT Food Festival!
URL:https://roxyunk.org/event/streat-food-festival/
LOCATION:Manayunk\, Philadelphia\, PA\, 19127\, United States
CATEGORIES:community,Food Festival,Food related,For kids,Free,Live Music,Outdoor Activity,RoxYunk
ATTACH;FMTTYPE=image/jpeg:https://roxyunk.org/wp-content/uploads/2026/02/StrEAT-fest.jpg
END:VEVENT
BEGIN:VEVENT
DTSTART;TZID=America/New_York:20260418T140000
DTEND;TZID=America/New_York:20260418T210000
DTSTAMP:20260420T095508
CREATED:20260417T153726Z
LAST-MODIFIED:20260417T153938Z
UID:10002792-1776520800-1776546000@roxyunk.org
SUMMARY:Blind Pig BBQ at Dawson
DESCRIPTION:Tom Knows meat. Go Eat.
URL:https://roxyunk.org/event/blind-pig-bbq-at-dawson-2/2026-04-18/
LOCATION:Dawson Street Pub\, Philadelphia\, PA\, 19127\, United States
CATEGORIES:Food related
END:VEVENT
BEGIN:VEVENT
DTSTART;TZID=America/New_York:20260308T150000
DTEND;TZID=America/New_York:20260308T180000
DTSTAMP:20260420T095508
CREATED:20260112T175301Z
LAST-MODIFIED:20260305T153758Z
UID:10002155-1772982000-1772992800@roxyunk.org
SUMMARY:4th Annual Ridge Avenue Chili Cook Off at the Foodery.
DESCRIPTION:You are cordially invited to taste and judge \nIf you think you can cook\, enter! \nEntry is $10\, winners split all the kitty \nIf you are hungry and judgmental\, \n A Spoon of Judgement (sic) is $5 \nEmail Eliot@roxyunk.org to enter \n 
URL:https://roxyunk.org/event/ridge-avenue-chili-cook-off/
LOCATION:The Foodery on Ridge\, 6148 Ridge Ave\, Philadelphia\, PA\, 19128\, United States
CATEGORIES:Food related,For kids,Free,RoxYunk
ATTACH;FMTTYPE=image/jpeg:https://roxyunk.org/wp-content/uploads/2026/01/FINAL-Chili-2026-Flyer-v2_page-0001.jpg
END:VEVENT
BEGIN:VEVENT
DTSTART;TZID=America/New_York:20260131T110000
DTEND;TZID=America/New_York:20260131T160000
DTSTAMP:20260420T095508
CREATED:20260114T213914Z
LAST-MODIFIED:20260115T041734Z
UID:10002156-1769857200-1769875200@roxyunk.org
SUMMARY:Founders Philly Freezeout
DESCRIPTION:“Manayunk has teamed up with Founders Brewing to turn Main Street into a winter wonderland. Bundle up and come to Main Street to catch live ice carving demonstrations\, incredible ice sculptures\, Founders beer specials in restaurants and bars\, lion dancing\, a snowy igloo\, the Manayunk Chowder Crawl\, giveaways\, a Winter Market\, and more! This is a family-friendly event\, so bring the whole gang.”
URL:https://roxyunk.org/event/founders-philly-freezeout/
LOCATION:Manayunk\, Philadelphia\, PA\, 19127\, United States
CATEGORIES:All Ages,community,Festival,Food related,Outdoor Activity,RoxYunk
ATTACH;FMTTYPE=image/png:https://roxyunk.org/wp-content/uploads/2026/01/Roger-at-Founders-Freezeout-1024x576-1.png
END:VEVENT
BEGIN:VEVENT
DTSTART;TZID=America/New_York:20251221T130000
DTEND;TZID=America/New_York:20251221T210000
DTSTAMP:20260420T095508
CREATED:20250917T124528Z
LAST-MODIFIED:20251219T161235Z
UID:10001838-1766322000-1766350800@roxyunk.org
SUMMARY:Philly Blind Pig BBQ At Dawson Street Pub and Slowey and The Boats
DESCRIPTION:The only thing that could be better than a fall afternoon at the Do Not Enter sign on Dawson\, delicious BBQ melting in your mouth and brain is a a fall afternoon is the same afternoon with Slowey and The Boats. \nA special day on Dawson Street\, the smell wafting up the hills\, tickling you nose bone the closer you get. \nCome sit outside in Wilby’s Grotto and soak up the glories of a RoxYunk Fall afternoon. \nAs Tom says “Proving with every piece of burning wood that BBQ is not just for the South anymore!” \n 
URL:https://roxyunk.org/event/philly-blind-pig-bbq-at-dawson-street-pubim-3/
LOCATION:Dawson Street Pub\, Philadelphia\, PA\, 19127\, United States
CATEGORIES:Food related,RoxYunk
ATTACH;FMTTYPE=image/jpeg:https://roxyunk.org/wp-content/uploads/2025/09/543472544_10236421368706811_1808797569049489440_n.jpg
END:VEVENT
BEGIN:VEVENT
DTSTART;TZID=America/New_York:20251220T140000
DTEND;TZID=America/New_York:20251220T220000
DTSTAMP:20260420T095508
CREATED:20251219T161453Z
LAST-MODIFIED:20251219T161624Z
UID:10001965-1766239200-1766268000@roxyunk.org
SUMMARY:Philly Blind Pig BBQ At Dawson Street Pub with music by Mellow Fever
DESCRIPTION:A special day on Dawson Street\, the smell wafting up the hills\, tickling you nose bone the closer you get. \nCome sit outside in Wilby’s Grotto and soak up the glories of a RoxYunk Fall afternoon. \nAs Tom says “Proving with every piece of burning wood that BBQ is not just for the South anymore!” \nBonus! Music by Mellow Fever. \n 
URL:https://roxyunk.org/event/philly-blind-pig-bbq-at-dawson-street-pubim-3-2/
LOCATION:Dawson Street Pub\, Philadelphia\, PA\, 19127\, United States
CATEGORIES:Food related,RoxYunk
ATTACH;FMTTYPE=image/jpeg:https://roxyunk.org/wp-content/uploads/2025/09/543472544_10236421368706811_1808797569049489440_n.jpg
END:VEVENT
BEGIN:VEVENT
DTSTART;TZID=America/New_York:20251116T130000
DTEND;TZID=America/New_York:20251116T200000
DTSTAMP:20260420T095508
CREATED:20251112T191420Z
LAST-MODIFIED:20251112T191420Z
UID:10001928-1763298000-1763323200@roxyunk.org
SUMMARY:Blind Pig BBQ Days at Dawson Street
DESCRIPTION:
URL:https://roxyunk.org/event/blind-pig-bbq-days-at-dawson-street/2025-11-16/
LOCATION:Dawson Street Pub\, Philadelphia\, PA\, 19127\, United States
CATEGORIES:Food related,RoxYunk
END:VEVENT
BEGIN:VEVENT
DTSTART;TZID=America/New_York:20251115T130000
DTEND;TZID=America/New_York:20251115T200000
DTSTAMP:20260420T095508
CREATED:20251112T191420Z
LAST-MODIFIED:20251112T191420Z
UID:10001927-1763211600-1763236800@roxyunk.org
SUMMARY:Blind Pig BBQ Days at Dawson Street
DESCRIPTION:
URL:https://roxyunk.org/event/blind-pig-bbq-days-at-dawson-street/2025-11-15/
LOCATION:Dawson Street Pub\, Philadelphia\, PA\, 19127\, United States
CATEGORIES:Food related,RoxYunk
END:VEVENT
BEGIN:VEVENT
DTSTART;TZID=America/New_York:20251109T100000
DTEND;TZID=America/New_York:20251109T140000
DTSTAMP:20260420T095508
CREATED:20251106T025115Z
LAST-MODIFIED:20251106T030302Z
UID:10001912-1762682400-1762696800@roxyunk.org
SUMMARY:Salamander Sundays at Umbria Arts
DESCRIPTION:Way down on Umbria\, it’s an explosion of art and food and good stuff! The lion lies down with the lamb and elk boogies with the chupacabra. \nPark Bench Coffee! \nDead King Bread \nTomorrow Today Books \nAll Vinyl Sound Track!
URL:https://roxyunk.org/event/salamander-sundays-at-umbria-arts/
LOCATION:Umbria Arts\, 5100 Umbria Street\, Philadelphia\, PA\, United States
CATEGORIES:Art related,community,Food related,RoxYunk
ATTACH;FMTTYPE=image/jpeg:https://roxyunk.org/wp-content/uploads/2025/11/salamander_sundays_3.jpeg
END:VEVENT
BEGIN:VEVENT
DTSTART;TZID=America/New_York:20251019T130000
DTEND;TZID=America/New_York:20251019T210000
DTSTAMP:20260420T095508
CREATED:20250917T124101Z
LAST-MODIFIED:20250917T132359Z
UID:10001836-1760878800-1760907600@roxyunk.org
SUMMARY:Philly Blind Pig BBQ At Dawson Street Pub and Slowey and The Boats
DESCRIPTION:The only thing that could be better than a fall afternoon at the Do Not Enter sign on Dawson\, delicious BBQ melting in your mouth and brain is a a fall afternoon is the same afternoon with Slowey and The Boats. \nA special day on Dawson Street\, the smell wafting up the hills\, tickling you nose bone the closer you get. \nCome sit outside in Wilby’s Grotto and soak up the glories of a RoxYunk Fall afternoon. \nAs Tom says “Proving with every piece of burning wood that BBQ is not just for the South anymore!” \n 
URL:https://roxyunk.org/event/philly-blind-pig-bbq-at-dawson-street-pubim-2/
LOCATION:Dawson Street Pub\, Philadelphia\, PA\, 19127\, United States
CATEGORIES:Food related,RoxYunk
ATTACH;FMTTYPE=image/jpeg:https://roxyunk.org/wp-content/uploads/2025/09/543472544_10236421368706811_1808797569049489440_n.jpg
END:VEVENT
END:VCALENDAR