BEGIN:VCALENDAR
VERSION:2.0
PRODID:-//RoxYunk.Org - ECPv6.15.20//NONSGML v1.0//EN
CALSCALE:GREGORIAN
METHOD:PUBLISH
X-ORIGINAL-URL:https://roxyunk.org
X-WR-CALDESC:Events for RoxYunk.Org
REFRESH-INTERVAL;VALUE=DURATION:PT1H
X-Robots-Tag:noindex
X-PUBLISHED-TTL:PT1H
BEGIN:VTIMEZONE
TZID:America/New_York
BEGIN:DAYLIGHT
TZOFFSETFROM:-0500
TZOFFSETTO:-0400
TZNAME:EDT
DTSTART:20250309T070000
END:DAYLIGHT
BEGIN:STANDARD
TZOFFSETFROM:-0400
TZOFFSETTO:-0500
TZNAME:EST
DTSTART:20251102T060000
END:STANDARD
BEGIN:DAYLIGHT
TZOFFSETFROM:-0500
TZOFFSETTO:-0400
TZNAME:EDT
DTSTART:20260308T070000
END:DAYLIGHT
BEGIN:STANDARD
TZOFFSETFROM:-0400
TZOFFSETTO:-0500
TZNAME:EST
DTSTART:20261101T060000
END:STANDARD
BEGIN:DAYLIGHT
TZOFFSETFROM:-0500
TZOFFSETTO:-0400
TZNAME:EDT
DTSTART:20270314T070000
END:DAYLIGHT
BEGIN:STANDARD
TZOFFSETFROM:-0400
TZOFFSETTO:-0500
TZNAME:EST
DTSTART:20271107T060000
END:STANDARD
END:VTIMEZONE
BEGIN:VEVENT
DTSTART;TZID=America/New_York:20260419T110000
DTEND;TZID=America/New_York:20260419T170000
DTSTAMP:20260420T113420
CREATED:20260203T175252Z
LAST-MODIFIED:20260203T175252Z
UID:10002480-1776596400-1776618000@roxyunk.org
SUMMARY:StrEAT Food Festival
DESCRIPTION:Hope you’re hungry!\n\nManayunk’s StrEAT Food Festival is back again\, April 19th from 11 a.m. to 5 p.m.\n\nCome celebrate as Main Street becomes a foodie’s dream!\n\nFrom amazing local food trucks to unique artisan vendors\, there is something for everyone to enjoy.\n\nSavor cuisines from around the world\, enjoy live music performances\, and embrace the craftsmanship of our local merchants.\n\nThere will be fun for everyone!\n\nDo not miss out on the StrEAT Food Festival!
URL:https://roxyunk.org/event/streat-food-festival/
LOCATION:Manayunk\, Philadelphia\, PA\, 19127\, United States
CATEGORIES:community,Food Festival,Food related,For kids,Free,Live Music,Outdoor Activity,RoxYunk
ATTACH;FMTTYPE=image/jpeg:https://roxyunk.org/wp-content/uploads/2026/02/StrEAT-fest.jpg
END:VEVENT
BEGIN:VEVENT
DTSTART;TZID=America/New_York:20260419T140000
DTEND;TZID=America/New_York:20260419T220000
DTSTAMP:20260420T113420
CREATED:20260417T153726Z
LAST-MODIFIED:20260417T153938Z
UID:10002793-1776607200-1776636000@roxyunk.org
SUMMARY:Blind Pig BBQ at Dawson
DESCRIPTION:Tom Knows meat. Go Eat.
URL:https://roxyunk.org/event/blind-pig-bbq-at-dawson-2/2026-04-19/
LOCATION:Dawson Street Pub\, Philadelphia\, PA\, 19127\, United States
CATEGORIES:Food related
END:VEVENT
END:VCALENDAR