BEGIN:VCALENDAR
VERSION:2.0
PRODID:-//RoxYunk.Org - ECPv6.15.20//NONSGML v1.0//EN
CALSCALE:GREGORIAN
METHOD:PUBLISH
X-WR-CALNAME:RoxYunk.Org
X-ORIGINAL-URL:https://roxyunk.org
X-WR-CALDESC:Events for RoxYunk.Org
REFRESH-INTERVAL;VALUE=DURATION:PT1H
X-Robots-Tag:noindex
X-PUBLISHED-TTL:PT1H
BEGIN:VTIMEZONE
TZID:America/New_York
BEGIN:DAYLIGHT
TZOFFSETFROM:-0500
TZOFFSETTO:-0400
TZNAME:EDT
DTSTART:20240310T070000
END:DAYLIGHT
BEGIN:STANDARD
TZOFFSETFROM:-0400
TZOFFSETTO:-0500
TZNAME:EST
DTSTART:20241103T060000
END:STANDARD
BEGIN:DAYLIGHT
TZOFFSETFROM:-0500
TZOFFSETTO:-0400
TZNAME:EDT
DTSTART:20250309T070000
END:DAYLIGHT
BEGIN:STANDARD
TZOFFSETFROM:-0400
TZOFFSETTO:-0500
TZNAME:EST
DTSTART:20251102T060000
END:STANDARD
BEGIN:DAYLIGHT
TZOFFSETFROM:-0500
TZOFFSETTO:-0400
TZNAME:EDT
DTSTART:20260308T070000
END:DAYLIGHT
BEGIN:STANDARD
TZOFFSETFROM:-0400
TZOFFSETTO:-0500
TZNAME:EST
DTSTART:20261101T060000
END:STANDARD
BEGIN:DAYLIGHT
TZOFFSETFROM:-0500
TZOFFSETTO:-0400
TZNAME:EDT
DTSTART:20270314T070000
END:DAYLIGHT
BEGIN:STANDARD
TZOFFSETFROM:-0400
TZOFFSETTO:-0500
TZNAME:EST
DTSTART:20271107T060000
END:STANDARD
END:VTIMEZONE
BEGIN:VEVENT
DTSTART;TZID=America/New_York:20260201T140000
DTEND;TZID=America/New_York:20260201T220000
DTSTAMP:20260420T113347
CREATED:20260124T155959Z
LAST-MODIFIED:20260125T170932Z
UID:10002351-1769954400-1769983200@roxyunk.org
SUMMARY:Against The Grain All Day Vinyl at Umbria Arts
DESCRIPTION:
URL:https://roxyunk.org/event/postponed-til-feb-1-against-the-grain-all-day-vinly-at-umbria-arts/
LOCATION:Umbria Arts\, 5100 Umbria Street\, Philadelphia\, PA\, United States
CATEGORIES:Art related,community,Dance,For kids,Free,RoxYunk
END:VEVENT
BEGIN:VEVENT
DTSTART;TZID=America/New_York:20251205T193000
DTEND;TZID=America/New_York:20251205T213000
DTSTAMP:20260420T113347
CREATED:20251205T190806Z
LAST-MODIFIED:20251205T191001Z
UID:10001939-1764963000-1764970200@roxyunk.org
SUMMARY:VIPARC Presents Creative Reaction Annual Dance Showcase
DESCRIPTION:=7:30 pm – 9:30 pm\n\n\nPerformance time: 7:30pm\nTicket price: $35Performance description: This is our 2nd annual company showcase.  We will have our 5 different dance teams within our company perform different dance number with various styles and themes. \nWebsite: www.creativereactionco.com
URL:https://roxyunk.org/event/viparc-presents-creative-reaction-annual-dance-showcase/
LOCATION:Venice Island Performing Arts Center
CATEGORIES:Dance
END:VEVENT
END:VCALENDAR