BEGIN:VCALENDAR
VERSION:2.0
PRODID:-//RoxYunk.Org - ECPv6.15.20//NONSGML v1.0//EN
CALSCALE:GREGORIAN
METHOD:PUBLISH
X-WR-CALNAME:RoxYunk.Org
X-ORIGINAL-URL:https://roxyunk.org
X-WR-CALDESC:Events for RoxYunk.Org
REFRESH-INTERVAL;VALUE=DURATION:PT1H
X-Robots-Tag:noindex
X-PUBLISHED-TTL:PT1H
BEGIN:VTIMEZONE
TZID:America/New_York
BEGIN:DAYLIGHT
TZOFFSETFROM:-0500
TZOFFSETTO:-0400
TZNAME:EDT
DTSTART:20240310T070000
END:DAYLIGHT
BEGIN:STANDARD
TZOFFSETFROM:-0400
TZOFFSETTO:-0500
TZNAME:EST
DTSTART:20241103T060000
END:STANDARD
BEGIN:DAYLIGHT
TZOFFSETFROM:-0500
TZOFFSETTO:-0400
TZNAME:EDT
DTSTART:20250309T070000
END:DAYLIGHT
BEGIN:STANDARD
TZOFFSETFROM:-0400
TZOFFSETTO:-0500
TZNAME:EST
DTSTART:20251102T060000
END:STANDARD
BEGIN:DAYLIGHT
TZOFFSETFROM:-0500
TZOFFSETTO:-0400
TZNAME:EDT
DTSTART:20260308T070000
END:DAYLIGHT
BEGIN:STANDARD
TZOFFSETFROM:-0400
TZOFFSETTO:-0500
TZNAME:EST
DTSTART:20261101T060000
END:STANDARD
BEGIN:DAYLIGHT
TZOFFSETFROM:-0500
TZOFFSETTO:-0400
TZNAME:EDT
DTSTART:20270314T070000
END:DAYLIGHT
BEGIN:STANDARD
TZOFFSETFROM:-0400
TZOFFSETTO:-0500
TZNAME:EST
DTSTART:20271107T060000
END:STANDARD
END:VTIMEZONE
BEGIN:VEVENT
DTSTART;TZID=America/New_York:20260404T090000
DTEND;TZID=America/New_York:20260404T120000
DTSTAMP:20260420T160134
CREATED:20260403T181541Z
LAST-MODIFIED:20260403T181541Z
UID:10002779-1775293200-1775304000@roxyunk.org
SUMMARY:Lincoln Drive Clean-Up
DESCRIPTION:Meeting at Historic RittenhouseTown\nParking: There are several small parking areas at Historic RittenhouseTown and more free parking along nearby neighborhood streets. See map for details.\nBathrooms: None \nJoin Friends of the Wissahickon for a special large-scale clean-up along Lincoln Drive! For this effort\, the Drive will be closed from Wissahickon Avenue to Ridge Avenue\, providing volunteers with safe access to a heavily traveled road. By removing litter along the roadway\, we can prevent trash from washing into the creek during rainstorms and help protect habitat and stream health. \nAll are welcome to attend\, and no experience is needed. We encourage attendees to work within their own comfort level\, and we always strive to accommodate needs on an individual basis. With that being said\, this service day may include the following activities:\n• Litter clean-up\n• Hiking up to 2 miles (we’ll be traveling up and down Lincoln Drive picking up trash) \nWe provide gloves\, tools\, and instruction–you just need to show up! Be sure to wear sturdy footwear and long pants\, and remember to bring water with you. Detailed information and confirmation of the meeting location will be sent by email one business day before the event. If you are hoping to bring a group of 5 or more people\, please reach out to us first. For more information contact Marisa Miller at miller@fow.org.
URL:https://roxyunk.org/event/lincoln-drive-clean-up/
CATEGORIES:All Ages,Clean Up,Outdoor Activity
END:VEVENT
BEGIN:VEVENT
DTSTART;TZID=America/New_York:20251115T090000
DTEND;TZID=America/New_York:20251115T130000
DTSTAMP:20260420T160134
CREATED:20250919T172523Z
LAST-MODIFIED:20250919T172523Z
UID:10001860-1763197200-1763211600@roxyunk.org
SUMMARY:Love Your Park Day at Gorgas Park
DESCRIPTION:Come and help out keeping the big green clean and serene.
URL:https://roxyunk.org/event/love-your-park-day-at-gorgas-park/
LOCATION:Gorgas Park\, 6300 Ridge Ave\, Philadelphia\, PA\, 19128\, United States
CATEGORIES:Clean Up,community,Outdoor Activity,RoxYunk
END:VEVENT
BEGIN:VEVENT
DTSTART;TZID=America/New_York:20250913T100000
DTEND;TZID=America/New_York:20250913T120000
DTSTAMP:20260420T160134
CREATED:20250613T204209Z
LAST-MODIFIED:20250613T205103Z
UID:10001685-1757757600-1757764800@roxyunk.org
SUMMARY:Gorgas Park Clean Up on 2nd Saturdays
DESCRIPTION:Keeping it real\, keeping it clean. \nKeeping it real clean!m \nMeet at the Park house at 10.
URL:https://roxyunk.org/event/gorgas-park-clean-up/2025-09-13/
CATEGORIES:Clean Up,community,Garden/Nature Related,Outdoor Activity,RoxYunk
ATTACH;FMTTYPE=image/jpeg:https://roxyunk.org/wp-content/uploads/2025/06/att.pLBKwHebHm-odlpuFj2MeYdI00ccj0L94kyykn82TNo-1.jpeg
END:VEVENT
BEGIN:VEVENT
DTSTART;TZID=America/New_York:20250809T100000
DTEND;TZID=America/New_York:20250809T120000
DTSTAMP:20260420T160134
CREATED:20250613T204209Z
LAST-MODIFIED:20250613T205103Z
UID:10001684-1754733600-1754740800@roxyunk.org
SUMMARY:Gorgas Park Clean Up on 2nd Saturdays
DESCRIPTION:Keeping it real\, keeping it clean. \nKeeping it real clean!m \nMeet at the Park house at 10.
URL:https://roxyunk.org/event/gorgas-park-clean-up/2025-08-09/
CATEGORIES:Clean Up,community,Garden/Nature Related,Outdoor Activity,RoxYunk
ATTACH;FMTTYPE=image/jpeg:https://roxyunk.org/wp-content/uploads/2025/06/att.pLBKwHebHm-odlpuFj2MeYdI00ccj0L94kyykn82TNo-1.jpeg
END:VEVENT
BEGIN:VEVENT
DTSTART;TZID=America/New_York:20250712T100000
DTEND;TZID=America/New_York:20250712T120000
DTSTAMP:20260420T160134
CREATED:20250613T204209Z
LAST-MODIFIED:20250613T205103Z
UID:10001683-1752314400-1752321600@roxyunk.org
SUMMARY:Gorgas Park Clean Up on 2nd Saturdays
DESCRIPTION:Keeping it real\, keeping it clean. \nKeeping it real clean!m \nMeet at the Park house at 10.
URL:https://roxyunk.org/event/gorgas-park-clean-up/2025-07-12/
CATEGORIES:Clean Up,community,Garden/Nature Related,Outdoor Activity,RoxYunk
ATTACH;FMTTYPE=image/jpeg:https://roxyunk.org/wp-content/uploads/2025/06/att.pLBKwHebHm-odlpuFj2MeYdI00ccj0L94kyykn82TNo-1.jpeg
END:VEVENT
BEGIN:VEVENT
DTSTART;TZID=America/New_York:20250614T100000
DTEND;TZID=America/New_York:20250614T120000
DTSTAMP:20260420T160134
CREATED:20250613T204209Z
LAST-MODIFIED:20250613T205103Z
UID:10001682-1749895200-1749902400@roxyunk.org
SUMMARY:Gorgas Park Clean Up on 2nd Saturdays
DESCRIPTION:Keeping it real\, keeping it clean. \nKeeping it real clean!m \nMeet at the Park house at 10.
URL:https://roxyunk.org/event/gorgas-park-clean-up/2025-06-14/
CATEGORIES:Clean Up,community,Garden/Nature Related,Outdoor Activity,RoxYunk
ATTACH;FMTTYPE=image/jpeg:https://roxyunk.org/wp-content/uploads/2025/06/att.pLBKwHebHm-odlpuFj2MeYdI00ccj0L94kyykn82TNo-1.jpeg
END:VEVENT
END:VCALENDAR