BEGIN:VCALENDAR
VERSION:2.0
PRODID:-//RoxYunk.Org - ECPv6.15.20//NONSGML v1.0//EN
CALSCALE:GREGORIAN
METHOD:PUBLISH
X-ORIGINAL-URL:https://roxyunk.org
X-WR-CALDESC:Events for RoxYunk.Org
REFRESH-INTERVAL;VALUE=DURATION:PT1H
X-Robots-Tag:noindex
X-PUBLISHED-TTL:PT1H
BEGIN:VTIMEZONE
TZID:America/New_York
BEGIN:DAYLIGHT
TZOFFSETFROM:-0500
TZOFFSETTO:-0400
TZNAME:EDT
DTSTART:20240310T070000
END:DAYLIGHT
BEGIN:STANDARD
TZOFFSETFROM:-0400
TZOFFSETTO:-0500
TZNAME:EST
DTSTART:20241103T060000
END:STANDARD
BEGIN:DAYLIGHT
TZOFFSETFROM:-0500
TZOFFSETTO:-0400
TZNAME:EDT
DTSTART:20250309T070000
END:DAYLIGHT
BEGIN:STANDARD
TZOFFSETFROM:-0400
TZOFFSETTO:-0500
TZNAME:EST
DTSTART:20251102T060000
END:STANDARD
BEGIN:DAYLIGHT
TZOFFSETFROM:-0500
TZOFFSETTO:-0400
TZNAME:EDT
DTSTART:20260308T070000
END:DAYLIGHT
BEGIN:STANDARD
TZOFFSETFROM:-0400
TZOFFSETTO:-0500
TZNAME:EST
DTSTART:20261101T060000
END:STANDARD
END:VTIMEZONE
BEGIN:VEVENT
DTSTART;TZID=America/New_York:20251122T100000
DTEND;TZID=America/New_York:20251122T230000
DTSTAMP:20260420T095451
CREATED:20251108T221440Z
LAST-MODIFIED:20251120T145027Z
UID:10001926-1763805600-1763852400@roxyunk.org
SUMMARY:Umbria Arts Grand Opening!
DESCRIPTION:this is one of those events you’ll wish you were at \nMusic and zines and coffee and joy!
URL:https://roxyunk.org/event/umbriaartsopeningsalvo/
LOCATION:Umbria Arts\, 5100 Umbria Street\, Philadelphia\, PA\, United States
CATEGORIES:Art related,Business opening,community,Concert,RoxYunk
ATTACH;FMTTYPE=image/jpeg:https://roxyunk.org/wp-content/uploads/2025/11/IMG_0372-scaled.jpeg
END:VEVENT
BEGIN:VEVENT
DTSTART;TZID=America/New_York:20250424T120000
DTEND;TZID=America/New_York:20250424T180000
DTSTAMP:20260420T095451
CREATED:20250403T174826Z
LAST-MODIFIED:20250403T174913Z
UID:10001064-1745496000-1745517600@roxyunk.org
SUMMARY:Grand Opening - Cupid’s Bookshop
DESCRIPTION:Finally! A bookshop again in RoxYunk! \nJoin us for a truly grand opening.
URL:https://roxyunk.org/event/grand-opening-cupids-bookshop/
LOCATION:Cupid’s Bookshop\, 106 Grape Street\, Philadelphia\, PA\, 19127\, United States
CATEGORIES:Business opening,community,literary,Local Business Event,RoxYunk
ATTACH;FMTTYPE=image/jpeg:https://roxyunk.org/wp-content/uploads/2025/04/att._O5TPQQhd5J4M7Bw9NkRdO7TGir4WPOYH31GnWs2QLQ.jpeg
END:VEVENT
END:VCALENDAR