BEGIN:VCALENDAR
VERSION:2.0
PRODID:-//RoxYunk.Org - ECPv6.15.20//NONSGML v1.0//EN
CALSCALE:GREGORIAN
METHOD:PUBLISH
X-WR-CALNAME:RoxYunk.Org
X-ORIGINAL-URL:https://roxyunk.org
X-WR-CALDESC:Events for RoxYunk.Org
REFRESH-INTERVAL;VALUE=DURATION:PT1H
X-Robots-Tag:noindex
X-PUBLISHED-TTL:PT1H
BEGIN:VTIMEZONE
TZID:America/New_York
BEGIN:DAYLIGHT
TZOFFSETFROM:-0500
TZOFFSETTO:-0400
TZNAME:EDT
DTSTART:20240310T070000
END:DAYLIGHT
BEGIN:STANDARD
TZOFFSETFROM:-0400
TZOFFSETTO:-0500
TZNAME:EST
DTSTART:20241103T060000
END:STANDARD
BEGIN:DAYLIGHT
TZOFFSETFROM:-0500
TZOFFSETTO:-0400
TZNAME:EDT
DTSTART:20250309T070000
END:DAYLIGHT
BEGIN:STANDARD
TZOFFSETFROM:-0400
TZOFFSETTO:-0500
TZNAME:EST
DTSTART:20251102T060000
END:STANDARD
BEGIN:DAYLIGHT
TZOFFSETFROM:-0500
TZOFFSETTO:-0400
TZNAME:EDT
DTSTART:20260308T070000
END:DAYLIGHT
BEGIN:STANDARD
TZOFFSETFROM:-0400
TZOFFSETTO:-0500
TZNAME:EST
DTSTART:20261101T060000
END:STANDARD
END:VTIMEZONE
BEGIN:VEVENT
DTSTART;TZID=America/New_York:20250921T110000
DTEND;TZID=America/New_York:20250921T160000
DTSTAMP:20260421T020403
CREATED:20250919T170907Z
LAST-MODIFIED:20250919T171655Z
UID:10001859-1758452400-1758470400@roxyunk.org
SUMMARY:Mt. Airy VIllage Fair
DESCRIPTION:Join us for the 16th Annual Mt. Airy Village Fair\, spanning the intersection of Carpenter Lane and Greene Street in West Mount Airy—also known as “the Village” – see you and your families there! \nThe Mt. Airy Village Fair is a volunteer community-led fair for our neighbors by our neighbors. This year the 15th Annual Mt. Airy Village Fair will take place on Sunday\, September 21\, 2025 from 11am-4pm (rain or shine!) on the 500 & 600 blocks of Carpenter Lane and the 6800 & 6900 blocks of Greene Street; spanning the intersection of Carpenter Lane and Greene Street in West Mt Airy \n  \n\nWe can’t wait to host these incredible artists and participatory events on our TWO stages during the Mt. Airy Village Fair this Sunday!\n\n\nPhiladelphia Dance Theatre & @fricknadorable from 11:00AM – 11:20AM\n\n\nPet Parade from 11:30AM – 12:15PM\n\n\nPie Eating Contest from 12:30PM – 1:15PM\n\n\nPhiladelphia School of Circus Arts from 1:30PM – 1:50PM\n\n\nJim Dragoni from 1:50PM – 2:30PM\n\n\nArt Miron from 2:10PM – 2:40PM\n\n\nInternational Ballet Exchange from 2:30PM – 2:50PM\n\n\nAdam Zeff of Germantown Jewish Centre from 2:40PM – 3:10PM\n\n\nTheodora Morley from 2:50PM – 3:30PM\n\n\nDevon Love Music from 3:10PM – 3:40PM\n\n\nRain Dance Studio from 3:30PM – 4:00PM
URL:https://roxyunk.org/event/mt-airy-village-fair/
LOCATION:Mt. Airy Village\, 500 Carpenter Lane\, Philadelphia\, PA\, United States
CATEGORIES:block party,community,Festival,For kids,Mt. Airy,Outdoor Activity
ATTACH;FMTTYPE=image/jpeg:https://roxyunk.org/wp-content/uploads/2025/09/mt-airy-fair-dancers.jpg
END:VEVENT
BEGIN:VEVENT
DTSTART;TZID=America/New_York:20250927T140000
DTEND;TZID=America/New_York:20250927T220000
DTSTAMP:20260421T020403
CREATED:20250108T011858Z
LAST-MODIFIED:20250926T125525Z
UID:10000715-1758981600-1759010400@roxyunk.org
SUMMARY:Jams On Krams - The Return!  Music by EDO\, Dr. Ketchup\, The Jody Drive\, Osiris WIldfire\, The Aldersons\, and the Krams Avenue (not too) Late Night Old Time Choir
DESCRIPTION:The highlight of the RoxYunk social season! \nMusic! Food! Drinks! Burn Barrels! \nBring friends\, children\, and well behaved dogs! \nEDO! Dr. Ketchup! Todd Young! \nDear neighbor\,  \nYou are cordially invited to Jams On Krams VII\, the highlight of the Roxyunk social season. It’s our annual neighborhood potluck get-together\, September 27\, 2ish until 9:30 ish Outside\, in the glorious Fall weather. 245 Krams Ave.  \nThis party started as Neighbor Andrew’s 50th Birthday party. It’s now his 6th 50th birthday party. Make sure to wish him a happy birthday. It’s also Eliot’s 2nd Annual 59th Birthday celebration.  \nBring something to share\, eats or drinks\, if you’re inclined. We will have burgers and dogs and veggie sausage and beer and soft drinks and water. Probably some other treats too. Bring it raw. The grill will be hot and we will cook it. The bring is not mandatory. If you’re hungry\, come and eat. \nChildren and well behaved pets are welcome.  \nFeel free to bring any neighbors\, friends\, relatives\, or anyone at all if they’ll make the evening better. Please let your folks\, friends\, and neighbors know about it as I might not have their number. \nThis is an outdoor\, rain or shine event. If it’s raining\, bring an umbrella. \nThere will be live music all day: Jody Drive at 5\, Dr. Ketchup at 6:15\, EDO at 7:30 the Aldersons at 3\, Osiris WIldfire at 4\, and some good old quiet time burn barrel music as we wind down. \nWe are trying to be minimal waste so you are encouraged to bring plates and forks and such.  We will have plates and forks and such but less trash helps. \nSincerely\, \nEliot and Andrew \n  \n#JamsOnKrams is instigated by The #RoxYunkFunCo. \n 
URL:https://roxyunk.org/event/jams-on-krams-the-return/
LOCATION:Krams End\, 245 Krams Avenue\, Philadelphia\, PA\, 19128\, United States
CATEGORIES:block party,community,Concert,Festival
ATTACH;FMTTYPE=image/jpeg:https://roxyunk.org/wp-content/uploads/2025/01/blammo.jpg
END:VEVENT
END:VCALENDAR