BEGIN:VCALENDAR
VERSION:2.0
PRODID:-//RoxYunk.Org - ECPv6.15.20//NONSGML v1.0//EN
CALSCALE:GREGORIAN
METHOD:PUBLISH
X-ORIGINAL-URL:https://roxyunk.org
X-WR-CALDESC:Events for RoxYunk.Org
REFRESH-INTERVAL;VALUE=DURATION:PT1H
X-Robots-Tag:noindex
X-PUBLISHED-TTL:PT1H
BEGIN:VTIMEZONE
TZID:America/New_York
BEGIN:DAYLIGHT
TZOFFSETFROM:-0500
TZOFFSETTO:-0400
TZNAME:EDT
DTSTART:20240310T070000
END:DAYLIGHT
BEGIN:STANDARD
TZOFFSETFROM:-0400
TZOFFSETTO:-0500
TZNAME:EST
DTSTART:20241103T060000
END:STANDARD
BEGIN:DAYLIGHT
TZOFFSETFROM:-0500
TZOFFSETTO:-0400
TZNAME:EDT
DTSTART:20250309T070000
END:DAYLIGHT
BEGIN:STANDARD
TZOFFSETFROM:-0400
TZOFFSETTO:-0500
TZNAME:EST
DTSTART:20251102T060000
END:STANDARD
BEGIN:DAYLIGHT
TZOFFSETFROM:-0500
TZOFFSETTO:-0400
TZNAME:EDT
DTSTART:20260308T070000
END:DAYLIGHT
BEGIN:STANDARD
TZOFFSETFROM:-0400
TZOFFSETTO:-0500
TZNAME:EST
DTSTART:20261101T060000
END:STANDARD
END:VTIMEZONE
BEGIN:VEVENT
DTSTART;TZID=America/New_York:20251029T070000
DTEND;TZID=America/New_York:20251029T090000
DTSTAMP:20260424T232408
CREATED:20251027T195643Z
LAST-MODIFIED:20251027T201809Z
UID:10001907-1761721200-1761728400@roxyunk.org
SUMMARY:East Falls Commuter Cafe - Last Of The Year! (probably)
DESCRIPTION:Join us for some drive time tunes at the worlds prettiest bridge. \nDan and the boys will be rocking it out from 7-9 am. \nFor more info: https://bikeaction.org/
URL:https://roxyunk.org/event/east-falls-commuter-cafe-last-of-the-year-probably/
LOCATION:Falls Bridge Art Park\, Kelly Drive and Calumet\, Philadelphia\, PA\, United States
CATEGORIES:Bike Related,East Falla,Music related,Outdoor Activity
ATTACH;FMTTYPE=image/png:https://roxyunk.org/wp-content/uploads/2025/04/IMG_7234.png
END:VEVENT
BEGIN:VEVENT
DTSTART;TZID=America/New_York:20250722T080000
DTEND;TZID=America/New_York:20250722T170000
DTSTAMP:20260424T232408
CREATED:20250718T155450Z
LAST-MODIFIED:20250718T155619Z
UID:10001811-1753171200-1753203600@roxyunk.org
SUMMARY:Philly Bike Action! District 4 Meeting - Tuesday 7/22 @ Hillltown
DESCRIPTION:Our next meeting will be this Tuesday\, July 22\, 7pm at Hilltown Tavern in the outdoor tent.\n\n\nThe focus of this month’s meeting will be preparing for our upcoming campaign to improve safety on the Ridge Avenue hill\, between the Wissahickon Transit Center and Osborn Street.\n\n\nHere’s an agenda.\n\n\n\nIf you can’t make the meeting\, we can always chat on Discord.  We have a channel specifically for this project (#ridge-ave-hill) that is open to all members\, not just D4. \n  \n\nAlso note that we will not have a D4 meeting in August.  Hope to see you on Tuesday!
URL:https://roxyunk.org/event/philly-bike-action-district-4-meeting-tuesday-7-22-hillltown/
LOCATION:Hilltown Tavern
CATEGORIES:Bike Related,community,RoxYunk,Walkability
ATTACH;FMTTYPE=image/jpeg:https://roxyunk.org/wp-content/uploads/2025/07/Screenshot-2025-07-18-115147.jpg
END:VEVENT
END:VCALENDAR