BEGIN:VCALENDAR
VERSION:2.0
PRODID:-//RoxYunk.Org - ECPv6.15.20//NONSGML v1.0//EN
CALSCALE:GREGORIAN
METHOD:PUBLISH
X-WR-CALNAME:RoxYunk.Org
X-ORIGINAL-URL:https://roxyunk.org
X-WR-CALDESC:Events for RoxYunk.Org
REFRESH-INTERVAL;VALUE=DURATION:PT1H
X-Robots-Tag:noindex
X-PUBLISHED-TTL:PT1H
BEGIN:VTIMEZONE
TZID:America/New_York
BEGIN:DAYLIGHT
TZOFFSETFROM:-0500
TZOFFSETTO:-0400
TZNAME:EDT
DTSTART:20240310T070000
END:DAYLIGHT
BEGIN:STANDARD
TZOFFSETFROM:-0400
TZOFFSETTO:-0500
TZNAME:EST
DTSTART:20241103T060000
END:STANDARD
BEGIN:DAYLIGHT
TZOFFSETFROM:-0500
TZOFFSETTO:-0400
TZNAME:EDT
DTSTART:20250309T070000
END:DAYLIGHT
BEGIN:STANDARD
TZOFFSETFROM:-0400
TZOFFSETTO:-0500
TZNAME:EST
DTSTART:20251102T060000
END:STANDARD
BEGIN:DAYLIGHT
TZOFFSETFROM:-0500
TZOFFSETTO:-0400
TZNAME:EDT
DTSTART:20260308T070000
END:DAYLIGHT
BEGIN:STANDARD
TZOFFSETFROM:-0400
TZOFFSETTO:-0500
TZNAME:EST
DTSTART:20261101T060000
END:STANDARD
END:VTIMEZONE
BEGIN:VEVENT
DTSTART;TZID=America/New_York:20251016T173000
DTEND;TZID=America/New_York:20251016T203000
DTSTAMP:20260423T141627
CREATED:20250915T182753Z
LAST-MODIFIED:20251016T172552Z
UID:10001820-1760635800-1760646600@roxyunk.org
SUMMARY:Lucky's Wiener Dog Race 2025
DESCRIPTION:We’re looking for furry friends (must be a Dachshund or Dachshund mix) for the Lucky’s Great Wiener Race 2025 on October 16th at Venice Island!\n\nWhen: October 16th – 5:30PM\nWhere: Venice Island\, Manayunk \nEnter below \nThis event is a fundraiser for PAWS (Philadelphia Animal Welfare Society)\nHow do we raise money for PAWS?\n• A portion of sales from sponsored breweries on race day will be donated to PAWS.\n• PAWS will be on site on race day with pups for adoptions and will be accepting donations \nHow can you help?\n• Drink what we have on tap from sponsored breweries on race day.\n• Donate directly to PAWS at www.phillypaws.org! Every little bit helps and these folks do so much for animals in our area.\nCan’t wait to see you on raceday! There will be plenty of goodies available for our human and furry friends.
URL:https://roxyunk.org/event/wiener-race-2025/
LOCATION:Venice Island Performing Arts Center
CATEGORIES:Benefit,community,pet related event,RoxYunk
ATTACH;FMTTYPE=image/png:https://roxyunk.org/wp-content/uploads/2025/09/IMG_8246.png
END:VEVENT
END:VCALENDAR