BEGIN:VCALENDAR
VERSION:2.0
PRODID:-//RoxYunk.Org - ECPv6.15.20//NONSGML v1.0//EN
CALSCALE:GREGORIAN
METHOD:PUBLISH
X-ORIGINAL-URL:https://roxyunk.org
X-WR-CALDESC:Events for RoxYunk.Org
REFRESH-INTERVAL;VALUE=DURATION:PT1H
X-Robots-Tag:noindex
X-PUBLISHED-TTL:PT1H
BEGIN:VTIMEZONE
TZID:America/New_York
BEGIN:DAYLIGHT
TZOFFSETFROM:-0500
TZOFFSETTO:-0400
TZNAME:EDT
DTSTART:20240310T070000
END:DAYLIGHT
BEGIN:STANDARD
TZOFFSETFROM:-0400
TZOFFSETTO:-0500
TZNAME:EST
DTSTART:20241103T060000
END:STANDARD
BEGIN:DAYLIGHT
TZOFFSETFROM:-0500
TZOFFSETTO:-0400
TZNAME:EDT
DTSTART:20250309T070000
END:DAYLIGHT
BEGIN:STANDARD
TZOFFSETFROM:-0400
TZOFFSETTO:-0500
TZNAME:EST
DTSTART:20251102T060000
END:STANDARD
BEGIN:DAYLIGHT
TZOFFSETFROM:-0500
TZOFFSETTO:-0400
TZNAME:EDT
DTSTART:20260308T070000
END:DAYLIGHT
BEGIN:STANDARD
TZOFFSETFROM:-0400
TZOFFSETTO:-0500
TZNAME:EST
DTSTART:20261101T060000
END:STANDARD
END:VTIMEZONE
BEGIN:VEVENT
DTSTART;TZID=America/New_York:20251108T130000
DTEND;TZID=America/New_York:20251108T160000
DTSTAMP:20260423T110143
CREATED:20251006T234841Z
LAST-MODIFIED:20251108T143640Z
UID:10001887-1762606800-1762617600@roxyunk.org
SUMMARY:Cancelled - Greenwoods School Cornhole Tournament
DESCRIPTION:THIS IS CANCELLED/POSTPONED! \n\n\nOn Saturday\, November 8\, 2025\, Green Woods Charter School will host its Cornhole Tournament and Tailgate Fundraiser in support of the GWCS Annual Fund. The Annual Fund directly benefits our students by providing enriching educational opportunities—including assemblies\, service projects\, field trips\, and extracurricular supplies—all at no cost to families. \nEvent Details: \n\n\nTime: 1:00 PM – 4:00 PM\, registration opens at 12:30 \n\n\nTournament Entry: $80 per team of two (includes tournament play\, one meal ticket per person at the Wraps and Snacks food truck\, and non-alcoholic beverages) \n\n\nSpectator Admission: $25 per person (includes entry to the event\, one meal ticket\, and non-alcoholic beverages — does not include tournament play) \n\n\nTournament Format: Round robin play followed by single-elimination bracket \n\n\nAdditional Features: Raffles\, tailgate games\, and prizes throughout the afternoon \n\n\nWhat to Bring: Personal cooler and chair \n\n\nThis is an adult-only event\, offering a relaxed afternoon of competition\, food\, and community spirit while supporting Green Woods students. \nFood Truck Menu: Hot Dogs\,Smash Burger\, Chicken Tenders and Fries!
URL:https://roxyunk.org/event/greenwoods-school-cornhole-tournament/
LOCATION:21st Ward Softball Field\, 8703 Old Line Road\, Philadelphia\, PA\, 19128\, United States
CATEGORIES:Benefit,community,Outdoor Activity,RoxYunk
ATTACH;FMTTYPE=image/jpeg:https://roxyunk.org/wp-content/uploads/2025/10/cornhole-tourney.jpg
END:VEVENT
BEGIN:VEVENT
DTSTART;TZID=America/New_York:20251116T120000
DTEND;TZID=America/New_York:20251116T160000
DTSTAMP:20260423T110143
CREATED:20251029T180526Z
LAST-MODIFIED:20251029T181007Z
UID:10001910-1763294400-1763308800@roxyunk.org
SUMMARY:Fill Bellies at Pocket Park
DESCRIPTION:“🎶🍲 The Phillbillies Help Fill Bellies! 🍲🎶 \nWith SNAP benefits and food assistance impacted this November\, so many families will be struggling — especially with Thanksgiving around the corner.\nWe’re stepping up to help in partnership with the Roxborough Development Corporation (RDC)! Join us for a food drive & free concert in Roxborough Pocket Park:\n🗓 Sunday\, Nov 16 | 🕛 12–4PM\n✅ Donate food\n✅ Enjoy live music\n✅ Support your neighbors\nFood is not a luxury. Let’s fill bellies and lift spirits together.
URL:https://roxyunk.org/event/fill-bellies-at-pocket-park/
LOCATION:Roxborough Pocket Park\, 6170 Ridge Ave\, Philadelphia\, 19128\, United States
CATEGORIES:Benefit,Outdoor Activity,RoxYunk
END:VEVENT
END:VCALENDAR