BEGIN:VCALENDAR
VERSION:2.0
PRODID:-//RoxYunk.Org - ECPv6.15.20//NONSGML v1.0//EN
CALSCALE:GREGORIAN
METHOD:PUBLISH
X-WR-CALNAME:RoxYunk.Org
X-ORIGINAL-URL:https://roxyunk.org
X-WR-CALDESC:Events for RoxYunk.Org
REFRESH-INTERVAL;VALUE=DURATION:PT1H
X-Robots-Tag:noindex
X-PUBLISHED-TTL:PT1H
BEGIN:VTIMEZONE
TZID:America/New_York
BEGIN:DAYLIGHT
TZOFFSETFROM:-0500
TZOFFSETTO:-0400
TZNAME:EDT
DTSTART:20250309T070000
END:DAYLIGHT
BEGIN:STANDARD
TZOFFSETFROM:-0400
TZOFFSETTO:-0500
TZNAME:EST
DTSTART:20251102T060000
END:STANDARD
BEGIN:DAYLIGHT
TZOFFSETFROM:-0500
TZOFFSETTO:-0400
TZNAME:EDT
DTSTART:20260308T070000
END:DAYLIGHT
BEGIN:STANDARD
TZOFFSETFROM:-0400
TZOFFSETTO:-0500
TZNAME:EST
DTSTART:20261101T060000
END:STANDARD
BEGIN:DAYLIGHT
TZOFFSETFROM:-0500
TZOFFSETTO:-0400
TZNAME:EDT
DTSTART:20270314T070000
END:DAYLIGHT
BEGIN:STANDARD
TZOFFSETFROM:-0400
TZOFFSETTO:-0500
TZNAME:EST
DTSTART:20271107T060000
END:STANDARD
END:VTIMEZONE
BEGIN:VEVENT
DTSTART;TZID=America/New_York:20260427T190000
DTEND;TZID=America/New_York:20260427T220000
DTSTAMP:20260425T234811
CREATED:20260309T221722Z
LAST-MODIFIED:20260316T212228Z
UID:10002633-1777316400-1777327200@roxyunk.org
SUMMARY:Quizzo at The Rook
DESCRIPTION:
URL:https://roxyunk.org/event/quizzo/2026-04-27/
LOCATION:The Rook\, 4001 Cresson\, Philadelphia\, PA\, 19127\, United States
CATEGORIES:Bar Games,RoxYunk
END:VEVENT
BEGIN:VEVENT
DTSTART;TZID=America/New_York:20260504T190000
DTEND;TZID=America/New_York:20260504T220000
DTSTAMP:20260425T234811
CREATED:20260309T221722Z
LAST-MODIFIED:20260316T212228Z
UID:10002634-1777921200-1777932000@roxyunk.org
SUMMARY:Quizzo at The Rook
DESCRIPTION:
URL:https://roxyunk.org/event/quizzo/2026-05-04/
LOCATION:The Rook\, 4001 Cresson\, Philadelphia\, PA\, 19127\, United States
CATEGORIES:Bar Games,RoxYunk
END:VEVENT
BEGIN:VEVENT
DTSTART;TZID=America/New_York:20260511T190000
DTEND;TZID=America/New_York:20260511T220000
DTSTAMP:20260425T234811
CREATED:20260309T221722Z
LAST-MODIFIED:20260316T212228Z
UID:10002635-1778526000-1778536800@roxyunk.org
SUMMARY:Quizzo at The Rook
DESCRIPTION:
URL:https://roxyunk.org/event/quizzo/2026-05-11/
LOCATION:The Rook\, 4001 Cresson\, Philadelphia\, PA\, 19127\, United States
CATEGORIES:Bar Games,RoxYunk
END:VEVENT
BEGIN:VEVENT
DTSTART;TZID=America/New_York:20260518T190000
DTEND;TZID=America/New_York:20260518T220000
DTSTAMP:20260425T234811
CREATED:20260309T221722Z
LAST-MODIFIED:20260316T212228Z
UID:10002636-1779130800-1779141600@roxyunk.org
SUMMARY:Quizzo at The Rook
DESCRIPTION:
URL:https://roxyunk.org/event/quizzo/2026-05-18/
LOCATION:The Rook\, 4001 Cresson\, Philadelphia\, PA\, 19127\, United States
CATEGORIES:Bar Games,RoxYunk
END:VEVENT
BEGIN:VEVENT
DTSTART;TZID=America/New_York:20260525T190000
DTEND;TZID=America/New_York:20260525T220000
DTSTAMP:20260425T234811
CREATED:20260309T221722Z
LAST-MODIFIED:20260316T212228Z
UID:10002637-1779735600-1779746400@roxyunk.org
SUMMARY:Quizzo at The Rook
DESCRIPTION:
URL:https://roxyunk.org/event/quizzo/2026-05-25/
LOCATION:The Rook\, 4001 Cresson\, Philadelphia\, PA\, 19127\, United States
CATEGORIES:Bar Games,RoxYunk
END:VEVENT
BEGIN:VEVENT
DTSTART;TZID=America/New_York:20260601T190000
DTEND;TZID=America/New_York:20260601T220000
DTSTAMP:20260425T234811
CREATED:20260309T221722Z
LAST-MODIFIED:20260316T212228Z
UID:10002638-1780340400-1780351200@roxyunk.org
SUMMARY:Quizzo at The Rook
DESCRIPTION:
URL:https://roxyunk.org/event/quizzo/2026-06-01/
LOCATION:The Rook\, 4001 Cresson\, Philadelphia\, PA\, 19127\, United States
CATEGORIES:Bar Games,RoxYunk
END:VEVENT
BEGIN:VEVENT
DTSTART;TZID=America/New_York:20260608T190000
DTEND;TZID=America/New_York:20260608T220000
DTSTAMP:20260425T234811
CREATED:20260309T221722Z
LAST-MODIFIED:20260316T212228Z
UID:10002639-1780945200-1780956000@roxyunk.org
SUMMARY:Quizzo at The Rook
DESCRIPTION:
URL:https://roxyunk.org/event/quizzo/2026-06-08/
LOCATION:The Rook\, 4001 Cresson\, Philadelphia\, PA\, 19127\, United States
CATEGORIES:Bar Games,RoxYunk
END:VEVENT
BEGIN:VEVENT
DTSTART;TZID=America/New_York:20260615T190000
DTEND;TZID=America/New_York:20260615T220000
DTSTAMP:20260425T234811
CREATED:20260309T221722Z
LAST-MODIFIED:20260316T212228Z
UID:10002640-1781550000-1781560800@roxyunk.org
SUMMARY:Quizzo at The Rook
DESCRIPTION:
URL:https://roxyunk.org/event/quizzo/2026-06-15/
LOCATION:The Rook\, 4001 Cresson\, Philadelphia\, PA\, 19127\, United States
CATEGORIES:Bar Games,RoxYunk
END:VEVENT
BEGIN:VEVENT
DTSTART;TZID=America/New_York:20260622T190000
DTEND;TZID=America/New_York:20260622T220000
DTSTAMP:20260425T234811
CREATED:20260309T221722Z
LAST-MODIFIED:20260316T212228Z
UID:10002641-1782154800-1782165600@roxyunk.org
SUMMARY:Quizzo at The Rook
DESCRIPTION:
URL:https://roxyunk.org/event/quizzo/2026-06-22/
LOCATION:The Rook\, 4001 Cresson\, Philadelphia\, PA\, 19127\, United States
CATEGORIES:Bar Games,RoxYunk
END:VEVENT
BEGIN:VEVENT
DTSTART;TZID=America/New_York:20260629T190000
DTEND;TZID=America/New_York:20260629T220000
DTSTAMP:20260425T234811
CREATED:20260309T221722Z
LAST-MODIFIED:20260316T212228Z
UID:10002642-1782759600-1782770400@roxyunk.org
SUMMARY:Quizzo at The Rook
DESCRIPTION:
URL:https://roxyunk.org/event/quizzo/2026-06-29/
LOCATION:The Rook\, 4001 Cresson\, Philadelphia\, PA\, 19127\, United States
CATEGORIES:Bar Games,RoxYunk
END:VEVENT
BEGIN:VEVENT
DTSTART;TZID=America/New_York:20260706T190000
DTEND;TZID=America/New_York:20260706T220000
DTSTAMP:20260425T234811
CREATED:20260309T221722Z
LAST-MODIFIED:20260316T212228Z
UID:10002643-1783364400-1783375200@roxyunk.org
SUMMARY:Quizzo at The Rook
DESCRIPTION:
URL:https://roxyunk.org/event/quizzo/2026-07-06/
LOCATION:The Rook\, 4001 Cresson\, Philadelphia\, PA\, 19127\, United States
CATEGORIES:Bar Games,RoxYunk
END:VEVENT
BEGIN:VEVENT
DTSTART;TZID=America/New_York:20260713T190000
DTEND;TZID=America/New_York:20260713T220000
DTSTAMP:20260425T234811
CREATED:20260309T221722Z
LAST-MODIFIED:20260316T212228Z
UID:10002644-1783969200-1783980000@roxyunk.org
SUMMARY:Quizzo at The Rook
DESCRIPTION:
URL:https://roxyunk.org/event/quizzo/2026-07-13/
LOCATION:The Rook\, 4001 Cresson\, Philadelphia\, PA\, 19127\, United States
CATEGORIES:Bar Games,RoxYunk
END:VEVENT
BEGIN:VEVENT
DTSTART;TZID=America/New_York:20260720T190000
DTEND;TZID=America/New_York:20260720T220000
DTSTAMP:20260425T234811
CREATED:20260309T221722Z
LAST-MODIFIED:20260316T212228Z
UID:10002645-1784574000-1784584800@roxyunk.org
SUMMARY:Quizzo at The Rook
DESCRIPTION:
URL:https://roxyunk.org/event/quizzo/2026-07-20/
LOCATION:The Rook\, 4001 Cresson\, Philadelphia\, PA\, 19127\, United States
CATEGORIES:Bar Games,RoxYunk
END:VEVENT
BEGIN:VEVENT
DTSTART;TZID=America/New_York:20260727T190000
DTEND;TZID=America/New_York:20260727T220000
DTSTAMP:20260425T234811
CREATED:20260309T221722Z
LAST-MODIFIED:20260316T212228Z
UID:10002646-1785178800-1785189600@roxyunk.org
SUMMARY:Quizzo at The Rook
DESCRIPTION:
URL:https://roxyunk.org/event/quizzo/2026-07-27/
LOCATION:The Rook\, 4001 Cresson\, Philadelphia\, PA\, 19127\, United States
CATEGORIES:Bar Games,RoxYunk
END:VEVENT
BEGIN:VEVENT
DTSTART;TZID=America/New_York:20260803T190000
DTEND;TZID=America/New_York:20260803T220000
DTSTAMP:20260425T234811
CREATED:20260309T221722Z
LAST-MODIFIED:20260316T212228Z
UID:10002647-1785783600-1785794400@roxyunk.org
SUMMARY:Quizzo at The Rook
DESCRIPTION:
URL:https://roxyunk.org/event/quizzo/2026-08-03/
LOCATION:The Rook\, 4001 Cresson\, Philadelphia\, PA\, 19127\, United States
CATEGORIES:Bar Games,RoxYunk
END:VEVENT
BEGIN:VEVENT
DTSTART;TZID=America/New_York:20260810T190000
DTEND;TZID=America/New_York:20260810T220000
DTSTAMP:20260425T234811
CREATED:20260309T221722Z
LAST-MODIFIED:20260316T212228Z
UID:10002648-1786388400-1786399200@roxyunk.org
SUMMARY:Quizzo at The Rook
DESCRIPTION:
URL:https://roxyunk.org/event/quizzo/2026-08-10/
LOCATION:The Rook\, 4001 Cresson\, Philadelphia\, PA\, 19127\, United States
CATEGORIES:Bar Games,RoxYunk
END:VEVENT
BEGIN:VEVENT
DTSTART;TZID=America/New_York:20260817T190000
DTEND;TZID=America/New_York:20260817T220000
DTSTAMP:20260425T234811
CREATED:20260309T221722Z
LAST-MODIFIED:20260316T212228Z
UID:10002649-1786993200-1787004000@roxyunk.org
SUMMARY:Quizzo at The Rook
DESCRIPTION:
URL:https://roxyunk.org/event/quizzo/2026-08-17/
LOCATION:The Rook\, 4001 Cresson\, Philadelphia\, PA\, 19127\, United States
CATEGORIES:Bar Games,RoxYunk
END:VEVENT
BEGIN:VEVENT
DTSTART;TZID=America/New_York:20260824T190000
DTEND;TZID=America/New_York:20260824T220000
DTSTAMP:20260425T234811
CREATED:20260309T221722Z
LAST-MODIFIED:20260316T212228Z
UID:10002650-1787598000-1787608800@roxyunk.org
SUMMARY:Quizzo at The Rook
DESCRIPTION:
URL:https://roxyunk.org/event/quizzo/2026-08-24/
LOCATION:The Rook\, 4001 Cresson\, Philadelphia\, PA\, 19127\, United States
CATEGORIES:Bar Games,RoxYunk
END:VEVENT
BEGIN:VEVENT
DTSTART;TZID=America/New_York:20260831T190000
DTEND;TZID=America/New_York:20260831T220000
DTSTAMP:20260425T234811
CREATED:20260309T221722Z
LAST-MODIFIED:20260316T212228Z
UID:10002651-1788202800-1788213600@roxyunk.org
SUMMARY:Quizzo at The Rook
DESCRIPTION:
URL:https://roxyunk.org/event/quizzo/2026-08-31/
LOCATION:The Rook\, 4001 Cresson\, Philadelphia\, PA\, 19127\, United States
CATEGORIES:Bar Games,RoxYunk
END:VEVENT
BEGIN:VEVENT
DTSTART;TZID=America/New_York:20260907T190000
DTEND;TZID=America/New_York:20260907T220000
DTSTAMP:20260425T234811
CREATED:20260309T221722Z
LAST-MODIFIED:20260316T212228Z
UID:10002652-1788807600-1788818400@roxyunk.org
SUMMARY:Quizzo at The Rook
DESCRIPTION:
URL:https://roxyunk.org/event/quizzo/2026-09-07/
LOCATION:The Rook\, 4001 Cresson\, Philadelphia\, PA\, 19127\, United States
CATEGORIES:Bar Games,RoxYunk
END:VEVENT
BEGIN:VEVENT
DTSTART;TZID=America/New_York:20260914T190000
DTEND;TZID=America/New_York:20260914T220000
DTSTAMP:20260425T234811
CREATED:20260309T221722Z
LAST-MODIFIED:20260316T212228Z
UID:10002653-1789412400-1789423200@roxyunk.org
SUMMARY:Quizzo at The Rook
DESCRIPTION:
URL:https://roxyunk.org/event/quizzo/2026-09-14/
LOCATION:The Rook\, 4001 Cresson\, Philadelphia\, PA\, 19127\, United States
CATEGORIES:Bar Games,RoxYunk
END:VEVENT
BEGIN:VEVENT
DTSTART;TZID=America/New_York:20260921T190000
DTEND;TZID=America/New_York:20260921T220000
DTSTAMP:20260425T234811
CREATED:20260309T221722Z
LAST-MODIFIED:20260316T212228Z
UID:10002654-1790017200-1790028000@roxyunk.org
SUMMARY:Quizzo at The Rook
DESCRIPTION:
URL:https://roxyunk.org/event/quizzo/2026-09-21/
LOCATION:The Rook\, 4001 Cresson\, Philadelphia\, PA\, 19127\, United States
CATEGORIES:Bar Games,RoxYunk
END:VEVENT
BEGIN:VEVENT
DTSTART;TZID=America/New_York:20260928T190000
DTEND;TZID=America/New_York:20260928T220000
DTSTAMP:20260425T234811
CREATED:20260309T221722Z
LAST-MODIFIED:20260316T212228Z
UID:10002655-1790622000-1790632800@roxyunk.org
SUMMARY:Quizzo at The Rook
DESCRIPTION:
URL:https://roxyunk.org/event/quizzo/2026-09-28/
LOCATION:The Rook\, 4001 Cresson\, Philadelphia\, PA\, 19127\, United States
CATEGORIES:Bar Games,RoxYunk
END:VEVENT
BEGIN:VEVENT
DTSTART;TZID=America/New_York:20261005T190000
DTEND;TZID=America/New_York:20261005T220000
DTSTAMP:20260425T234811
CREATED:20260309T221722Z
LAST-MODIFIED:20260316T212228Z
UID:10002656-1791226800-1791237600@roxyunk.org
SUMMARY:Quizzo at The Rook
DESCRIPTION:
URL:https://roxyunk.org/event/quizzo/2026-10-05/
LOCATION:The Rook\, 4001 Cresson\, Philadelphia\, PA\, 19127\, United States
CATEGORIES:Bar Games,RoxYunk
END:VEVENT
BEGIN:VEVENT
DTSTART;TZID=America/New_York:20261012T190000
DTEND;TZID=America/New_York:20261012T220000
DTSTAMP:20260425T234811
CREATED:20260309T221722Z
LAST-MODIFIED:20260316T212228Z
UID:10002657-1791831600-1791842400@roxyunk.org
SUMMARY:Quizzo at The Rook
DESCRIPTION:
URL:https://roxyunk.org/event/quizzo/2026-10-12/
LOCATION:The Rook\, 4001 Cresson\, Philadelphia\, PA\, 19127\, United States
CATEGORIES:Bar Games,RoxYunk
END:VEVENT
BEGIN:VEVENT
DTSTART;TZID=America/New_York:20261019T190000
DTEND;TZID=America/New_York:20261019T220000
DTSTAMP:20260425T234811
CREATED:20260309T221722Z
LAST-MODIFIED:20260316T212228Z
UID:10002658-1792436400-1792447200@roxyunk.org
SUMMARY:Quizzo at The Rook
DESCRIPTION:
URL:https://roxyunk.org/event/quizzo/2026-10-19/
LOCATION:The Rook\, 4001 Cresson\, Philadelphia\, PA\, 19127\, United States
CATEGORIES:Bar Games,RoxYunk
END:VEVENT
BEGIN:VEVENT
DTSTART;TZID=America/New_York:20261026T190000
DTEND;TZID=America/New_York:20261026T220000
DTSTAMP:20260425T234811
CREATED:20260309T221722Z
LAST-MODIFIED:20260316T212228Z
UID:10002659-1793041200-1793052000@roxyunk.org
SUMMARY:Quizzo at The Rook
DESCRIPTION:
URL:https://roxyunk.org/event/quizzo/2026-10-26/
LOCATION:The Rook\, 4001 Cresson\, Philadelphia\, PA\, 19127\, United States
CATEGORIES:Bar Games,RoxYunk
END:VEVENT
BEGIN:VEVENT
DTSTART;TZID=America/New_York:20261102T190000
DTEND;TZID=America/New_York:20261102T220000
DTSTAMP:20260425T234811
CREATED:20260309T221722Z
LAST-MODIFIED:20260316T212228Z
UID:10002660-1793646000-1793656800@roxyunk.org
SUMMARY:Quizzo at The Rook
DESCRIPTION:
URL:https://roxyunk.org/event/quizzo/2026-11-02/
LOCATION:The Rook\, 4001 Cresson\, Philadelphia\, PA\, 19127\, United States
CATEGORIES:Bar Games,RoxYunk
END:VEVENT
BEGIN:VEVENT
DTSTART;TZID=America/New_York:20261109T190000
DTEND;TZID=America/New_York:20261109T220000
DTSTAMP:20260425T234811
CREATED:20260309T221722Z
LAST-MODIFIED:20260316T212228Z
UID:10002661-1794250800-1794261600@roxyunk.org
SUMMARY:Quizzo at The Rook
DESCRIPTION:
URL:https://roxyunk.org/event/quizzo/2026-11-09/
LOCATION:The Rook\, 4001 Cresson\, Philadelphia\, PA\, 19127\, United States
CATEGORIES:Bar Games,RoxYunk
END:VEVENT
BEGIN:VEVENT
DTSTART;TZID=America/New_York:20261116T190000
DTEND;TZID=America/New_York:20261116T220000
DTSTAMP:20260425T234811
CREATED:20260309T221722Z
LAST-MODIFIED:20260316T212228Z
UID:10002662-1794855600-1794866400@roxyunk.org
SUMMARY:Quizzo at The Rook
DESCRIPTION:
URL:https://roxyunk.org/event/quizzo/2026-11-16/
LOCATION:The Rook\, 4001 Cresson\, Philadelphia\, PA\, 19127\, United States
CATEGORIES:Bar Games,RoxYunk
END:VEVENT
END:VCALENDAR