BEGIN:VCALENDAR
VERSION:2.0
PRODID:-//RoxYunk.Org - ECPv6.15.20//NONSGML v1.0//EN
CALSCALE:GREGORIAN
METHOD:PUBLISH
X-ORIGINAL-URL:https://roxyunk.org
X-WR-CALDESC:Events for RoxYunk.Org
REFRESH-INTERVAL;VALUE=DURATION:PT1H
X-Robots-Tag:noindex
X-PUBLISHED-TTL:PT1H
BEGIN:VTIMEZONE
TZID:America/New_York
BEGIN:DAYLIGHT
TZOFFSETFROM:-0500
TZOFFSETTO:-0400
TZNAME:EDT
DTSTART:20250309T070000
END:DAYLIGHT
BEGIN:STANDARD
TZOFFSETFROM:-0400
TZOFFSETTO:-0500
TZNAME:EST
DTSTART:20251102T060000
END:STANDARD
BEGIN:DAYLIGHT
TZOFFSETFROM:-0500
TZOFFSETTO:-0400
TZNAME:EDT
DTSTART:20260308T070000
END:DAYLIGHT
BEGIN:STANDARD
TZOFFSETFROM:-0400
TZOFFSETTO:-0500
TZNAME:EST
DTSTART:20261101T060000
END:STANDARD
BEGIN:DAYLIGHT
TZOFFSETFROM:-0500
TZOFFSETTO:-0400
TZNAME:EDT
DTSTART:20270314T070000
END:DAYLIGHT
BEGIN:STANDARD
TZOFFSETFROM:-0400
TZOFFSETTO:-0500
TZNAME:EST
DTSTART:20271107T060000
END:STANDARD
END:VTIMEZONE
BEGIN:VEVENT
DTSTART;TZID=America/New_York:20260420T190000
DTEND;TZID=America/New_York:20260420T220000
DTSTAMP:20260425T221947
CREATED:20260309T221722Z
LAST-MODIFIED:20260316T212228Z
UID:10002632-1776711600-1776722400@roxyunk.org
SUMMARY:Quizzo at The Rook
DESCRIPTION:
URL:https://roxyunk.org/event/quizzo/2026-04-20/
LOCATION:The Rook\, 4001 Cresson\, Philadelphia\, PA\, 19127\, United States
CATEGORIES:Bar Games,RoxYunk
END:VEVENT
BEGIN:VEVENT
DTSTART;TZID=America/New_York:20260413T190000
DTEND;TZID=America/New_York:20260413T220000
DTSTAMP:20260425T221947
CREATED:20260309T221722Z
LAST-MODIFIED:20260316T212228Z
UID:10002631-1776106800-1776117600@roxyunk.org
SUMMARY:Quizzo at The Rook
DESCRIPTION:
URL:https://roxyunk.org/event/quizzo/2026-04-13/
LOCATION:The Rook\, 4001 Cresson\, Philadelphia\, PA\, 19127\, United States
CATEGORIES:Bar Games,RoxYunk
END:VEVENT
BEGIN:VEVENT
DTSTART;TZID=America/New_York:20260406T190000
DTEND;TZID=America/New_York:20260406T220000
DTSTAMP:20260425T221947
CREATED:20260309T221722Z
LAST-MODIFIED:20260316T212228Z
UID:10002630-1775502000-1775512800@roxyunk.org
SUMMARY:Quizzo at The Rook
DESCRIPTION:
URL:https://roxyunk.org/event/quizzo/2026-04-06/
LOCATION:The Rook\, 4001 Cresson\, Philadelphia\, PA\, 19127\, United States
CATEGORIES:Bar Games,RoxYunk
END:VEVENT
BEGIN:VEVENT
DTSTART;TZID=America/New_York:20260330T190000
DTEND;TZID=America/New_York:20260330T220000
DTSTAMP:20260425T221947
CREATED:20260309T221722Z
LAST-MODIFIED:20260316T212228Z
UID:10002629-1774897200-1774908000@roxyunk.org
SUMMARY:Quizzo at The Rook
DESCRIPTION:
URL:https://roxyunk.org/event/quizzo/2026-03-30/
LOCATION:The Rook\, 4001 Cresson\, Philadelphia\, PA\, 19127\, United States
CATEGORIES:Bar Games,RoxYunk
END:VEVENT
BEGIN:VEVENT
DTSTART;TZID=America/New_York:20260323T190000
DTEND;TZID=America/New_York:20260323T220000
DTSTAMP:20260425T221947
CREATED:20260309T221722Z
LAST-MODIFIED:20260316T212228Z
UID:10002628-1774292400-1774303200@roxyunk.org
SUMMARY:Quizzo at The Rook
DESCRIPTION:
URL:https://roxyunk.org/event/quizzo/2026-03-23/
LOCATION:The Rook\, 4001 Cresson\, Philadelphia\, PA\, 19127\, United States
CATEGORIES:Bar Games,RoxYunk
END:VEVENT
BEGIN:VEVENT
DTSTART;TZID=America/New_York:20260316T190000
DTEND;TZID=America/New_York:20260316T220000
DTSTAMP:20260425T221947
CREATED:20260309T221722Z
LAST-MODIFIED:20260316T212228Z
UID:10002627-1773687600-1773698400@roxyunk.org
SUMMARY:Quizzo at The Rook
DESCRIPTION:
URL:https://roxyunk.org/event/quizzo/2026-03-16/
LOCATION:The Rook\, 4001 Cresson\, Philadelphia\, PA\, 19127\, United States
CATEGORIES:Bar Games,RoxYunk
END:VEVENT
BEGIN:VEVENT
DTSTART;TZID=America/New_York:20260309T190000
DTEND;TZID=America/New_York:20260309T220000
DTSTAMP:20260425T221947
CREATED:20260309T221722Z
LAST-MODIFIED:20260316T212228Z
UID:10002626-1773082800-1773093600@roxyunk.org
SUMMARY:Quizzo at The Rook
DESCRIPTION:
URL:https://roxyunk.org/event/quizzo/2026-03-09/
LOCATION:The Rook\, 4001 Cresson\, Philadelphia\, PA\, 19127\, United States
CATEGORIES:Bar Games,RoxYunk
END:VEVENT
END:VCALENDAR