BEGIN:VCALENDAR
VERSION:2.0
PRODID:-//RoxYunk.Org - ECPv6.15.20//NONSGML v1.0//EN
CALSCALE:GREGORIAN
METHOD:PUBLISH
X-WR-CALNAME:RoxYunk.Org
X-ORIGINAL-URL:https://roxyunk.org
X-WR-CALDESC:Events for RoxYunk.Org
REFRESH-INTERVAL;VALUE=DURATION:PT1H
X-Robots-Tag:noindex
X-PUBLISHED-TTL:PT1H
BEGIN:VTIMEZONE
TZID:America/New_York
BEGIN:DAYLIGHT
TZOFFSETFROM:-0500
TZOFFSETTO:-0400
TZNAME:EDT
DTSTART:20250309T070000
END:DAYLIGHT
BEGIN:STANDARD
TZOFFSETFROM:-0400
TZOFFSETTO:-0500
TZNAME:EST
DTSTART:20251102T060000
END:STANDARD
BEGIN:DAYLIGHT
TZOFFSETFROM:-0500
TZOFFSETTO:-0400
TZNAME:EDT
DTSTART:20260308T070000
END:DAYLIGHT
BEGIN:STANDARD
TZOFFSETFROM:-0400
TZOFFSETTO:-0500
TZNAME:EST
DTSTART:20261101T060000
END:STANDARD
BEGIN:DAYLIGHT
TZOFFSETFROM:-0500
TZOFFSETTO:-0400
TZNAME:EDT
DTSTART:20270314T070000
END:DAYLIGHT
BEGIN:STANDARD
TZOFFSETFROM:-0400
TZOFFSETTO:-0500
TZNAME:EST
DTSTART:20271107T060000
END:STANDARD
END:VTIMEZONE
BEGIN:VEVENT
DTSTART;TZID=America/New_York:20260627T100000
DTEND;TZID=America/New_York:20260627T140000
DTSTAMP:20260423T153533
CREATED:20260423T162823Z
LAST-MODIFIED:20260423T163107Z
UID:10002824-1782554400-1782568800@roxyunk.org
SUMMARY:Pretzel Park Farmer's Market
DESCRIPTION:Every Saturday!
URL:https://roxyunk.org/event/pretzel-park-farmers-market-4/2026-06-27/
LOCATION:Pretzel Park\, 4300 Silverwood St.\, Philadelphia\, PA\, 1912y7\, United States
CATEGORIES:All Ages,community,Farmers Market,Free,Outdoor Activity
ORGANIZER;CN="Friends of Pretzel Park":MAILTO:eliot.duhan@gmail.com
END:VEVENT
BEGIN:VEVENT
DTSTART;TZID=America/New_York:20260630T173000
DTEND;TZID=America/New_York:20260630T203000
DTSTAMP:20260423T153533
CREATED:20260215T161238Z
LAST-MODIFIED:20260215T161238Z
UID:10002498-1782840600-1782851400@roxyunk.org
SUMMARY:Tuesday Night Music at The Manayunk Bridge Garden
DESCRIPTION:
URL:https://roxyunk.org/event/tuesday-night-music-at-the-manayunk-bridge-garden/2026-06-30/
LOCATION:Manayunk Bridge Garden\, 100 Dupont St\, Philadelphia\, 19127
CATEGORIES:All Ages,community,Concert,For kids,Free,Music related,Outdoor Activity,RoxYunk
END:VEVENT
BEGIN:VEVENT
DTSTART;TZID=America/New_York:20260704T100000
DTEND;TZID=America/New_York:20260704T140000
DTSTAMP:20260423T153533
CREATED:20260423T162823Z
LAST-MODIFIED:20260423T163107Z
UID:10002825-1783159200-1783173600@roxyunk.org
SUMMARY:Pretzel Park Farmer's Market
DESCRIPTION:Every Saturday!
URL:https://roxyunk.org/event/pretzel-park-farmers-market-4/2026-07-04/
LOCATION:Pretzel Park\, 4300 Silverwood St.\, Philadelphia\, PA\, 1912y7\, United States
CATEGORIES:All Ages,community,Farmers Market,Free,Outdoor Activity
ORGANIZER;CN="Friends of Pretzel Park":MAILTO:eliot.duhan@gmail.com
END:VEVENT
BEGIN:VEVENT
DTSTART;TZID=America/New_York:20260707T173000
DTEND;TZID=America/New_York:20260707T203000
DTSTAMP:20260423T153533
CREATED:20260215T161238Z
LAST-MODIFIED:20260215T161238Z
UID:10002499-1783445400-1783456200@roxyunk.org
SUMMARY:Tuesday Night Music at The Manayunk Bridge Garden
DESCRIPTION:
URL:https://roxyunk.org/event/tuesday-night-music-at-the-manayunk-bridge-garden/2026-07-07/
LOCATION:Manayunk Bridge Garden\, 100 Dupont St\, Philadelphia\, 19127
CATEGORIES:All Ages,community,Concert,For kids,Free,Music related,Outdoor Activity,RoxYunk
END:VEVENT
BEGIN:VEVENT
DTSTART;TZID=America/New_York:20260711T100000
DTEND;TZID=America/New_York:20260711T140000
DTSTAMP:20260423T153533
CREATED:20260423T162823Z
LAST-MODIFIED:20260423T163107Z
UID:10002826-1783764000-1783778400@roxyunk.org
SUMMARY:Pretzel Park Farmer's Market
DESCRIPTION:Every Saturday!
URL:https://roxyunk.org/event/pretzel-park-farmers-market-4/2026-07-11/
LOCATION:Pretzel Park\, 4300 Silverwood St.\, Philadelphia\, PA\, 1912y7\, United States
CATEGORIES:All Ages,community,Farmers Market,Free,Outdoor Activity
ORGANIZER;CN="Friends of Pretzel Park":MAILTO:eliot.duhan@gmail.com
END:VEVENT
BEGIN:VEVENT
DTSTART;TZID=America/New_York:20260714T173000
DTEND;TZID=America/New_York:20260714T203000
DTSTAMP:20260423T153533
CREATED:20260215T161238Z
LAST-MODIFIED:20260215T161238Z
UID:10002500-1784050200-1784061000@roxyunk.org
SUMMARY:Tuesday Night Music at The Manayunk Bridge Garden
DESCRIPTION:
URL:https://roxyunk.org/event/tuesday-night-music-at-the-manayunk-bridge-garden/2026-07-14/
LOCATION:Manayunk Bridge Garden\, 100 Dupont St\, Philadelphia\, 19127
CATEGORIES:All Ages,community,Concert,For kids,Free,Music related,Outdoor Activity,RoxYunk
END:VEVENT
BEGIN:VEVENT
DTSTART;TZID=America/New_York:20260718T100000
DTEND;TZID=America/New_York:20260718T140000
DTSTAMP:20260423T153533
CREATED:20260423T162823Z
LAST-MODIFIED:20260423T163107Z
UID:10002827-1784368800-1784383200@roxyunk.org
SUMMARY:Pretzel Park Farmer's Market
DESCRIPTION:Every Saturday!
URL:https://roxyunk.org/event/pretzel-park-farmers-market-4/2026-07-18/
LOCATION:Pretzel Park\, 4300 Silverwood St.\, Philadelphia\, PA\, 1912y7\, United States
CATEGORIES:All Ages,community,Farmers Market,Free,Outdoor Activity
ORGANIZER;CN="Friends of Pretzel Park":MAILTO:eliot.duhan@gmail.com
END:VEVENT
BEGIN:VEVENT
DTSTART;TZID=America/New_York:20260719T150000
DTEND;TZID=America/New_York:20260719T170000
DTSTAMP:20260423T153533
CREATED:20260109T195028Z
LAST-MODIFIED:20260309T161732Z
UID:10002520-1784473200-1784480400@roxyunk.org
SUMMARY:RoxYunk Bluegrass Old Time Folk Jam
DESCRIPTION:Come to play or learn or watch. \nFree! \nAll ages! \nThis is inclusive – no gatekeeping on what is or is not bluegrass or old time\, just come and play some music. It’s friendly and helpful. If you’re not sure if you can do it\, you can and we will help.
URL:https://roxyunk.org/event/roxyunk-bluegrass-old-time-folk-jam/2026-07-19/
LOCATION:The Foodery on Ridge\, 6148 Ridge Ave\, Philadelphia\, PA\, 19128\, United States
CATEGORIES:All Ages,Free,Music related,RoxYunk
ATTACH;FMTTYPE=image/jpeg:https://roxyunk.org/wp-content/uploads/2026/01/RYjamv2.jpg
END:VEVENT
BEGIN:VEVENT
DTSTART;TZID=America/New_York:20260721T173000
DTEND;TZID=America/New_York:20260721T203000
DTSTAMP:20260423T153533
CREATED:20260215T161238Z
LAST-MODIFIED:20260215T161238Z
UID:10002501-1784655000-1784665800@roxyunk.org
SUMMARY:Tuesday Night Music at The Manayunk Bridge Garden
DESCRIPTION:
URL:https://roxyunk.org/event/tuesday-night-music-at-the-manayunk-bridge-garden/2026-07-21/
LOCATION:Manayunk Bridge Garden\, 100 Dupont St\, Philadelphia\, 19127
CATEGORIES:All Ages,community,Concert,For kids,Free,Music related,Outdoor Activity,RoxYunk
END:VEVENT
BEGIN:VEVENT
DTSTART;TZID=America/New_York:20260725T100000
DTEND;TZID=America/New_York:20260725T140000
DTSTAMP:20260423T153533
CREATED:20260423T162823Z
LAST-MODIFIED:20260423T163107Z
UID:10002828-1784973600-1784988000@roxyunk.org
SUMMARY:Pretzel Park Farmer's Market
DESCRIPTION:Every Saturday!
URL:https://roxyunk.org/event/pretzel-park-farmers-market-4/2026-07-25/
LOCATION:Pretzel Park\, 4300 Silverwood St.\, Philadelphia\, PA\, 1912y7\, United States
CATEGORIES:All Ages,community,Farmers Market,Free,Outdoor Activity
ORGANIZER;CN="Friends of Pretzel Park":MAILTO:eliot.duhan@gmail.com
END:VEVENT
BEGIN:VEVENT
DTSTART;TZID=America/New_York:20260728T173000
DTEND;TZID=America/New_York:20260728T203000
DTSTAMP:20260423T153533
CREATED:20260215T161238Z
LAST-MODIFIED:20260215T161238Z
UID:10002502-1785259800-1785270600@roxyunk.org
SUMMARY:Tuesday Night Music at The Manayunk Bridge Garden
DESCRIPTION:
URL:https://roxyunk.org/event/tuesday-night-music-at-the-manayunk-bridge-garden/2026-07-28/
LOCATION:Manayunk Bridge Garden\, 100 Dupont St\, Philadelphia\, 19127
CATEGORIES:All Ages,community,Concert,For kids,Free,Music related,Outdoor Activity,RoxYunk
END:VEVENT
BEGIN:VEVENT
DTSTART;TZID=America/New_York:20260801T100000
DTEND;TZID=America/New_York:20260801T140000
DTSTAMP:20260423T153533
CREATED:20260423T162823Z
LAST-MODIFIED:20260423T163107Z
UID:10002829-1785578400-1785592800@roxyunk.org
SUMMARY:Pretzel Park Farmer's Market
DESCRIPTION:Every Saturday!
URL:https://roxyunk.org/event/pretzel-park-farmers-market-4/2026-08-01/
LOCATION:Pretzel Park\, 4300 Silverwood St.\, Philadelphia\, PA\, 1912y7\, United States
CATEGORIES:All Ages,community,Farmers Market,Free,Outdoor Activity
ORGANIZER;CN="Friends of Pretzel Park":MAILTO:eliot.duhan@gmail.com
END:VEVENT
BEGIN:VEVENT
DTSTART;TZID=America/New_York:20260804T170000
DTEND;TZID=America/New_York:20260804T220000
DTSTAMP:20260423T153533
CREATED:20260116T194056Z
LAST-MODIFIED:20260422T145110Z
UID:10002176-1785862800-1785880800@roxyunk.org
SUMMARY:BridgeHonk! 2026
DESCRIPTION:Get your reeds good and ready. \nFind your favorite mouthpiece. \nAnd join us for the night of 1000 horns. \nPhiladelphia\, Jazz Stalwarts Gabe Preston\, and Dan Spearman \nLead a small army of Horn players \nThrough an open air evening of standards and community. \nAny Horn players are welcome to join in
URL:https://roxyunk.org/event/bridgehonk-2026/
LOCATION:Manayunk Bridge Garden\, 100 Dupont St\, Philadelphia\, 19127
CATEGORIES:All Ages,community,Concert,For kids,Live Music,Music related,Outdoor Activity,RoxYunk
ATTACH;FMTTYPE=image/jpeg:https://roxyunk.org/wp-content/uploads/2026/03/blammo.jpg
END:VEVENT
BEGIN:VEVENT
DTSTART;TZID=America/New_York:20260804T173000
DTEND;TZID=America/New_York:20260804T203000
DTSTAMP:20260423T153533
CREATED:20260215T161238Z
LAST-MODIFIED:20260215T161238Z
UID:10002503-1785864600-1785875400@roxyunk.org
SUMMARY:Tuesday Night Music at The Manayunk Bridge Garden
DESCRIPTION:
URL:https://roxyunk.org/event/tuesday-night-music-at-the-manayunk-bridge-garden/2026-08-04/
LOCATION:Manayunk Bridge Garden\, 100 Dupont St\, Philadelphia\, 19127
CATEGORIES:All Ages,community,Concert,For kids,Free,Music related,Outdoor Activity,RoxYunk
END:VEVENT
BEGIN:VEVENT
DTSTART;TZID=America/New_York:20260808T100000
DTEND;TZID=America/New_York:20260808T140000
DTSTAMP:20260423T153533
CREATED:20260423T162823Z
LAST-MODIFIED:20260423T163107Z
UID:10002830-1786183200-1786197600@roxyunk.org
SUMMARY:Pretzel Park Farmer's Market
DESCRIPTION:Every Saturday!
URL:https://roxyunk.org/event/pretzel-park-farmers-market-4/2026-08-08/
LOCATION:Pretzel Park\, 4300 Silverwood St.\, Philadelphia\, PA\, 1912y7\, United States
CATEGORIES:All Ages,community,Farmers Market,Free,Outdoor Activity
ORGANIZER;CN="Friends of Pretzel Park":MAILTO:eliot.duhan@gmail.com
END:VEVENT
BEGIN:VEVENT
DTSTART;TZID=America/New_York:20260811T173000
DTEND;TZID=America/New_York:20260811T203000
DTSTAMP:20260423T153533
CREATED:20260215T161238Z
LAST-MODIFIED:20260215T161238Z
UID:10002504-1786469400-1786480200@roxyunk.org
SUMMARY:Tuesday Night Music at The Manayunk Bridge Garden
DESCRIPTION:
URL:https://roxyunk.org/event/tuesday-night-music-at-the-manayunk-bridge-garden/2026-08-11/
LOCATION:Manayunk Bridge Garden\, 100 Dupont St\, Philadelphia\, 19127
CATEGORIES:All Ages,community,Concert,For kids,Free,Music related,Outdoor Activity,RoxYunk
END:VEVENT
BEGIN:VEVENT
DTSTART;TZID=America/New_York:20260815T100000
DTEND;TZID=America/New_York:20260815T140000
DTSTAMP:20260423T153533
CREATED:20260423T162823Z
LAST-MODIFIED:20260423T163107Z
UID:10002831-1786788000-1786802400@roxyunk.org
SUMMARY:Pretzel Park Farmer's Market
DESCRIPTION:Every Saturday!
URL:https://roxyunk.org/event/pretzel-park-farmers-market-4/2026-08-15/
LOCATION:Pretzel Park\, 4300 Silverwood St.\, Philadelphia\, PA\, 1912y7\, United States
CATEGORIES:All Ages,community,Farmers Market,Free,Outdoor Activity
ORGANIZER;CN="Friends of Pretzel Park":MAILTO:eliot.duhan@gmail.com
END:VEVENT
BEGIN:VEVENT
DTSTART;TZID=America/New_York:20260816T150000
DTEND;TZID=America/New_York:20260816T170000
DTSTAMP:20260423T153533
CREATED:20260109T195028Z
LAST-MODIFIED:20260309T161732Z
UID:10002521-1786892400-1786899600@roxyunk.org
SUMMARY:RoxYunk Bluegrass Old Time Folk Jam
DESCRIPTION:Come to play or learn or watch. \nFree! \nAll ages! \nThis is inclusive – no gatekeeping on what is or is not bluegrass or old time\, just come and play some music. It’s friendly and helpful. If you’re not sure if you can do it\, you can and we will help.
URL:https://roxyunk.org/event/roxyunk-bluegrass-old-time-folk-jam/2026-08-16/
LOCATION:The Foodery on Ridge\, 6148 Ridge Ave\, Philadelphia\, PA\, 19128\, United States
CATEGORIES:All Ages,Free,Music related,RoxYunk
ATTACH;FMTTYPE=image/jpeg:https://roxyunk.org/wp-content/uploads/2026/01/RYjamv2.jpg
END:VEVENT
BEGIN:VEVENT
DTSTART;TZID=America/New_York:20260818T173000
DTEND;TZID=America/New_York:20260818T203000
DTSTAMP:20260423T153533
CREATED:20260215T161238Z
LAST-MODIFIED:20260215T161238Z
UID:10002505-1787074200-1787085000@roxyunk.org
SUMMARY:Tuesday Night Music at The Manayunk Bridge Garden
DESCRIPTION:
URL:https://roxyunk.org/event/tuesday-night-music-at-the-manayunk-bridge-garden/2026-08-18/
LOCATION:Manayunk Bridge Garden\, 100 Dupont St\, Philadelphia\, 19127
CATEGORIES:All Ages,community,Concert,For kids,Free,Music related,Outdoor Activity,RoxYunk
END:VEVENT
BEGIN:VEVENT
DTSTART;TZID=America/New_York:20260822T100000
DTEND;TZID=America/New_York:20260822T140000
DTSTAMP:20260423T153533
CREATED:20260423T162823Z
LAST-MODIFIED:20260423T163107Z
UID:10002832-1787392800-1787407200@roxyunk.org
SUMMARY:Pretzel Park Farmer's Market
DESCRIPTION:Every Saturday!
URL:https://roxyunk.org/event/pretzel-park-farmers-market-4/2026-08-22/
LOCATION:Pretzel Park\, 4300 Silverwood St.\, Philadelphia\, PA\, 1912y7\, United States
CATEGORIES:All Ages,community,Farmers Market,Free,Outdoor Activity
ORGANIZER;CN="Friends of Pretzel Park":MAILTO:eliot.duhan@gmail.com
END:VEVENT
BEGIN:VEVENT
DTSTART;TZID=America/New_York:20260825T173000
DTEND;TZID=America/New_York:20260825T203000
DTSTAMP:20260423T153533
CREATED:20260215T161238Z
LAST-MODIFIED:20260215T161238Z
UID:10002506-1787679000-1787689800@roxyunk.org
SUMMARY:Tuesday Night Music at The Manayunk Bridge Garden
DESCRIPTION:
URL:https://roxyunk.org/event/tuesday-night-music-at-the-manayunk-bridge-garden/2026-08-25/
LOCATION:Manayunk Bridge Garden\, 100 Dupont St\, Philadelphia\, 19127
CATEGORIES:All Ages,community,Concert,For kids,Free,Music related,Outdoor Activity,RoxYunk
END:VEVENT
BEGIN:VEVENT
DTSTART;TZID=America/New_York:20260829T100000
DTEND;TZID=America/New_York:20260829T140000
DTSTAMP:20260423T153533
CREATED:20260423T162823Z
LAST-MODIFIED:20260423T163107Z
UID:10002833-1787997600-1788012000@roxyunk.org
SUMMARY:Pretzel Park Farmer's Market
DESCRIPTION:Every Saturday!
URL:https://roxyunk.org/event/pretzel-park-farmers-market-4/2026-08-29/
LOCATION:Pretzel Park\, 4300 Silverwood St.\, Philadelphia\, PA\, 1912y7\, United States
CATEGORIES:All Ages,community,Farmers Market,Free,Outdoor Activity
ORGANIZER;CN="Friends of Pretzel Park":MAILTO:eliot.duhan@gmail.com
END:VEVENT
BEGIN:VEVENT
DTSTART;VALUE=DATE:20260830
DTEND;VALUE=DATE:20260831
DTSTAMP:20260423T153533
CREATED:20260415T163514Z
LAST-MODIFIED:20260415T163514Z
UID:10002789-1788048000-1788134399@roxyunk.org
SUMMARY:The Philadelphia Cycling Classic
DESCRIPTION:The Classic Is Back.\n\n\nFrom its inception in 1985\, the Philadelphia Cycling Classic has gone by many names\, but its spirit has always been the same. This professional cycling race attracts world-class athletes to compete on a picturesque circuit through our historic city. It brings hundreds of thousands of spectators together\, whether from other countries or just down the block. The Philadelphia Cycling Classic\, presented by AmeriGas\, is a historic race that’s here to stay.
URL:https://roxyunk.org/event/the-philadelphia-cycling-classic/
LOCATION:philadelphia
CATEGORIES:All Ages,Bike Related,Center City,community,East Falla,For kids,Free,Outdoor Activity,RoxYunk,Sports rekated
ATTACH;FMTTYPE=image/jpeg:https://roxyunk.org/wp-content/uploads/2026/04/bike-race.jpg
END:VEVENT
BEGIN:VEVENT
DTSTART;TZID=America/New_York:20260901T173000
DTEND;TZID=America/New_York:20260901T203000
DTSTAMP:20260423T153533
CREATED:20260215T161238Z
LAST-MODIFIED:20260215T161238Z
UID:10002507-1788283800-1788294600@roxyunk.org
SUMMARY:Tuesday Night Music at The Manayunk Bridge Garden
DESCRIPTION:
URL:https://roxyunk.org/event/tuesday-night-music-at-the-manayunk-bridge-garden/2026-09-01/
LOCATION:Manayunk Bridge Garden\, 100 Dupont St\, Philadelphia\, 19127
CATEGORIES:All Ages,community,Concert,For kids,Free,Music related,Outdoor Activity,RoxYunk
END:VEVENT
BEGIN:VEVENT
DTSTART;TZID=America/New_York:20260905T100000
DTEND;TZID=America/New_York:20260905T140000
DTSTAMP:20260423T153533
CREATED:20260423T162823Z
LAST-MODIFIED:20260423T163107Z
UID:10002834-1788602400-1788616800@roxyunk.org
SUMMARY:Pretzel Park Farmer's Market
DESCRIPTION:Every Saturday!
URL:https://roxyunk.org/event/pretzel-park-farmers-market-4/2026-09-05/
LOCATION:Pretzel Park\, 4300 Silverwood St.\, Philadelphia\, PA\, 1912y7\, United States
CATEGORIES:All Ages,community,Farmers Market,Free,Outdoor Activity
ORGANIZER;CN="Friends of Pretzel Park":MAILTO:eliot.duhan@gmail.com
END:VEVENT
BEGIN:VEVENT
DTSTART;TZID=America/New_York:20260908T173000
DTEND;TZID=America/New_York:20260908T203000
DTSTAMP:20260423T153533
CREATED:20260215T161238Z
LAST-MODIFIED:20260215T161238Z
UID:10002508-1788888600-1788899400@roxyunk.org
SUMMARY:Tuesday Night Music at The Manayunk Bridge Garden
DESCRIPTION:
URL:https://roxyunk.org/event/tuesday-night-music-at-the-manayunk-bridge-garden/2026-09-08/
LOCATION:Manayunk Bridge Garden\, 100 Dupont St\, Philadelphia\, 19127
CATEGORIES:All Ages,community,Concert,For kids,Free,Music related,Outdoor Activity,RoxYunk
END:VEVENT
BEGIN:VEVENT
DTSTART;TZID=America/New_York:20260912T100000
DTEND;TZID=America/New_York:20260912T140000
DTSTAMP:20260423T153533
CREATED:20260423T162823Z
LAST-MODIFIED:20260423T163107Z
UID:10002835-1789207200-1789221600@roxyunk.org
SUMMARY:Pretzel Park Farmer's Market
DESCRIPTION:Every Saturday!
URL:https://roxyunk.org/event/pretzel-park-farmers-market-4/2026-09-12/
LOCATION:Pretzel Park\, 4300 Silverwood St.\, Philadelphia\, PA\, 1912y7\, United States
CATEGORIES:All Ages,community,Farmers Market,Free,Outdoor Activity
ORGANIZER;CN="Friends of Pretzel Park":MAILTO:eliot.duhan@gmail.com
END:VEVENT
BEGIN:VEVENT
DTSTART;TZID=America/New_York:20260915T173000
DTEND;TZID=America/New_York:20260915T203000
DTSTAMP:20260423T153533
CREATED:20260215T161238Z
LAST-MODIFIED:20260215T161238Z
UID:10002509-1789493400-1789504200@roxyunk.org
SUMMARY:Tuesday Night Music at The Manayunk Bridge Garden
DESCRIPTION:
URL:https://roxyunk.org/event/tuesday-night-music-at-the-manayunk-bridge-garden/2026-09-15/
LOCATION:Manayunk Bridge Garden\, 100 Dupont St\, Philadelphia\, 19127
CATEGORIES:All Ages,community,Concert,For kids,Free,Music related,Outdoor Activity,RoxYunk
END:VEVENT
BEGIN:VEVENT
DTSTART;TZID=America/New_York:20260919T100000
DTEND;TZID=America/New_York:20260919T140000
DTSTAMP:20260423T153533
CREATED:20260423T162823Z
LAST-MODIFIED:20260423T163107Z
UID:10002836-1789812000-1789826400@roxyunk.org
SUMMARY:Pretzel Park Farmer's Market
DESCRIPTION:Every Saturday!
URL:https://roxyunk.org/event/pretzel-park-farmers-market-4/2026-09-19/
LOCATION:Pretzel Park\, 4300 Silverwood St.\, Philadelphia\, PA\, 1912y7\, United States
CATEGORIES:All Ages,community,Farmers Market,Free,Outdoor Activity
ORGANIZER;CN="Friends of Pretzel Park":MAILTO:eliot.duhan@gmail.com
END:VEVENT
BEGIN:VEVENT
DTSTART;TZID=America/New_York:20260920T150000
DTEND;TZID=America/New_York:20260920T170000
DTSTAMP:20260423T153533
CREATED:20260109T195028Z
LAST-MODIFIED:20260309T161732Z
UID:10002522-1789916400-1789923600@roxyunk.org
SUMMARY:RoxYunk Bluegrass Old Time Folk Jam
DESCRIPTION:Come to play or learn or watch. \nFree! \nAll ages! \nThis is inclusive – no gatekeeping on what is or is not bluegrass or old time\, just come and play some music. It’s friendly and helpful. If you’re not sure if you can do it\, you can and we will help.
URL:https://roxyunk.org/event/roxyunk-bluegrass-old-time-folk-jam/2026-09-20/
LOCATION:The Foodery on Ridge\, 6148 Ridge Ave\, Philadelphia\, PA\, 19128\, United States
CATEGORIES:All Ages,Free,Music related,RoxYunk
ATTACH;FMTTYPE=image/jpeg:https://roxyunk.org/wp-content/uploads/2026/01/RYjamv2.jpg
END:VEVENT
END:VCALENDAR