BEGIN:VCALENDAR
VERSION:2.0
PRODID:-//RoxYunk.Org - ECPv6.15.20//NONSGML v1.0//EN
CALSCALE:GREGORIAN
METHOD:PUBLISH
X-ORIGINAL-URL:https://roxyunk.org
X-WR-CALDESC:Events for RoxYunk.Org
REFRESH-INTERVAL;VALUE=DURATION:PT1H
X-Robots-Tag:noindex
X-PUBLISHED-TTL:PT1H
BEGIN:VTIMEZONE
TZID:America/New_York
BEGIN:DAYLIGHT
TZOFFSETFROM:-0500
TZOFFSETTO:-0400
TZNAME:EDT
DTSTART:20250309T070000
END:DAYLIGHT
BEGIN:STANDARD
TZOFFSETFROM:-0400
TZOFFSETTO:-0500
TZNAME:EST
DTSTART:20251102T060000
END:STANDARD
BEGIN:DAYLIGHT
TZOFFSETFROM:-0500
TZOFFSETTO:-0400
TZNAME:EDT
DTSTART:20260308T070000
END:DAYLIGHT
BEGIN:STANDARD
TZOFFSETFROM:-0400
TZOFFSETTO:-0500
TZNAME:EST
DTSTART:20261101T060000
END:STANDARD
BEGIN:DAYLIGHT
TZOFFSETFROM:-0500
TZOFFSETTO:-0400
TZNAME:EDT
DTSTART:20270314T070000
END:DAYLIGHT
BEGIN:STANDARD
TZOFFSETFROM:-0400
TZOFFSETTO:-0500
TZNAME:EST
DTSTART:20271107T060000
END:STANDARD
END:VTIMEZONE
BEGIN:VEVENT
DTSTART;TZID=America/New_York:20260505T173000
DTEND;TZID=America/New_York:20260505T203000
DTSTAMP:20260423T202115
CREATED:20260215T161238Z
LAST-MODIFIED:20260215T161238Z
UID:10002490-1778002200-1778013000@roxyunk.org
SUMMARY:Tuesday Night Music at The Manayunk Bridge Garden
DESCRIPTION:
URL:https://roxyunk.org/event/tuesday-night-music-at-the-manayunk-bridge-garden/2026-05-05/
LOCATION:Manayunk Bridge Garden\, 100 Dupont St\, Philadelphia\, 19127
CATEGORIES:All Ages,community,Concert,For kids,Free,Music related,Outdoor Activity,RoxYunk
END:VEVENT
BEGIN:VEVENT
DTSTART;TZID=America/New_York:20260509T100000
DTEND;TZID=America/New_York:20260509T140000
DTSTAMP:20260423T202115
CREATED:20260423T162823Z
LAST-MODIFIED:20260423T163107Z
UID:10002817-1778320800-1778335200@roxyunk.org
SUMMARY:Pretzel Park Farmer's Market
DESCRIPTION:Every Saturday!
URL:https://roxyunk.org/event/pretzel-park-farmers-market-4/2026-05-09/
LOCATION:Pretzel Park\, 4300 Silverwood St.\, Philadelphia\, PA\, 1912y7\, United States
CATEGORIES:All Ages,community,Farmers Market,Free,Outdoor Activity
ORGANIZER;CN="Friends of Pretzel Park":MAILTO:eliot.duhan@gmail.com
END:VEVENT
BEGIN:VEVENT
DTSTART;TZID=America/New_York:20260509T110000
DTEND;TZID=America/New_York:20260509T160000
DTSTAMP:20260423T202115
CREATED:20260420T182950Z
LAST-MODIFIED:20260420T184709Z
UID:10002815-1778324400-1778342400@roxyunk.org
SUMMARY:Spring Fest & Rockin’ the Ridge Car Show!
DESCRIPTION:Roxborough’s Marquee Celebration of Philly’s 250th Anniversary! \nRoxborough Spring Fest returns for a full day of community celebration\, bringing together local businesses\, live entertainment\, classic cars\, food\, and family-friendly fun along Ridge Avenue – from Green Lane to Fountain Street. \nAs part of the citywide Philadelphia 250 celebration\, this year’s event will also feature Roxborough as a marquee destination for a special Liberty Bell installation in Pocket Park—adding a historic touch to one of the neighborhood’s most anticipated annual traditions. \n🚗 Rockin’ the Ridge Car Show \nA crowd favorite\, the Rockin’ the Ridge Car Show will showcase a wide variety of classic\, antique\, and custom vehicles displayed on Ridge Avenue. \nFan-favorite voting + judged awards\nA must-see destination for car enthusiasts and casual visitors alike \n🎶 Live Music & Entertainment \nEnjoy live performances throughout the day from local musicians and performers\, creating an upbeat soundtrack for the festival. \nRotating live music lineup\nStreet performers and pop-up entertainment\nFamily-friendly atmosphere \n🛍️ Local Vendors & Makers Market \nShop a curated mix of local vendors\, artisans\, and small businesses offering unique goods and handmade products. \nHandmade goods\, candles\, art\, and gifts\nLocal favorites like honey\, produce\, and specialty items\nShop to support Roxborough’s small business community \n🍔 Food & Drink \nCome hungry! Enjoy a wide selection of food and drink options from local restaurants and food vendors. \nFood trucks + neighborhood eateries\nSweet treats and festival favorites\nOutdoor dining throughout the event footprint \nCommunity Wellness Village – Presented by IBX \nA new addition to Spring Fest\, the Community Wellness Village will serve as a central hub for health\, wellness\, and community resources. \nHealth screenings and wellness information\nLocal providers and organizations\nInteractive activities and demonstrations \n🎨 Family Fun & Activities \nSpring Fest is designed for all ages\, with plenty of activities for kids and families to enjoy. \nFace painting and crafts\nInteractive games and activities\nA welcoming\, family-friendly environment
URL:https://roxyunk.org/event/spring-fest-rockin-the-ridge-car-show/
LOCATION:Roxborough Pocket Park\, 6170 Ridge Ave\, Philadelphia\, 19128\, United States
CATEGORIES:All Ages,block party,community,Concert,Craft Related,Festival,For kids,Free,Live Music,Local Business Event,Outdoor Activity,RoxYunk
ATTACH;FMTTYPE=image/jpeg:https://roxyunk.org/wp-content/uploads/2026/04/spring-fest-2026.jpeg
END:VEVENT
BEGIN:VEVENT
DTSTART;TZID=America/New_York:20260512T173000
DTEND;TZID=America/New_York:20260512T203000
DTSTAMP:20260423T202115
CREATED:20260215T161238Z
LAST-MODIFIED:20260215T161238Z
UID:10002491-1778607000-1778617800@roxyunk.org
SUMMARY:Tuesday Night Music at The Manayunk Bridge Garden
DESCRIPTION:
URL:https://roxyunk.org/event/tuesday-night-music-at-the-manayunk-bridge-garden/2026-05-12/
LOCATION:Manayunk Bridge Garden\, 100 Dupont St\, Philadelphia\, 19127
CATEGORIES:All Ages,community,Concert,For kids,Free,Music related,Outdoor Activity,RoxYunk
END:VEVENT
BEGIN:VEVENT
DTSTART;TZID=America/New_York:20260516T100000
DTEND;TZID=America/New_York:20260516T140000
DTSTAMP:20260423T202115
CREATED:20260423T162823Z
LAST-MODIFIED:20260423T163107Z
UID:10002818-1778925600-1778940000@roxyunk.org
SUMMARY:Pretzel Park Farmer's Market
DESCRIPTION:Every Saturday!
URL:https://roxyunk.org/event/pretzel-park-farmers-market-4/2026-05-16/
LOCATION:Pretzel Park\, 4300 Silverwood St.\, Philadelphia\, PA\, 1912y7\, United States
CATEGORIES:All Ages,community,Farmers Market,Free,Outdoor Activity
ORGANIZER;CN="Friends of Pretzel Park":MAILTO:eliot.duhan@gmail.com
END:VEVENT
BEGIN:VEVENT
DTSTART;TZID=America/New_York:20260517T150000
DTEND;TZID=America/New_York:20260517T170000
DTSTAMP:20260423T202115
CREATED:20260109T195028Z
LAST-MODIFIED:20260309T161732Z
UID:10002518-1779030000-1779037200@roxyunk.org
SUMMARY:RoxYunk Bluegrass Old Time Folk Jam
DESCRIPTION:Come to play or learn or watch. \nFree! \nAll ages! \nThis is inclusive – no gatekeeping on what is or is not bluegrass or old time\, just come and play some music. It’s friendly and helpful. If you’re not sure if you can do it\, you can and we will help.
URL:https://roxyunk.org/event/roxyunk-bluegrass-old-time-folk-jam/2026-05-17/
LOCATION:The Foodery on Ridge\, 6148 Ridge Ave\, Philadelphia\, PA\, 19128\, United States
CATEGORIES:All Ages,Free,Music related,RoxYunk
ATTACH;FMTTYPE=image/jpeg:https://roxyunk.org/wp-content/uploads/2026/01/RYjamv2.jpg
END:VEVENT
BEGIN:VEVENT
DTSTART;TZID=America/New_York:20260519T173000
DTEND;TZID=America/New_York:20260519T203000
DTSTAMP:20260423T202115
CREATED:20260215T161238Z
LAST-MODIFIED:20260215T161238Z
UID:10002492-1779211800-1779222600@roxyunk.org
SUMMARY:Tuesday Night Music at The Manayunk Bridge Garden
DESCRIPTION:
URL:https://roxyunk.org/event/tuesday-night-music-at-the-manayunk-bridge-garden/2026-05-19/
LOCATION:Manayunk Bridge Garden\, 100 Dupont St\, Philadelphia\, 19127
CATEGORIES:All Ages,community,Concert,For kids,Free,Music related,Outdoor Activity,RoxYunk
END:VEVENT
BEGIN:VEVENT
DTSTART;TZID=America/New_York:20260523T100000
DTEND;TZID=America/New_York:20260523T140000
DTSTAMP:20260423T202115
CREATED:20260423T162823Z
LAST-MODIFIED:20260423T163107Z
UID:10002819-1779530400-1779544800@roxyunk.org
SUMMARY:Pretzel Park Farmer's Market
DESCRIPTION:Every Saturday!
URL:https://roxyunk.org/event/pretzel-park-farmers-market-4/2026-05-23/
LOCATION:Pretzel Park\, 4300 Silverwood St.\, Philadelphia\, PA\, 1912y7\, United States
CATEGORIES:All Ages,community,Farmers Market,Free,Outdoor Activity
ORGANIZER;CN="Friends of Pretzel Park":MAILTO:eliot.duhan@gmail.com
END:VEVENT
BEGIN:VEVENT
DTSTART;TZID=America/New_York:20260526T173000
DTEND;TZID=America/New_York:20260526T203000
DTSTAMP:20260423T202115
CREATED:20260215T161238Z
LAST-MODIFIED:20260215T161238Z
UID:10002493-1779816600-1779827400@roxyunk.org
SUMMARY:Tuesday Night Music at The Manayunk Bridge Garden
DESCRIPTION:
URL:https://roxyunk.org/event/tuesday-night-music-at-the-manayunk-bridge-garden/2026-05-26/
LOCATION:Manayunk Bridge Garden\, 100 Dupont St\, Philadelphia\, 19127
CATEGORIES:All Ages,community,Concert,For kids,Free,Music related,Outdoor Activity,RoxYunk
END:VEVENT
BEGIN:VEVENT
DTSTART;TZID=America/New_York:20260530T100000
DTEND;TZID=America/New_York:20260530T140000
DTSTAMP:20260423T202115
CREATED:20260423T162823Z
LAST-MODIFIED:20260423T163107Z
UID:10002820-1780135200-1780149600@roxyunk.org
SUMMARY:Pretzel Park Farmer's Market
DESCRIPTION:Every Saturday!
URL:https://roxyunk.org/event/pretzel-park-farmers-market-4/2026-05-30/
LOCATION:Pretzel Park\, 4300 Silverwood St.\, Philadelphia\, PA\, 1912y7\, United States
CATEGORIES:All Ages,community,Farmers Market,Free,Outdoor Activity
ORGANIZER;CN="Friends of Pretzel Park":MAILTO:eliot.duhan@gmail.com
END:VEVENT
BEGIN:VEVENT
DTSTART;TZID=America/New_York:20260602T173000
DTEND;TZID=America/New_York:20260602T203000
DTSTAMP:20260423T202115
CREATED:20260215T161238Z
LAST-MODIFIED:20260215T161238Z
UID:10002494-1780421400-1780432200@roxyunk.org
SUMMARY:Tuesday Night Music at The Manayunk Bridge Garden
DESCRIPTION:
URL:https://roxyunk.org/event/tuesday-night-music-at-the-manayunk-bridge-garden/2026-06-02/
LOCATION:Manayunk Bridge Garden\, 100 Dupont St\, Philadelphia\, 19127
CATEGORIES:All Ages,community,Concert,For kids,Free,Music related,Outdoor Activity,RoxYunk
END:VEVENT
BEGIN:VEVENT
DTSTART;TZID=America/New_York:20260606T100000
DTEND;TZID=America/New_York:20260606T140000
DTSTAMP:20260423T202115
CREATED:20260423T162823Z
LAST-MODIFIED:20260423T163107Z
UID:10002821-1780740000-1780754400@roxyunk.org
SUMMARY:Pretzel Park Farmer's Market
DESCRIPTION:Every Saturday!
URL:https://roxyunk.org/event/pretzel-park-farmers-market-4/2026-06-06/
LOCATION:Pretzel Park\, 4300 Silverwood St.\, Philadelphia\, PA\, 1912y7\, United States
CATEGORIES:All Ages,community,Farmers Market,Free,Outdoor Activity
ORGANIZER;CN="Friends of Pretzel Park":MAILTO:eliot.duhan@gmail.com
END:VEVENT
BEGIN:VEVENT
DTSTART;TZID=America/New_York:20260609T173000
DTEND;TZID=America/New_York:20260609T203000
DTSTAMP:20260423T202115
CREATED:20260215T161238Z
LAST-MODIFIED:20260215T161238Z
UID:10002495-1781026200-1781037000@roxyunk.org
SUMMARY:Tuesday Night Music at The Manayunk Bridge Garden
DESCRIPTION:
URL:https://roxyunk.org/event/tuesday-night-music-at-the-manayunk-bridge-garden/2026-06-09/
LOCATION:Manayunk Bridge Garden\, 100 Dupont St\, Philadelphia\, 19127
CATEGORIES:All Ages,community,Concert,For kids,Free,Music related,Outdoor Activity,RoxYunk
END:VEVENT
BEGIN:VEVENT
DTSTART;TZID=America/New_York:20260613T100000
DTEND;TZID=America/New_York:20260613T140000
DTSTAMP:20260423T202115
CREATED:20260423T162823Z
LAST-MODIFIED:20260423T163107Z
UID:10002822-1781344800-1781359200@roxyunk.org
SUMMARY:Pretzel Park Farmer's Market
DESCRIPTION:Every Saturday!
URL:https://roxyunk.org/event/pretzel-park-farmers-market-4/2026-06-13/
LOCATION:Pretzel Park\, 4300 Silverwood St.\, Philadelphia\, PA\, 1912y7\, United States
CATEGORIES:All Ages,community,Farmers Market,Free,Outdoor Activity
ORGANIZER;CN="Friends of Pretzel Park":MAILTO:eliot.duhan@gmail.com
END:VEVENT
BEGIN:VEVENT
DTSTART;TZID=America/New_York:20260616T173000
DTEND;TZID=America/New_York:20260616T203000
DTSTAMP:20260423T202115
CREATED:20260215T161238Z
LAST-MODIFIED:20260215T161238Z
UID:10002496-1781631000-1781641800@roxyunk.org
SUMMARY:Tuesday Night Music at The Manayunk Bridge Garden
DESCRIPTION:
URL:https://roxyunk.org/event/tuesday-night-music-at-the-manayunk-bridge-garden/2026-06-16/
LOCATION:Manayunk Bridge Garden\, 100 Dupont St\, Philadelphia\, 19127
CATEGORIES:All Ages,community,Concert,For kids,Free,Music related,Outdoor Activity,RoxYunk
END:VEVENT
BEGIN:VEVENT
DTSTART;TZID=America/New_York:20260620T100000
DTEND;TZID=America/New_York:20260620T140000
DTSTAMP:20260423T202115
CREATED:20260423T162823Z
LAST-MODIFIED:20260423T163107Z
UID:10002823-1781949600-1781964000@roxyunk.org
SUMMARY:Pretzel Park Farmer's Market
DESCRIPTION:Every Saturday!
URL:https://roxyunk.org/event/pretzel-park-farmers-market-4/2026-06-20/
LOCATION:Pretzel Park\, 4300 Silverwood St.\, Philadelphia\, PA\, 1912y7\, United States
CATEGORIES:All Ages,community,Farmers Market,Free,Outdoor Activity
ORGANIZER;CN="Friends of Pretzel Park":MAILTO:eliot.duhan@gmail.com
END:VEVENT
BEGIN:VEVENT
DTSTART;TZID=America/New_York:20260621T150000
DTEND;TZID=America/New_York:20260621T170000
DTSTAMP:20260423T202115
CREATED:20260109T195028Z
LAST-MODIFIED:20260309T161732Z
UID:10002519-1782054000-1782061200@roxyunk.org
SUMMARY:RoxYunk Bluegrass Old Time Folk Jam
DESCRIPTION:Come to play or learn or watch. \nFree! \nAll ages! \nThis is inclusive – no gatekeeping on what is or is not bluegrass or old time\, just come and play some music. It’s friendly and helpful. If you’re not sure if you can do it\, you can and we will help.
URL:https://roxyunk.org/event/roxyunk-bluegrass-old-time-folk-jam/2026-06-21/
LOCATION:The Foodery on Ridge\, 6148 Ridge Ave\, Philadelphia\, PA\, 19128\, United States
CATEGORIES:All Ages,Free,Music related,RoxYunk
ATTACH;FMTTYPE=image/jpeg:https://roxyunk.org/wp-content/uploads/2026/01/RYjamv2.jpg
END:VEVENT
BEGIN:VEVENT
DTSTART;TZID=America/New_York:20260623T173000
DTEND;TZID=America/New_York:20260623T203000
DTSTAMP:20260423T202115
CREATED:20260215T161238Z
LAST-MODIFIED:20260215T161238Z
UID:10002497-1782235800-1782246600@roxyunk.org
SUMMARY:Tuesday Night Music at The Manayunk Bridge Garden
DESCRIPTION:
URL:https://roxyunk.org/event/tuesday-night-music-at-the-manayunk-bridge-garden/2026-06-23/
LOCATION:Manayunk Bridge Garden\, 100 Dupont St\, Philadelphia\, 19127
CATEGORIES:All Ages,community,Concert,For kids,Free,Music related,Outdoor Activity,RoxYunk
END:VEVENT
BEGIN:VEVENT
DTSTART;TZID=America/New_York:20260627T100000
DTEND;TZID=America/New_York:20260627T140000
DTSTAMP:20260423T202115
CREATED:20260423T162823Z
LAST-MODIFIED:20260423T163107Z
UID:10002824-1782554400-1782568800@roxyunk.org
SUMMARY:Pretzel Park Farmer's Market
DESCRIPTION:Every Saturday!
URL:https://roxyunk.org/event/pretzel-park-farmers-market-4/2026-06-27/
LOCATION:Pretzel Park\, 4300 Silverwood St.\, Philadelphia\, PA\, 1912y7\, United States
CATEGORIES:All Ages,community,Farmers Market,Free,Outdoor Activity
ORGANIZER;CN="Friends of Pretzel Park":MAILTO:eliot.duhan@gmail.com
END:VEVENT
BEGIN:VEVENT
DTSTART;TZID=America/New_York:20260630T173000
DTEND;TZID=America/New_York:20260630T203000
DTSTAMP:20260423T202115
CREATED:20260215T161238Z
LAST-MODIFIED:20260215T161238Z
UID:10002498-1782840600-1782851400@roxyunk.org
SUMMARY:Tuesday Night Music at The Manayunk Bridge Garden
DESCRIPTION:
URL:https://roxyunk.org/event/tuesday-night-music-at-the-manayunk-bridge-garden/2026-06-30/
LOCATION:Manayunk Bridge Garden\, 100 Dupont St\, Philadelphia\, 19127
CATEGORIES:All Ages,community,Concert,For kids,Free,Music related,Outdoor Activity,RoxYunk
END:VEVENT
BEGIN:VEVENT
DTSTART;TZID=America/New_York:20260704T100000
DTEND;TZID=America/New_York:20260704T140000
DTSTAMP:20260423T202115
CREATED:20260423T162823Z
LAST-MODIFIED:20260423T163107Z
UID:10002825-1783159200-1783173600@roxyunk.org
SUMMARY:Pretzel Park Farmer's Market
DESCRIPTION:Every Saturday!
URL:https://roxyunk.org/event/pretzel-park-farmers-market-4/2026-07-04/
LOCATION:Pretzel Park\, 4300 Silverwood St.\, Philadelphia\, PA\, 1912y7\, United States
CATEGORIES:All Ages,community,Farmers Market,Free,Outdoor Activity
ORGANIZER;CN="Friends of Pretzel Park":MAILTO:eliot.duhan@gmail.com
END:VEVENT
BEGIN:VEVENT
DTSTART;TZID=America/New_York:20260707T173000
DTEND;TZID=America/New_York:20260707T203000
DTSTAMP:20260423T202115
CREATED:20260215T161238Z
LAST-MODIFIED:20260215T161238Z
UID:10002499-1783445400-1783456200@roxyunk.org
SUMMARY:Tuesday Night Music at The Manayunk Bridge Garden
DESCRIPTION:
URL:https://roxyunk.org/event/tuesday-night-music-at-the-manayunk-bridge-garden/2026-07-07/
LOCATION:Manayunk Bridge Garden\, 100 Dupont St\, Philadelphia\, 19127
CATEGORIES:All Ages,community,Concert,For kids,Free,Music related,Outdoor Activity,RoxYunk
END:VEVENT
BEGIN:VEVENT
DTSTART;TZID=America/New_York:20260711T100000
DTEND;TZID=America/New_York:20260711T140000
DTSTAMP:20260423T202115
CREATED:20260423T162823Z
LAST-MODIFIED:20260423T163107Z
UID:10002826-1783764000-1783778400@roxyunk.org
SUMMARY:Pretzel Park Farmer's Market
DESCRIPTION:Every Saturday!
URL:https://roxyunk.org/event/pretzel-park-farmers-market-4/2026-07-11/
LOCATION:Pretzel Park\, 4300 Silverwood St.\, Philadelphia\, PA\, 1912y7\, United States
CATEGORIES:All Ages,community,Farmers Market,Free,Outdoor Activity
ORGANIZER;CN="Friends of Pretzel Park":MAILTO:eliot.duhan@gmail.com
END:VEVENT
BEGIN:VEVENT
DTSTART;TZID=America/New_York:20260714T173000
DTEND;TZID=America/New_York:20260714T203000
DTSTAMP:20260423T202115
CREATED:20260215T161238Z
LAST-MODIFIED:20260215T161238Z
UID:10002500-1784050200-1784061000@roxyunk.org
SUMMARY:Tuesday Night Music at The Manayunk Bridge Garden
DESCRIPTION:
URL:https://roxyunk.org/event/tuesday-night-music-at-the-manayunk-bridge-garden/2026-07-14/
LOCATION:Manayunk Bridge Garden\, 100 Dupont St\, Philadelphia\, 19127
CATEGORIES:All Ages,community,Concert,For kids,Free,Music related,Outdoor Activity,RoxYunk
END:VEVENT
BEGIN:VEVENT
DTSTART;TZID=America/New_York:20260718T100000
DTEND;TZID=America/New_York:20260718T140000
DTSTAMP:20260423T202115
CREATED:20260423T162823Z
LAST-MODIFIED:20260423T163107Z
UID:10002827-1784368800-1784383200@roxyunk.org
SUMMARY:Pretzel Park Farmer's Market
DESCRIPTION:Every Saturday!
URL:https://roxyunk.org/event/pretzel-park-farmers-market-4/2026-07-18/
LOCATION:Pretzel Park\, 4300 Silverwood St.\, Philadelphia\, PA\, 1912y7\, United States
CATEGORIES:All Ages,community,Farmers Market,Free,Outdoor Activity
ORGANIZER;CN="Friends of Pretzel Park":MAILTO:eliot.duhan@gmail.com
END:VEVENT
BEGIN:VEVENT
DTSTART;TZID=America/New_York:20260719T150000
DTEND;TZID=America/New_York:20260719T170000
DTSTAMP:20260423T202115
CREATED:20260109T195028Z
LAST-MODIFIED:20260309T161732Z
UID:10002520-1784473200-1784480400@roxyunk.org
SUMMARY:RoxYunk Bluegrass Old Time Folk Jam
DESCRIPTION:Come to play or learn or watch. \nFree! \nAll ages! \nThis is inclusive – no gatekeeping on what is or is not bluegrass or old time\, just come and play some music. It’s friendly and helpful. If you’re not sure if you can do it\, you can and we will help.
URL:https://roxyunk.org/event/roxyunk-bluegrass-old-time-folk-jam/2026-07-19/
LOCATION:The Foodery on Ridge\, 6148 Ridge Ave\, Philadelphia\, PA\, 19128\, United States
CATEGORIES:All Ages,Free,Music related,RoxYunk
ATTACH;FMTTYPE=image/jpeg:https://roxyunk.org/wp-content/uploads/2026/01/RYjamv2.jpg
END:VEVENT
BEGIN:VEVENT
DTSTART;TZID=America/New_York:20260721T173000
DTEND;TZID=America/New_York:20260721T203000
DTSTAMP:20260423T202115
CREATED:20260215T161238Z
LAST-MODIFIED:20260215T161238Z
UID:10002501-1784655000-1784665800@roxyunk.org
SUMMARY:Tuesday Night Music at The Manayunk Bridge Garden
DESCRIPTION:
URL:https://roxyunk.org/event/tuesday-night-music-at-the-manayunk-bridge-garden/2026-07-21/
LOCATION:Manayunk Bridge Garden\, 100 Dupont St\, Philadelphia\, 19127
CATEGORIES:All Ages,community,Concert,For kids,Free,Music related,Outdoor Activity,RoxYunk
END:VEVENT
BEGIN:VEVENT
DTSTART;TZID=America/New_York:20260725T100000
DTEND;TZID=America/New_York:20260725T140000
DTSTAMP:20260423T202115
CREATED:20260423T162823Z
LAST-MODIFIED:20260423T163107Z
UID:10002828-1784973600-1784988000@roxyunk.org
SUMMARY:Pretzel Park Farmer's Market
DESCRIPTION:Every Saturday!
URL:https://roxyunk.org/event/pretzel-park-farmers-market-4/2026-07-25/
LOCATION:Pretzel Park\, 4300 Silverwood St.\, Philadelphia\, PA\, 1912y7\, United States
CATEGORIES:All Ages,community,Farmers Market,Free,Outdoor Activity
ORGANIZER;CN="Friends of Pretzel Park":MAILTO:eliot.duhan@gmail.com
END:VEVENT
BEGIN:VEVENT
DTSTART;TZID=America/New_York:20260728T173000
DTEND;TZID=America/New_York:20260728T203000
DTSTAMP:20260423T202115
CREATED:20260215T161238Z
LAST-MODIFIED:20260215T161238Z
UID:10002502-1785259800-1785270600@roxyunk.org
SUMMARY:Tuesday Night Music at The Manayunk Bridge Garden
DESCRIPTION:
URL:https://roxyunk.org/event/tuesday-night-music-at-the-manayunk-bridge-garden/2026-07-28/
LOCATION:Manayunk Bridge Garden\, 100 Dupont St\, Philadelphia\, 19127
CATEGORIES:All Ages,community,Concert,For kids,Free,Music related,Outdoor Activity,RoxYunk
END:VEVENT
BEGIN:VEVENT
DTSTART;TZID=America/New_York:20260801T100000
DTEND;TZID=America/New_York:20260801T140000
DTSTAMP:20260423T202115
CREATED:20260423T162823Z
LAST-MODIFIED:20260423T163107Z
UID:10002829-1785578400-1785592800@roxyunk.org
SUMMARY:Pretzel Park Farmer's Market
DESCRIPTION:Every Saturday!
URL:https://roxyunk.org/event/pretzel-park-farmers-market-4/2026-08-01/
LOCATION:Pretzel Park\, 4300 Silverwood St.\, Philadelphia\, PA\, 1912y7\, United States
CATEGORIES:All Ages,community,Farmers Market,Free,Outdoor Activity
ORGANIZER;CN="Friends of Pretzel Park":MAILTO:eliot.duhan@gmail.com
END:VEVENT
END:VCALENDAR