BEGIN:VCALENDAR
VERSION:2.0
PRODID:-//RoxYunk.Org - ECPv6.15.20//NONSGML v1.0//EN
CALSCALE:GREGORIAN
METHOD:PUBLISH
X-ORIGINAL-URL:https://roxyunk.org
X-WR-CALDESC:Events for RoxYunk.Org
REFRESH-INTERVAL;VALUE=DURATION:PT1H
X-Robots-Tag:noindex
X-PUBLISHED-TTL:PT1H
BEGIN:VTIMEZONE
TZID:America/New_York
BEGIN:DAYLIGHT
TZOFFSETFROM:-0500
TZOFFSETTO:-0400
TZNAME:EDT
DTSTART:20250309T070000
END:DAYLIGHT
BEGIN:STANDARD
TZOFFSETFROM:-0400
TZOFFSETTO:-0500
TZNAME:EST
DTSTART:20251102T060000
END:STANDARD
BEGIN:DAYLIGHT
TZOFFSETFROM:-0500
TZOFFSETTO:-0400
TZNAME:EDT
DTSTART:20260308T070000
END:DAYLIGHT
BEGIN:STANDARD
TZOFFSETFROM:-0400
TZOFFSETTO:-0500
TZNAME:EST
DTSTART:20261101T060000
END:STANDARD
BEGIN:DAYLIGHT
TZOFFSETFROM:-0500
TZOFFSETTO:-0400
TZNAME:EDT
DTSTART:20270314T070000
END:DAYLIGHT
BEGIN:STANDARD
TZOFFSETFROM:-0400
TZOFFSETTO:-0500
TZNAME:EST
DTSTART:20271107T060000
END:STANDARD
BEGIN:DAYLIGHT
TZOFFSETFROM:-0500
TZOFFSETTO:-0400
TZNAME:EDT
DTSTART:20280312T070000
END:DAYLIGHT
BEGIN:STANDARD
TZOFFSETFROM:-0400
TZOFFSETTO:-0500
TZNAME:EST
DTSTART:20281105T060000
END:STANDARD
END:VTIMEZONE
BEGIN:VEVENT
DTSTART;TZID=America/New_York:20261031T100000
DTEND;TZID=America/New_York:20261031T140000
DTSTAMP:20260425T071720
CREATED:20260423T162823Z
LAST-MODIFIED:20260423T163107Z
UID:10002842-1793440800-1793455200@roxyunk.org
SUMMARY:Pretzel Park Farmer's Market
DESCRIPTION:Every Saturday!
URL:https://roxyunk.org/event/pretzel-park-farmers-market-4/2026-10-31/
LOCATION:Pretzel Park\, 4300 Silverwood St.\, Philadelphia\, PA\, 1912y7\, United States
CATEGORIES:All Ages,community,Farmers Market,Free,Outdoor Activity
ORGANIZER;CN="Friends of Pretzel Park":MAILTO:eliot.duhan@gmail.com
END:VEVENT
BEGIN:VEVENT
DTSTART;TZID=America/New_York:20261107T100000
DTEND;TZID=America/New_York:20261107T140000
DTSTAMP:20260425T071720
CREATED:20260423T162823Z
LAST-MODIFIED:20260423T163107Z
UID:10002843-1794045600-1794060000@roxyunk.org
SUMMARY:Pretzel Park Farmer's Market
DESCRIPTION:Every Saturday!
URL:https://roxyunk.org/event/pretzel-park-farmers-market-4/2026-11-07/
LOCATION:Pretzel Park\, 4300 Silverwood St.\, Philadelphia\, PA\, 1912y7\, United States
CATEGORIES:All Ages,community,Farmers Market,Free,Outdoor Activity
ORGANIZER;CN="Friends of Pretzel Park":MAILTO:eliot.duhan@gmail.com
END:VEVENT
BEGIN:VEVENT
DTSTART;TZID=America/New_York:20261114T100000
DTEND;TZID=America/New_York:20261114T140000
DTSTAMP:20260425T071720
CREATED:20260423T162823Z
LAST-MODIFIED:20260423T163107Z
UID:10002844-1794650400-1794664800@roxyunk.org
SUMMARY:Pretzel Park Farmer's Market
DESCRIPTION:Every Saturday!
URL:https://roxyunk.org/event/pretzel-park-farmers-market-4/2026-11-14/
LOCATION:Pretzel Park\, 4300 Silverwood St.\, Philadelphia\, PA\, 1912y7\, United States
CATEGORIES:All Ages,community,Farmers Market,Free,Outdoor Activity
ORGANIZER;CN="Friends of Pretzel Park":MAILTO:eliot.duhan@gmail.com
END:VEVENT
BEGIN:VEVENT
DTSTART;TZID=America/New_York:20261115T150000
DTEND;TZID=America/New_York:20261115T170000
DTSTAMP:20260425T071720
CREATED:20260109T195028Z
LAST-MODIFIED:20260309T161732Z
UID:10002524-1794754800-1794762000@roxyunk.org
SUMMARY:RoxYunk Bluegrass Old Time Folk Jam
DESCRIPTION:Come to play or learn or watch. \nFree! \nAll ages! \nThis is inclusive – no gatekeeping on what is or is not bluegrass or old time\, just come and play some music. It’s friendly and helpful. If you’re not sure if you can do it\, you can and we will help.
URL:https://roxyunk.org/event/roxyunk-bluegrass-old-time-folk-jam/2026-11-15/
LOCATION:The Foodery on Ridge\, 6148 Ridge Ave\, Philadelphia\, PA\, 19128\, United States
CATEGORIES:All Ages,Free,Music related,RoxYunk
ATTACH;FMTTYPE=image/jpeg:https://roxyunk.org/wp-content/uploads/2026/01/RYjamv2.jpg
END:VEVENT
BEGIN:VEVENT
DTSTART;TZID=America/New_York:20261121T100000
DTEND;TZID=America/New_York:20261121T140000
DTSTAMP:20260425T071720
CREATED:20260423T162823Z
LAST-MODIFIED:20260423T163107Z
UID:10002845-1795255200-1795269600@roxyunk.org
SUMMARY:Pretzel Park Farmer's Market
DESCRIPTION:Every Saturday!
URL:https://roxyunk.org/event/pretzel-park-farmers-market-4/2026-11-21/
LOCATION:Pretzel Park\, 4300 Silverwood St.\, Philadelphia\, PA\, 1912y7\, United States
CATEGORIES:All Ages,community,Farmers Market,Free,Outdoor Activity
ORGANIZER;CN="Friends of Pretzel Park":MAILTO:eliot.duhan@gmail.com
END:VEVENT
BEGIN:VEVENT
DTSTART;TZID=America/New_York:20261220T150000
DTEND;TZID=America/New_York:20261220T170000
DTSTAMP:20260425T071720
CREATED:20260109T195028Z
LAST-MODIFIED:20260309T161732Z
UID:10002525-1797778800-1797786000@roxyunk.org
SUMMARY:RoxYunk Bluegrass Old Time Folk Jam
DESCRIPTION:Come to play or learn or watch. \nFree! \nAll ages! \nThis is inclusive – no gatekeeping on what is or is not bluegrass or old time\, just come and play some music. It’s friendly and helpful. If you’re not sure if you can do it\, you can and we will help.
URL:https://roxyunk.org/event/roxyunk-bluegrass-old-time-folk-jam/2026-12-20/
LOCATION:The Foodery on Ridge\, 6148 Ridge Ave\, Philadelphia\, PA\, 19128\, United States
CATEGORIES:All Ages,Free,Music related,RoxYunk
ATTACH;FMTTYPE=image/jpeg:https://roxyunk.org/wp-content/uploads/2026/01/RYjamv2.jpg
END:VEVENT
BEGIN:VEVENT
DTSTART;TZID=America/New_York:20270117T150000
DTEND;TZID=America/New_York:20270117T170000
DTSTAMP:20260425T071720
CREATED:20260109T195028Z
LAST-MODIFIED:20260309T161732Z
UID:10002526-1800198000-1800205200@roxyunk.org
SUMMARY:RoxYunk Bluegrass Old Time Folk Jam
DESCRIPTION:Come to play or learn or watch. \nFree! \nAll ages! \nThis is inclusive – no gatekeeping on what is or is not bluegrass or old time\, just come and play some music. It’s friendly and helpful. If you’re not sure if you can do it\, you can and we will help.
URL:https://roxyunk.org/event/roxyunk-bluegrass-old-time-folk-jam/2027-01-17/
LOCATION:The Foodery on Ridge\, 6148 Ridge Ave\, Philadelphia\, PA\, 19128\, United States
CATEGORIES:All Ages,Free,Music related,RoxYunk
ATTACH;FMTTYPE=image/jpeg:https://roxyunk.org/wp-content/uploads/2026/01/RYjamv2.jpg
END:VEVENT
END:VCALENDAR