BEGIN:VCALENDAR
VERSION:2.0
PRODID:-//RoxYunk.Org - ECPv6.15.20//NONSGML v1.0//EN
CALSCALE:GREGORIAN
METHOD:PUBLISH
X-WR-CALNAME:RoxYunk.Org
X-ORIGINAL-URL:https://roxyunk.org
X-WR-CALDESC:Events for RoxYunk.Org
REFRESH-INTERVAL;VALUE=DURATION:PT1H
X-Robots-Tag:noindex
X-PUBLISHED-TTL:PT1H
BEGIN:VTIMEZONE
TZID:America/New_York
BEGIN:DAYLIGHT
TZOFFSETFROM:-0500
TZOFFSETTO:-0400
TZNAME:EDT
DTSTART:20250309T070000
END:DAYLIGHT
BEGIN:STANDARD
TZOFFSETFROM:-0400
TZOFFSETTO:-0500
TZNAME:EST
DTSTART:20251102T060000
END:STANDARD
BEGIN:DAYLIGHT
TZOFFSETFROM:-0500
TZOFFSETTO:-0400
TZNAME:EDT
DTSTART:20260308T070000
END:DAYLIGHT
BEGIN:STANDARD
TZOFFSETFROM:-0400
TZOFFSETTO:-0500
TZNAME:EST
DTSTART:20261101T060000
END:STANDARD
BEGIN:DAYLIGHT
TZOFFSETFROM:-0500
TZOFFSETTO:-0400
TZNAME:EDT
DTSTART:20270314T070000
END:DAYLIGHT
BEGIN:STANDARD
TZOFFSETFROM:-0400
TZOFFSETTO:-0500
TZNAME:EST
DTSTART:20271107T060000
END:STANDARD
END:VTIMEZONE
BEGIN:VEVENT
DTSTART;TZID=America/New_York:20260422T180000
DTEND;TZID=America/New_York:20260422T200000
DTSTAMP:20260422T062335
CREATED:20260413T114631Z
LAST-MODIFIED:20260413T114631Z
UID:10002787-1776880800-1776888000@roxyunk.org
SUMMARY:TCB Talks - Learn What It Means To Vote Small
DESCRIPTION:Power to the People.
URL:https://roxyunk.org/event/tcb-talks-learn-what-it-means-to-vote-small/
LOCATION:Potheads\, 7260 Ridge Ave.\, Philadelphia\, PA\, 19128\, United States
CATEGORIES:All Ages,community,Free,RoxYunk
ATTACH;FMTTYPE=image/jpeg:https://roxyunk.org/wp-content/uploads/2026/04/TCB-4-22-2026.jpg
END:VEVENT
BEGIN:VEVENT
DTSTART;TZID=America/New_York:20260422T184500
DTEND;TZID=America/New_York:20260422T200000
DTSTAMP:20260422T062335
CREATED:20260420T180858Z
LAST-MODIFIED:20260420T190427Z
UID:10002813-1776883500-1776888000@roxyunk.org
SUMMARY:Roxborough Development Corporation's 2026 Annual Meeting
DESCRIPTION:You are cordially invited to join us for the Roxborough Development Corporation’s Annual Meeting — a special evening to reflect on our accomplishments and look ahead to what’s on the horizon for our community. \nWhat to Expect \nThis year’s meeting will feature a comprehensive recap of our FY 2024–25 activities\, highlighting the progress we’ve made together across Roxborough. We’ll also share an exciting look at what’s coming down the road — new initiatives\, opportunities\, and plans for the future of our corridor. \nWe’re thrilled to host this gathering in our new Art on the Ridge Gallery Space\, a vibrant addition to the community that embodies the creativity and vitality of Roxborough. \nCan’t Make It? \nNo worries! For those unable to attend in person\, we will be posting our Annual Report and the full meeting presentation online in early May on our new website. Stay connected — the resources will be available for the whole community. \nWe hope to see you there. Your participation and engagement are what make Roxborough thrive.
URL:https://roxyunk.org/event/rdc-2026-annual-meeting/
LOCATION:Art On The Ridge\, 6133 Ridge Ave.\, Philadelphia\, PA\, 19128\, United States
ATTACH;FMTTYPE=image/jpeg:https://roxyunk.org/wp-content/uploads/2026/04/pocket-park-scaled.jpeg
END:VEVENT
BEGIN:VEVENT
DTSTART;TZID=America/New_York:20260422T190000
DTEND;TZID=America/New_York:20260422T220000
DTSTAMP:20260422T062335
CREATED:20260119T223244Z
LAST-MODIFIED:20260119T223629Z
UID:10002243-1776884400-1776895200@roxyunk.org
SUMMARY:Open Mic at the Dawson
DESCRIPTION:Sign Up at 7\, music starts at 8
URL:https://roxyunk.org/event/open-mic-at-the-dawson/2026-04-22/
LOCATION:Dawson Street Pub\, Philadelphia\, PA\, 19127\, United States
CATEGORIES:Open Mic,RoxYunk
END:VEVENT
BEGIN:VEVENT
DTSTART;TZID=America/New_York:20260422T200000
DTEND;TZID=America/New_York:20260422T223000
DTSTAMP:20260422T062335
CREATED:20260108T150058Z
LAST-MODIFIED:20260114T212712Z
UID:10002108-1776888000-1776897000@roxyunk.org
SUMMARY:The Grape Open Jam
DESCRIPTION:Wednesday is a Grape signature – @thegrapeopenjam. A sorely missed staple and it’s cool to watch\, and you can participate! Let’s get weird. BYO instrument unless you can’t! Drummers BYO sticks! It’s Free!
URL:https://roxyunk.org/event/the-grape-open-jam/2026-04-22/
LOCATION:Grape Room\, 105 Grape Street
CATEGORIES:community,Free,Music related,Open Mic,RoxYunk
ATTACH;FMTTYPE=image/jpeg:https://roxyunk.org/wp-content/uploads/2026/01/31824_Grape_room_Manayunk.2e16d0ba.fill-735x490-3302690703.jpg
END:VEVENT
END:VCALENDAR